BEGIN:VCALENDAR
VERSION:2.0
PRODID:-//MHA - ECPv6.15.20//NONSGML v1.0//EN
CALSCALE:GREGORIAN
METHOD:PUBLISH
X-ORIGINAL-URL:https://www.mhainspire.org
X-WR-CALDESC:Events for MHA
REFRESH-INTERVAL;VALUE=DURATION:PT1H
X-Robots-Tag:noindex
X-PUBLISHED-TTL:PT1H
BEGIN:VTIMEZONE
TZID:America/New_York
BEGIN:DAYLIGHT
TZOFFSETFROM:-0500
TZOFFSETTO:-0400
TZNAME:EDT
DTSTART:20210314T070000
END:DAYLIGHT
BEGIN:STANDARD
TZOFFSETFROM:-0400
TZOFFSETTO:-0500
TZNAME:EST
DTSTART:20211107T060000
END:STANDARD
BEGIN:DAYLIGHT
TZOFFSETFROM:-0500
TZOFFSETTO:-0400
TZNAME:EDT
DTSTART:20220313T070000
END:DAYLIGHT
BEGIN:STANDARD
TZOFFSETFROM:-0400
TZOFFSETTO:-0500
TZNAME:EST
DTSTART:20221106T060000
END:STANDARD
BEGIN:DAYLIGHT
TZOFFSETFROM:-0500
TZOFFSETTO:-0400
TZNAME:EDT
DTSTART:20230312T070000
END:DAYLIGHT
BEGIN:STANDARD
TZOFFSETFROM:-0400
TZOFFSETTO:-0500
TZNAME:EST
DTSTART:20231105T060000
END:STANDARD
END:VTIMEZONE
BEGIN:VEVENT
DTSTART;TZID=America/New_York:20220801T110000
DTEND;TZID=America/New_York:20220801T120000
DTSTAMP:20260420T090754
CREATED:20220802T194547Z
LAST-MODIFIED:20230804T180903Z
UID:10006600-1659351600-1659355200@www.mhainspire.org
SUMMARY:Anytime Fitness Gym
DESCRIPTION:Anytime Fitness Gym\, every Monday\, from 11  AM to 12  PM.\nLIMIT 5. \n  \nLight refreshments will be served.\nSPACE IS LIMITED!! \nTo register for an activity or for more information\, please contact:\nYecenia Revolorio – 973-334-3496 ext. 514\nWeekdays 9:00 AM to 5:00 PM \n***ACTIVITIES SUBJECT TO CHANGE AND/OR CANCELLATION***\nVACCINATION & MASKS REQUIRED!!
URL:https://www.mhainspire.org/event/4352/2022-08-01/
CATEGORIES:Social Clubs
END:VEVENT
BEGIN:VEVENT
DTSTART;TZID=America/New_York:20220801T110000
DTEND;TZID=America/New_York:20220801T120000
DTSTAMP:20260420T090754
CREATED:20220803T162118Z
LAST-MODIFIED:20220913T191536Z
UID:10006591-1659351600-1659355200@www.mhainspire.org
SUMMARY:Anytime Fitness - CAP
DESCRIPTION:Anytime Fitness Gym\, every Monday\, from 11  AM to 12  PM.\nLIMIT 5. \n  \nLight refreshments will be served.\nSPACE IS LIMITED!! \nTo register for an activity or for more information\, please contact:\nYecenia Revolorio – 973-334-3496 ext. 514\nWeekdays 9:00 AM to 5:00 PM \n***ACTIVITIES SUBJECT TO CHANGE AND/OR CANCELLATION***\nVACCINATION & MASKS REQUIRED!!
URL:https://www.mhainspire.org/event/anytime-fitness-cap-2/2022-08-01/
CATEGORIES:Social Clubs
END:VEVENT
BEGIN:VEVENT
DTSTART;TZID=America/New_York:20220802T130000
DTEND;TZID=America/New_York:20220802T143000
DTSTAMP:20260420T090754
CREATED:20220804T133411Z
LAST-MODIFIED:20220804T133411Z
UID:10005825-1659445200-1659450600@www.mhainspire.org
SUMMARY:Social Clubs
DESCRIPTION:8/2 – Game Day – Edna’s Haven\n8/4 – “Thursdays” – Karaoke – Essex Office – Boonton/Lake Hiawatha\n8/9 – Rockaway Mall\n8/11 – “Thursdays” – ZUMBA Dance Exercise- Essex Office – Dover\n8/13 – Sussex County Fair – Dover Club Only\n8/16 – Downtown Denville\n8/18 – “Thursdays” – Game Night – Essex Office – Morris\n8/20 (11 AM to 2 PM)  – Canal Day Music Festival (Boonton and Dover Club Only)\n8/23 – Morris County Library\n8/25 – “Thursdays” – Walk in Verona Park – Essex Office – Boonton/Lake Hiawatha\n8/30 – The Frelinghuysen Arboretum \nTuesdays from 1 PM to 2:30 PM (Driver: Carmen\, 201-602-6266)\nThursdays from 6:30 PM to 8 PM (Driver: Paul\, 862-235-5600)\nSaturdays from 11 AM – 2 PM or 10 AM to 1 PM \nSPACE IS LIMITED!! \nTo register or for more information\, please contact:\nYecenia Revolorio –  973-334-3496 ext 514\nWeekdays 9:00 AM to 5:00 PM \nLight refreshments will be served.\nPrizes available for winners. \nVaccination and Masks Required. \nActivity is subject to change and/or cancel.
URL:https://www.mhainspire.org/event/social-clubs-3/2022-08-02/
CATEGORIES:Social Clubs
END:VEVENT
BEGIN:VEVENT
DTSTART;TZID=America/New_York:20220804T183000
DTEND;TZID=America/New_York:20220804T200000
DTSTAMP:20260420T090754
CREATED:20230805T004752Z
LAST-MODIFIED:20230805T004752Z
UID:10005832-1659637800-1659643200@www.mhainspire.org
SUMMARY:Social Clubs
DESCRIPTION:8/2 – Game Day – Edna’s Haven\n8/4 – “Thursdays” – Karaoke – Essex Office – Boonton/Lake Hiawatha\n8/9 – Rockaway Mall\n8/11 – “Thursdays” – ZUMBA Dance Exercise- Essex Office – Dover\n8/13 – Sussex County Fair – Dover Club Only\n8/16 – Downtown Denville\n8/18 – “Thursdays” – Game Night – Essex Office – Morris\n8/20 (11 AM to 2 PM)  – Canal Day Music Festival (Boonton and Dover Club Only)\n8/23 – Morris County Library\n8/25 – “Thursdays” – Walk in Verona Park – Essex Office – Boonton/Lake Hiawatha\n8/30 – The Frelinghuysen Arboretum \nTuesdays from 1 PM to 2:30 PM (Driver: Carmen\, 201-602-6266)\nThursdays from 6:30 PM to 8 PM (Driver: Paul\, 862-235-5600)\nSaturdays from 11 AM – 2 PM or 10 AM to 1 PM \nSPACE IS LIMITED!! \nTo register or for more information\, please contact:\nYecenia Revolorio –  973-334-3496 ext 514\nWeekdays 9:00 AM to 5:00 PM \nLight refreshments will be served.\nPrizes available for winners. \nVaccination and Masks Required. \nActivity is subject to change and/or cancel.
URL:https://www.mhainspire.org/event/social-clubs-3/2022-08-04/
CATEGORIES:Social Clubs
END:VEVENT
BEGIN:VEVENT
DTSTART;TZID=America/New_York:20220805T100000
DTEND;TZID=America/New_York:20220805T120000
DTSTAMP:20260420T090754
CREATED:20220804T131531Z
LAST-MODIFIED:20220804T131531Z
UID:10007726-1659693600-1659700800@www.mhainspire.org
SUMMARY:Movie Day - CAP
DESCRIPTION:Movie Day\, from 10 AM to 12 PM. \n  \nLight refreshments will be served.\nSPACE IS LIMITED!! \nTo register for an activity or for more information\, please contact:\nYecenia Revolorio – 973-334-3496 ext. 514\nWeekdays 9:00 AM to 5:00 PM \n***ACTIVITIES SUBJECT TO CHANGE AND/OR CANCELLATION***\nVACCINATION & MASKS REQUIRED!!
URL:https://www.mhainspire.org/event/movie-day-cap/
CATEGORIES:Social Clubs
END:VEVENT
BEGIN:VEVENT
DTSTART;TZID=America/New_York:20220808T110000
DTEND;TZID=America/New_York:20220808T120000
DTSTAMP:20260420T090754
CREATED:20220802T194547Z
LAST-MODIFIED:20230804T180903Z
UID:10006601-1659956400-1659960000@www.mhainspire.org
SUMMARY:Anytime Fitness Gym
DESCRIPTION:Anytime Fitness Gym\, every Monday\, from 11  AM to 12  PM.\nLIMIT 5. \n  \nLight refreshments will be served.\nSPACE IS LIMITED!! \nTo register for an activity or for more information\, please contact:\nYecenia Revolorio – 973-334-3496 ext. 514\nWeekdays 9:00 AM to 5:00 PM \n***ACTIVITIES SUBJECT TO CHANGE AND/OR CANCELLATION***\nVACCINATION & MASKS REQUIRED!!
URL:https://www.mhainspire.org/event/4352/2022-08-08/
CATEGORIES:Social Clubs
END:VEVENT
BEGIN:VEVENT
DTSTART;TZID=America/New_York:20220808T110000
DTEND;TZID=America/New_York:20220808T120000
DTSTAMP:20260420T090754
CREATED:20220803T162118Z
LAST-MODIFIED:20220913T191536Z
UID:10006592-1659956400-1659960000@www.mhainspire.org
SUMMARY:Anytime Fitness - CAP
DESCRIPTION:Anytime Fitness Gym\, every Monday\, from 11  AM to 12  PM.\nLIMIT 5. \n  \nLight refreshments will be served.\nSPACE IS LIMITED!! \nTo register for an activity or for more information\, please contact:\nYecenia Revolorio – 973-334-3496 ext. 514\nWeekdays 9:00 AM to 5:00 PM \n***ACTIVITIES SUBJECT TO CHANGE AND/OR CANCELLATION***\nVACCINATION & MASKS REQUIRED!!
URL:https://www.mhainspire.org/event/anytime-fitness-cap-2/2022-08-08/
CATEGORIES:Social Clubs
END:VEVENT
BEGIN:VEVENT
DTSTART;TZID=America/New_York:20220809T130000
DTEND;TZID=America/New_York:20220809T143000
DTSTAMP:20260420T090754
CREATED:20220804T133411Z
LAST-MODIFIED:20220804T133411Z
UID:10005826-1660050000-1660055400@www.mhainspire.org
SUMMARY:Social Clubs
DESCRIPTION:8/2 – Game Day – Edna’s Haven\n8/4 – “Thursdays” – Karaoke – Essex Office – Boonton/Lake Hiawatha\n8/9 – Rockaway Mall\n8/11 – “Thursdays” – ZUMBA Dance Exercise- Essex Office – Dover\n8/13 – Sussex County Fair – Dover Club Only\n8/16 – Downtown Denville\n8/18 – “Thursdays” – Game Night – Essex Office – Morris\n8/20 (11 AM to 2 PM)  – Canal Day Music Festival (Boonton and Dover Club Only)\n8/23 – Morris County Library\n8/25 – “Thursdays” – Walk in Verona Park – Essex Office – Boonton/Lake Hiawatha\n8/30 – The Frelinghuysen Arboretum \nTuesdays from 1 PM to 2:30 PM (Driver: Carmen\, 201-602-6266)\nThursdays from 6:30 PM to 8 PM (Driver: Paul\, 862-235-5600)\nSaturdays from 11 AM – 2 PM or 10 AM to 1 PM \nSPACE IS LIMITED!! \nTo register or for more information\, please contact:\nYecenia Revolorio –  973-334-3496 ext 514\nWeekdays 9:00 AM to 5:00 PM \nLight refreshments will be served.\nPrizes available for winners. \nVaccination and Masks Required. \nActivity is subject to change and/or cancel.
URL:https://www.mhainspire.org/event/social-clubs-3/2022-08-09/
CATEGORIES:Social Clubs
END:VEVENT
BEGIN:VEVENT
DTSTART;TZID=America/New_York:20220811T183000
DTEND;TZID=America/New_York:20220811T200000
DTSTAMP:20260420T090754
CREATED:20230805T004752Z
LAST-MODIFIED:20230805T004752Z
UID:10005833-1660242600-1660248000@www.mhainspire.org
SUMMARY:Social Clubs
DESCRIPTION:8/2 – Game Day – Edna’s Haven\n8/4 – “Thursdays” – Karaoke – Essex Office – Boonton/Lake Hiawatha\n8/9 – Rockaway Mall\n8/11 – “Thursdays” – ZUMBA Dance Exercise- Essex Office – Dover\n8/13 – Sussex County Fair – Dover Club Only\n8/16 – Downtown Denville\n8/18 – “Thursdays” – Game Night – Essex Office – Morris\n8/20 (11 AM to 2 PM)  – Canal Day Music Festival (Boonton and Dover Club Only)\n8/23 – Morris County Library\n8/25 – “Thursdays” – Walk in Verona Park – Essex Office – Boonton/Lake Hiawatha\n8/30 – The Frelinghuysen Arboretum \nTuesdays from 1 PM to 2:30 PM (Driver: Carmen\, 201-602-6266)\nThursdays from 6:30 PM to 8 PM (Driver: Paul\, 862-235-5600)\nSaturdays from 11 AM – 2 PM or 10 AM to 1 PM \nSPACE IS LIMITED!! \nTo register or for more information\, please contact:\nYecenia Revolorio –  973-334-3496 ext 514\nWeekdays 9:00 AM to 5:00 PM \nLight refreshments will be served.\nPrizes available for winners. \nVaccination and Masks Required. \nActivity is subject to change and/or cancel.
URL:https://www.mhainspire.org/event/social-clubs-3/2022-08-11/
CATEGORIES:Social Clubs
END:VEVENT
BEGIN:VEVENT
DTSTART;TZID=America/New_York:20220812T093000
DTEND;TZID=America/New_York:20220812T103000
DTSTAMP:20260420T090754
CREATED:20220804T131442Z
LAST-MODIFIED:20220804T131442Z
UID:10007727-1660296600-1660300200@www.mhainspire.org
SUMMARY:Peerline Meeting - CAP
DESCRIPTION:Peer line meeting\, from 9:30 AM to 10:30 AM. \n  \nLight refreshments will be served.\nSPACE IS LIMITED!! \nTo register for an activity or for more information\, please contact:\nYecenia Revolorio – 973-334-3496 ext. 514\nWeekdays 9:00 AM to 5:00 PM \n***ACTIVITIES SUBJECT TO CHANGE AND/OR CANCELLATION***\nVACCINATION & MASKS REQUIRED!!
URL:https://www.mhainspire.org/event/peerline-meeting-cap/
CATEGORIES:Social Clubs
END:VEVENT
BEGIN:VEVENT
DTSTART;TZID=America/New_York:20220813T100000
DTEND;TZID=America/New_York:20220813T130000
DTSTAMP:20260420T090754
CREATED:20220804T133411Z
LAST-MODIFIED:20220804T133411Z
UID:10005827-1660384800-1660395600@www.mhainspire.org
SUMMARY:Social Clubs
DESCRIPTION:8/2 – Game Day – Edna’s Haven\n8/4 – “Thursdays” – Karaoke – Essex Office – Boonton/Lake Hiawatha\n8/9 – Rockaway Mall\n8/11 – “Thursdays” – ZUMBA Dance Exercise- Essex Office – Dover\n8/13 – Sussex County Fair – Dover Club Only\n8/16 – Downtown Denville\n8/18 – “Thursdays” – Game Night – Essex Office – Morris\n8/20 (11 AM to 2 PM)  – Canal Day Music Festival (Boonton and Dover Club Only)\n8/23 – Morris County Library\n8/25 – “Thursdays” – Walk in Verona Park – Essex Office – Boonton/Lake Hiawatha\n8/30 – The Frelinghuysen Arboretum \nTuesdays from 1 PM to 2:30 PM (Driver: Carmen\, 201-602-6266)\nThursdays from 6:30 PM to 8 PM (Driver: Paul\, 862-235-5600)\nSaturdays from 11 AM – 2 PM or 10 AM to 1 PM \nSPACE IS LIMITED!! \nTo register or for more information\, please contact:\nYecenia Revolorio –  973-334-3496 ext 514\nWeekdays 9:00 AM to 5:00 PM \nLight refreshments will be served.\nPrizes available for winners. \nVaccination and Masks Required. \nActivity is subject to change and/or cancel.
URL:https://www.mhainspire.org/event/social-clubs-3/2022-08-13/
CATEGORIES:Social Clubs
END:VEVENT
BEGIN:VEVENT
DTSTART;TZID=America/New_York:20220815T110000
DTEND;TZID=America/New_York:20220815T120000
DTSTAMP:20260420T090754
CREATED:20220802T194547Z
LAST-MODIFIED:20230804T180903Z
UID:10006602-1660561200-1660564800@www.mhainspire.org
SUMMARY:Anytime Fitness Gym
DESCRIPTION:Anytime Fitness Gym\, every Monday\, from 11  AM to 12  PM.\nLIMIT 5. \n  \nLight refreshments will be served.\nSPACE IS LIMITED!! \nTo register for an activity or for more information\, please contact:\nYecenia Revolorio – 973-334-3496 ext. 514\nWeekdays 9:00 AM to 5:00 PM \n***ACTIVITIES SUBJECT TO CHANGE AND/OR CANCELLATION***\nVACCINATION & MASKS REQUIRED!!
URL:https://www.mhainspire.org/event/4352/2022-08-15/
CATEGORIES:Social Clubs
END:VEVENT
BEGIN:VEVENT
DTSTART;TZID=America/New_York:20220815T110000
DTEND;TZID=America/New_York:20220815T120000
DTSTAMP:20260420T090754
CREATED:20220803T162118Z
LAST-MODIFIED:20220913T191536Z
UID:10006593-1660561200-1660564800@www.mhainspire.org
SUMMARY:Anytime Fitness - CAP
DESCRIPTION:Anytime Fitness Gym\, every Monday\, from 11  AM to 12  PM.\nLIMIT 5. \n  \nLight refreshments will be served.\nSPACE IS LIMITED!! \nTo register for an activity or for more information\, please contact:\nYecenia Revolorio – 973-334-3496 ext. 514\nWeekdays 9:00 AM to 5:00 PM \n***ACTIVITIES SUBJECT TO CHANGE AND/OR CANCELLATION***\nVACCINATION & MASKS REQUIRED!!
URL:https://www.mhainspire.org/event/anytime-fitness-cap-2/2022-08-15/
CATEGORIES:Social Clubs
END:VEVENT
BEGIN:VEVENT
DTSTART;TZID=America/New_York:20220816T130000
DTEND;TZID=America/New_York:20220816T143000
DTSTAMP:20260420T090754
CREATED:20220804T133411Z
LAST-MODIFIED:20220804T133411Z
UID:10005828-1660654800-1660660200@www.mhainspire.org
SUMMARY:Social Clubs
DESCRIPTION:8/2 – Game Day – Edna’s Haven\n8/4 – “Thursdays” – Karaoke – Essex Office – Boonton/Lake Hiawatha\n8/9 – Rockaway Mall\n8/11 – “Thursdays” – ZUMBA Dance Exercise- Essex Office – Dover\n8/13 – Sussex County Fair – Dover Club Only\n8/16 – Downtown Denville\n8/18 – “Thursdays” – Game Night – Essex Office – Morris\n8/20 (11 AM to 2 PM)  – Canal Day Music Festival (Boonton and Dover Club Only)\n8/23 – Morris County Library\n8/25 – “Thursdays” – Walk in Verona Park – Essex Office – Boonton/Lake Hiawatha\n8/30 – The Frelinghuysen Arboretum \nTuesdays from 1 PM to 2:30 PM (Driver: Carmen\, 201-602-6266)\nThursdays from 6:30 PM to 8 PM (Driver: Paul\, 862-235-5600)\nSaturdays from 11 AM – 2 PM or 10 AM to 1 PM \nSPACE IS LIMITED!! \nTo register or for more information\, please contact:\nYecenia Revolorio –  973-334-3496 ext 514\nWeekdays 9:00 AM to 5:00 PM \nLight refreshments will be served.\nPrizes available for winners. \nVaccination and Masks Required. \nActivity is subject to change and/or cancel.
URL:https://www.mhainspire.org/event/social-clubs-3/2022-08-16/
CATEGORIES:Social Clubs
END:VEVENT
BEGIN:VEVENT
DTSTART;TZID=America/New_York:20220818T183000
DTEND;TZID=America/New_York:20220818T200000
DTSTAMP:20260420T090754
CREATED:20230805T004752Z
LAST-MODIFIED:20230805T004752Z
UID:10005834-1660847400-1660852800@www.mhainspire.org
SUMMARY:Social Clubs
DESCRIPTION:8/2 – Game Day – Edna’s Haven\n8/4 – “Thursdays” – Karaoke – Essex Office – Boonton/Lake Hiawatha\n8/9 – Rockaway Mall\n8/11 – “Thursdays” – ZUMBA Dance Exercise- Essex Office – Dover\n8/13 – Sussex County Fair – Dover Club Only\n8/16 – Downtown Denville\n8/18 – “Thursdays” – Game Night – Essex Office – Morris\n8/20 (11 AM to 2 PM)  – Canal Day Music Festival (Boonton and Dover Club Only)\n8/23 – Morris County Library\n8/25 – “Thursdays” – Walk in Verona Park – Essex Office – Boonton/Lake Hiawatha\n8/30 – The Frelinghuysen Arboretum \nTuesdays from 1 PM to 2:30 PM (Driver: Carmen\, 201-602-6266)\nThursdays from 6:30 PM to 8 PM (Driver: Paul\, 862-235-5600)\nSaturdays from 11 AM – 2 PM or 10 AM to 1 PM \nSPACE IS LIMITED!! \nTo register or for more information\, please contact:\nYecenia Revolorio –  973-334-3496 ext 514\nWeekdays 9:00 AM to 5:00 PM \nLight refreshments will be served.\nPrizes available for winners. \nVaccination and Masks Required. \nActivity is subject to change and/or cancel.
URL:https://www.mhainspire.org/event/social-clubs-3/2022-08-18/
CATEGORIES:Social Clubs
END:VEVENT
BEGIN:VEVENT
DTSTART;TZID=America/New_York:20220820T110000
DTEND;TZID=America/New_York:20220820T140000
DTSTAMP:20260420T090754
CREATED:20220804T133411Z
LAST-MODIFIED:20220804T133411Z
UID:10005829-1660993200-1661004000@www.mhainspire.org
SUMMARY:Social Clubs
DESCRIPTION:8/2 – Game Day – Edna’s Haven\n8/4 – “Thursdays” – Karaoke – Essex Office – Boonton/Lake Hiawatha\n8/9 – Rockaway Mall\n8/11 – “Thursdays” – ZUMBA Dance Exercise- Essex Office – Dover\n8/13 – Sussex County Fair – Dover Club Only\n8/16 – Downtown Denville\n8/18 – “Thursdays” – Game Night – Essex Office – Morris\n8/20 (11 AM to 2 PM)  – Canal Day Music Festival (Boonton and Dover Club Only)\n8/23 – Morris County Library\n8/25 – “Thursdays” – Walk in Verona Park – Essex Office – Boonton/Lake Hiawatha\n8/30 – The Frelinghuysen Arboretum \nTuesdays from 1 PM to 2:30 PM (Driver: Carmen\, 201-602-6266)\nThursdays from 6:30 PM to 8 PM (Driver: Paul\, 862-235-5600)\nSaturdays from 11 AM – 2 PM or 10 AM to 1 PM \nSPACE IS LIMITED!! \nTo register or for more information\, please contact:\nYecenia Revolorio –  973-334-3496 ext 514\nWeekdays 9:00 AM to 5:00 PM \nLight refreshments will be served.\nPrizes available for winners. \nVaccination and Masks Required. \nActivity is subject to change and/or cancel.
URL:https://www.mhainspire.org/event/social-clubs-3/2022-08-20/
CATEGORIES:Social Clubs
END:VEVENT
BEGIN:VEVENT
DTSTART;TZID=America/New_York:20220822T110000
DTEND;TZID=America/New_York:20220822T120000
DTSTAMP:20260420T090754
CREATED:20220802T194547Z
LAST-MODIFIED:20230804T180903Z
UID:10006603-1661166000-1661169600@www.mhainspire.org
SUMMARY:Anytime Fitness Gym
DESCRIPTION:Anytime Fitness Gym\, every Monday\, from 11  AM to 12  PM.\nLIMIT 5. \n  \nLight refreshments will be served.\nSPACE IS LIMITED!! \nTo register for an activity or for more information\, please contact:\nYecenia Revolorio – 973-334-3496 ext. 514\nWeekdays 9:00 AM to 5:00 PM \n***ACTIVITIES SUBJECT TO CHANGE AND/OR CANCELLATION***\nVACCINATION & MASKS REQUIRED!!
URL:https://www.mhainspire.org/event/4352/2022-08-22/
CATEGORIES:Social Clubs
END:VEVENT
BEGIN:VEVENT
DTSTART;TZID=America/New_York:20220822T110000
DTEND;TZID=America/New_York:20220822T120000
DTSTAMP:20260420T090754
CREATED:20220803T162118Z
LAST-MODIFIED:20220913T191536Z
UID:10006594-1661166000-1661169600@www.mhainspire.org
SUMMARY:Anytime Fitness - CAP
DESCRIPTION:Anytime Fitness Gym\, every Monday\, from 11  AM to 12  PM.\nLIMIT 5. \n  \nLight refreshments will be served.\nSPACE IS LIMITED!! \nTo register for an activity or for more information\, please contact:\nYecenia Revolorio – 973-334-3496 ext. 514\nWeekdays 9:00 AM to 5:00 PM \n***ACTIVITIES SUBJECT TO CHANGE AND/OR CANCELLATION***\nVACCINATION & MASKS REQUIRED!!
URL:https://www.mhainspire.org/event/anytime-fitness-cap-2/2022-08-22/
CATEGORIES:Social Clubs
END:VEVENT
BEGIN:VEVENT
DTSTART;TZID=America/New_York:20220823T130000
DTEND;TZID=America/New_York:20220823T143000
DTSTAMP:20260420T090754
CREATED:20220804T133411Z
LAST-MODIFIED:20220804T133411Z
UID:10005830-1661259600-1661265000@www.mhainspire.org
SUMMARY:Social Clubs
DESCRIPTION:8/2 – Game Day – Edna’s Haven\n8/4 – “Thursdays” – Karaoke – Essex Office – Boonton/Lake Hiawatha\n8/9 – Rockaway Mall\n8/11 – “Thursdays” – ZUMBA Dance Exercise- Essex Office – Dover\n8/13 – Sussex County Fair – Dover Club Only\n8/16 – Downtown Denville\n8/18 – “Thursdays” – Game Night – Essex Office – Morris\n8/20 (11 AM to 2 PM)  – Canal Day Music Festival (Boonton and Dover Club Only)\n8/23 – Morris County Library\n8/25 – “Thursdays” – Walk in Verona Park – Essex Office – Boonton/Lake Hiawatha\n8/30 – The Frelinghuysen Arboretum \nTuesdays from 1 PM to 2:30 PM (Driver: Carmen\, 201-602-6266)\nThursdays from 6:30 PM to 8 PM (Driver: Paul\, 862-235-5600)\nSaturdays from 11 AM – 2 PM or 10 AM to 1 PM \nSPACE IS LIMITED!! \nTo register or for more information\, please contact:\nYecenia Revolorio –  973-334-3496 ext 514\nWeekdays 9:00 AM to 5:00 PM \nLight refreshments will be served.\nPrizes available for winners. \nVaccination and Masks Required. \nActivity is subject to change and/or cancel.
URL:https://www.mhainspire.org/event/social-clubs-3/2022-08-23/
CATEGORIES:Social Clubs
END:VEVENT
BEGIN:VEVENT
DTSTART;TZID=America/New_York:20220825T183000
DTEND;TZID=America/New_York:20220825T200000
DTSTAMP:20260420T090754
CREATED:20230805T004752Z
LAST-MODIFIED:20230805T004752Z
UID:10005835-1661452200-1661457600@www.mhainspire.org
SUMMARY:Social Clubs
DESCRIPTION:8/2 – Game Day – Edna’s Haven\n8/4 – “Thursdays” – Karaoke – Essex Office – Boonton/Lake Hiawatha\n8/9 – Rockaway Mall\n8/11 – “Thursdays” – ZUMBA Dance Exercise- Essex Office – Dover\n8/13 – Sussex County Fair – Dover Club Only\n8/16 – Downtown Denville\n8/18 – “Thursdays” – Game Night – Essex Office – Morris\n8/20 (11 AM to 2 PM)  – Canal Day Music Festival (Boonton and Dover Club Only)\n8/23 – Morris County Library\n8/25 – “Thursdays” – Walk in Verona Park – Essex Office – Boonton/Lake Hiawatha\n8/30 – The Frelinghuysen Arboretum \nTuesdays from 1 PM to 2:30 PM (Driver: Carmen\, 201-602-6266)\nThursdays from 6:30 PM to 8 PM (Driver: Paul\, 862-235-5600)\nSaturdays from 11 AM – 2 PM or 10 AM to 1 PM \nSPACE IS LIMITED!! \nTo register or for more information\, please contact:\nYecenia Revolorio –  973-334-3496 ext 514\nWeekdays 9:00 AM to 5:00 PM \nLight refreshments will be served.\nPrizes available for winners. \nVaccination and Masks Required. \nActivity is subject to change and/or cancel.
URL:https://www.mhainspire.org/event/social-clubs-3/2022-08-25/
CATEGORIES:Social Clubs
END:VEVENT
BEGIN:VEVENT
DTSTART;TZID=America/New_York:20220829T110000
DTEND;TZID=America/New_York:20220829T120000
DTSTAMP:20260420T090754
CREATED:20220802T194547Z
LAST-MODIFIED:20230804T180903Z
UID:10006604-1661770800-1661774400@www.mhainspire.org
SUMMARY:Anytime Fitness Gym
DESCRIPTION:Anytime Fitness Gym\, every Monday\, from 11  AM to 12  PM.\nLIMIT 5. \n  \nLight refreshments will be served.\nSPACE IS LIMITED!! \nTo register for an activity or for more information\, please contact:\nYecenia Revolorio – 973-334-3496 ext. 514\nWeekdays 9:00 AM to 5:00 PM \n***ACTIVITIES SUBJECT TO CHANGE AND/OR CANCELLATION***\nVACCINATION & MASKS REQUIRED!!
URL:https://www.mhainspire.org/event/4352/2022-08-29/
CATEGORIES:Social Clubs
END:VEVENT
BEGIN:VEVENT
DTSTART;TZID=America/New_York:20220829T110000
DTEND;TZID=America/New_York:20220829T120000
DTSTAMP:20260420T090754
CREATED:20220803T162118Z
LAST-MODIFIED:20220913T191536Z
UID:10006595-1661770800-1661774400@www.mhainspire.org
SUMMARY:Anytime Fitness - CAP
DESCRIPTION:Anytime Fitness Gym\, every Monday\, from 11  AM to 12  PM.\nLIMIT 5. \n  \nLight refreshments will be served.\nSPACE IS LIMITED!! \nTo register for an activity or for more information\, please contact:\nYecenia Revolorio – 973-334-3496 ext. 514\nWeekdays 9:00 AM to 5:00 PM \n***ACTIVITIES SUBJECT TO CHANGE AND/OR CANCELLATION***\nVACCINATION & MASKS REQUIRED!!
URL:https://www.mhainspire.org/event/anytime-fitness-cap-2/2022-08-29/
CATEGORIES:Social Clubs
END:VEVENT
BEGIN:VEVENT
DTSTART;TZID=America/New_York:20220830T130000
DTEND;TZID=America/New_York:20220830T143000
DTSTAMP:20260420T090754
CREATED:20220804T133411Z
LAST-MODIFIED:20220804T133411Z
UID:10005831-1661864400-1661869800@www.mhainspire.org
SUMMARY:Social Clubs
DESCRIPTION:8/2 – Game Day – Edna’s Haven\n8/4 – “Thursdays” – Karaoke – Essex Office – Boonton/Lake Hiawatha\n8/9 – Rockaway Mall\n8/11 – “Thursdays” – ZUMBA Dance Exercise- Essex Office – Dover\n8/13 – Sussex County Fair – Dover Club Only\n8/16 – Downtown Denville\n8/18 – “Thursdays” – Game Night – Essex Office – Morris\n8/20 (11 AM to 2 PM)  – Canal Day Music Festival (Boonton and Dover Club Only)\n8/23 – Morris County Library\n8/25 – “Thursdays” – Walk in Verona Park – Essex Office – Boonton/Lake Hiawatha\n8/30 – The Frelinghuysen Arboretum \nTuesdays from 1 PM to 2:30 PM (Driver: Carmen\, 201-602-6266)\nThursdays from 6:30 PM to 8 PM (Driver: Paul\, 862-235-5600)\nSaturdays from 11 AM – 2 PM or 10 AM to 1 PM \nSPACE IS LIMITED!! \nTo register or for more information\, please contact:\nYecenia Revolorio –  973-334-3496 ext 514\nWeekdays 9:00 AM to 5:00 PM \nLight refreshments will be served.\nPrizes available for winners. \nVaccination and Masks Required. \nActivity is subject to change and/or cancel.
URL:https://www.mhainspire.org/event/social-clubs-3/2022-08-30/
CATEGORIES:Social Clubs
END:VEVENT
END:VCALENDAR