BEGIN:VCALENDAR
VERSION:2.0
PRODID:-//MHA - ECPv6.15.20//NONSGML v1.0//EN
CALSCALE:GREGORIAN
METHOD:PUBLISH
X-ORIGINAL-URL:https://www.mhainspire.org
X-WR-CALDESC:Events for MHA
REFRESH-INTERVAL;VALUE=DURATION:PT1H
X-Robots-Tag:noindex
X-PUBLISHED-TTL:PT1H
BEGIN:VTIMEZONE
TZID:America/New_York
BEGIN:DAYLIGHT
TZOFFSETFROM:-0500
TZOFFSETTO:-0400
TZNAME:EDT
DTSTART:20250309T070000
END:DAYLIGHT
BEGIN:STANDARD
TZOFFSETFROM:-0400
TZOFFSETTO:-0500
TZNAME:EST
DTSTART:20251102T060000
END:STANDARD
BEGIN:DAYLIGHT
TZOFFSETFROM:-0500
TZOFFSETTO:-0400
TZNAME:EDT
DTSTART:20260308T070000
END:DAYLIGHT
BEGIN:STANDARD
TZOFFSETFROM:-0400
TZOFFSETTO:-0500
TZNAME:EST
DTSTART:20261101T060000
END:STANDARD
BEGIN:DAYLIGHT
TZOFFSETFROM:-0500
TZOFFSETTO:-0400
TZNAME:EDT
DTSTART:20270314T070000
END:DAYLIGHT
BEGIN:STANDARD
TZOFFSETFROM:-0400
TZOFFSETTO:-0500
TZNAME:EST
DTSTART:20271107T060000
END:STANDARD
END:VTIMEZONE
BEGIN:VEVENT
DTSTART;TZID=America/New_York:20260216T110000
DTEND;TZID=America/New_York:20260216T120000
DTSTAMP:20260423T121739
CREATED:20250623T150120Z
LAST-MODIFIED:20250801T193437Z
UID:10015109-1771239600-1771243200@www.mhainspire.org
SUMMARY:Anytime Fitness - CAP
DESCRIPTION:Anytime Fitness Gym\, every Monday\, from 11  AM to 12  PM.\nLIMIT 5. \nLight refreshments will be served.\nSPACE IS LIMITED!! \nTo register for an activity or for more information\, please contact:\nYecenia Revolorio – 973-334- 3496 ext. 514 \nWeekdays 9:00 AM to 5:00 PM \n***ACTIVITIES SUBJECT TO CHANGE AND/OR CANCELLATION***
URL:https://www.mhainspire.org/event/anytime-fitness-cap-21/2026-02-16/
CATEGORIES:Social Clubs
END:VEVENT
BEGIN:VEVENT
DTSTART;TZID=America/New_York:20260217T090000
DTEND;TZID=America/New_York:20260217T130000
DTSTAMP:20260423T121739
CREATED:20250801T193001Z
LAST-MODIFIED:20250801T193001Z
UID:10014378-1771318800-1771333200@www.mhainspire.org
SUMMARY:Community Rides - CAP
DESCRIPTION:Community Rides\, from 9 AM to 1 PM. \nLight refreshments will be served.\nSPACE IS LIMITED!! \nTo register for an activity or for more information\, please contact:\nYecenia Revolorio – 973-334-3496 ext. 514 \nWeekdays 9:00 AM to 5:00 PM
URL:https://www.mhainspire.org/event/community-rides-cap/2026-02-17/
CATEGORIES:Social Clubs
END:VEVENT
BEGIN:VEVENT
DTSTART;TZID=America/New_York:20260219T110000
DTEND;TZID=America/New_York:20260219T123000
DTSTAMP:20260423T121739
CREATED:20260203T203115Z
LAST-MODIFIED:20260203T203127Z
UID:10015585-1771498800-1771504200@www.mhainspire.org
SUMMARY:Resource Day - CAP
DESCRIPTION:At the Parsippany Office from 12:00 to 1:00 PM \nLight refreshments will be served.\nSPACE IS LIMITED!! \nTo register for an activity or for more information\, please contact:\nYecenia Revolorio – 973-334- 3496 ext. 514 \nWeekdays 9:00 AM to 5:00 PM
URL:https://www.mhainspire.org/event/resource-day-cap-20/
LOCATION:1160 Parisppany Blvd\, 1160 Parsippany Blvd\, Parsippany\, NJ\, 07054\, United States
CATEGORIES:Social Clubs
END:VEVENT
BEGIN:VEVENT
DTSTART;TZID=America/New_York:20260219T183000
DTEND;TZID=America/New_York:20260219T200000
DTSTAMP:20260423T121739
CREATED:20260203T204146Z
LAST-MODIFIED:20260203T204146Z
UID:10015607-1771525800-1771531200@www.mhainspire.org
SUMMARY:Social Clubs
DESCRIPTION:February 2026 \n\n\n\nTuesday\n2/3\n4:00 PM – 7:00 PM\nDeliza’s Pizza – Boonton\n\n\nThursday\n2/5\n6:30 PM – 8:00 PM\n“Thursday’s” Black History Trivia ~ ESSEX OFFICE  \n\n\nSaturday\n   2/7\n11:30 AM – 1:00 PM \n Rockaway Mall \n\n\nMonday\n2/9\n6:00 PM -7:30 PM\nOpen Mic – Succasunna\n\n\nTuesday \n2/10\n4:00 PM – 7:00 PM\nTJ Maxx – Rockaway \n\n\nThursday\n2/12\n6:30 PM – 8:00 PM\n“Thursday’s” Valentine’s Day Celebration ~ ESSEX OFFICE  \n\n\nTuesday\n2/17\n4:00 PM – 7:00 PM\nBurlington/ Marshalls – East Hanover \n\n\nThursday\n2/19\n6:30 PM – 8:00 PM\n “Thursday’s” Karaoke ~ ESSEX OFFICE  \n\n\nSaturday \n2/21\n11:00 AM – 12:30 PM \nHobby Lobby – East Hanover \n\n\nTuesday\n2/24\n4:00 PM – 7:00 PM\nBarnes & Noble – Morris Plains \n\n\nThursday\n2/26\n6:30 PM – 8:00 PM\n“Thursday’s” Word Search ~ ESSEX OFFICE  \n\n\n\n  \n  \nSPACE IS LIMITED!! \nTo register or for more information\, please contact:\nYecenia Revolorio – 973-334-3496 ext. 514\nWeekdays 9:00 AM to 5:00 PM \nLight refreshments will be served.\nPrizes available for winners. \nActivity is subject to change and/or cancel.
URL:https://www.mhainspire.org/event/social-clubs-30/2026-02-19/
CATEGORIES:Social Clubs
END:VEVENT
BEGIN:VEVENT
DTSTART;TZID=America/New_York:20260220T090000
DTEND;TZID=America/New_York:20260220T130000
DTSTAMP:20260423T121739
CREATED:20260203T202801Z
LAST-MODIFIED:20260203T202836Z
UID:10015584-1771578000-1771592400@www.mhainspire.org
SUMMARY:Community Rides - CAP
DESCRIPTION:Community Rides\, from 9 AM to 1 PM. \nLight refreshments will be served.\nSPACE IS LIMITED!! \nTo register for an activity or for more information\, please contact:\nYecenia Revolorio – 973-334-3496 ext. 514 \nWeekdays 9:00 AM to 5:00 PM
URL:https://www.mhainspire.org/event/community-rides-cap-10/
CATEGORIES:Social Clubs
END:VEVENT
BEGIN:VEVENT
DTSTART;TZID=America/New_York:20260221T110000
DTEND;TZID=America/New_York:20260221T123000
DTSTAMP:20260423T121739
CREATED:20260203T204146Z
LAST-MODIFIED:20260203T204146Z
UID:10015608-1771671600-1771677000@www.mhainspire.org
SUMMARY:Social Clubs
DESCRIPTION:February 2026 \n\n\n\nTuesday\n2/3\n4:00 PM – 7:00 PM\nDeliza’s Pizza – Boonton\n\n\nThursday\n2/5\n6:30 PM – 8:00 PM\n“Thursday’s” Black History Trivia ~ ESSEX OFFICE  \n\n\nSaturday\n   2/7\n11:30 AM – 1:00 PM \n Rockaway Mall \n\n\nMonday\n2/9\n6:00 PM -7:30 PM\nOpen Mic – Succasunna\n\n\nTuesday \n2/10\n4:00 PM – 7:00 PM\nTJ Maxx – Rockaway \n\n\nThursday\n2/12\n6:30 PM – 8:00 PM\n“Thursday’s” Valentine’s Day Celebration ~ ESSEX OFFICE  \n\n\nTuesday\n2/17\n4:00 PM – 7:00 PM\nBurlington/ Marshalls – East Hanover \n\n\nThursday\n2/19\n6:30 PM – 8:00 PM\n “Thursday’s” Karaoke ~ ESSEX OFFICE  \n\n\nSaturday \n2/21\n11:00 AM – 12:30 PM \nHobby Lobby – East Hanover \n\n\nTuesday\n2/24\n4:00 PM – 7:00 PM\nBarnes & Noble – Morris Plains \n\n\nThursday\n2/26\n6:30 PM – 8:00 PM\n“Thursday’s” Word Search ~ ESSEX OFFICE  \n\n\n\n  \n  \nSPACE IS LIMITED!! \nTo register or for more information\, please contact:\nYecenia Revolorio – 973-334-3496 ext. 514\nWeekdays 9:00 AM to 5:00 PM \nLight refreshments will be served.\nPrizes available for winners. \nActivity is subject to change and/or cancel.
URL:https://www.mhainspire.org/event/social-clubs-30/2026-02-21/
CATEGORIES:Social Clubs
END:VEVENT
BEGIN:VEVENT
DTSTART;TZID=America/New_York:20260223T110000
DTEND;TZID=America/New_York:20260223T120000
DTSTAMP:20260423T121739
CREATED:20250623T150120Z
LAST-MODIFIED:20250801T193437Z
UID:10015110-1771844400-1771848000@www.mhainspire.org
SUMMARY:Anytime Fitness - CAP
DESCRIPTION:Anytime Fitness Gym\, every Monday\, from 11  AM to 12  PM.\nLIMIT 5. \nLight refreshments will be served.\nSPACE IS LIMITED!! \nTo register for an activity or for more information\, please contact:\nYecenia Revolorio – 973-334- 3496 ext. 514 \nWeekdays 9:00 AM to 5:00 PM \n***ACTIVITIES SUBJECT TO CHANGE AND/OR CANCELLATION***
URL:https://www.mhainspire.org/event/anytime-fitness-cap-21/2026-02-23/
CATEGORIES:Social Clubs
END:VEVENT
BEGIN:VEVENT
DTSTART;TZID=America/New_York:20260224T090000
DTEND;TZID=America/New_York:20260224T130000
DTSTAMP:20260423T121739
CREATED:20260203T202740Z
LAST-MODIFIED:20260203T202740Z
UID:10014381-1771923600-1771938000@www.mhainspire.org
SUMMARY:Community Rides - CAP
DESCRIPTION:Community Rides\, from 9 AM to 1 PM. \nLight refreshments will be served.\nSPACE IS LIMITED!! \nTo register for an activity or for more information\, please contact:\nYecenia Revolorio – 973-334-3496 ext. 514 \nWeekdays 9:00 AM to 5:00 PM
URL:https://www.mhainspire.org/event/community-rides-cap-9/
CATEGORIES:Social Clubs
END:VEVENT
BEGIN:VEVENT
DTSTART;TZID=America/New_York:20260226T090000
DTEND;TZID=America/New_York:20260226T130000
DTSTAMP:20260423T121739
CREATED:20250801T193001Z
LAST-MODIFIED:20250801T193001Z
UID:10014383-1772096400-1772110800@www.mhainspire.org
SUMMARY:Community Rides - CAP
DESCRIPTION:Community Rides\, from 9 AM to 1 PM. \nLight refreshments will be served.\nSPACE IS LIMITED!! \nTo register for an activity or for more information\, please contact:\nYecenia Revolorio – 973-334-3496 ext. 514 \nWeekdays 9:00 AM to 5:00 PM
URL:https://www.mhainspire.org/event/community-rides-cap/2026-02-26/
CATEGORIES:Social Clubs
END:VEVENT
BEGIN:VEVENT
DTSTART;TZID=America/New_York:20260226T183000
DTEND;TZID=America/New_York:20260226T200000
DTSTAMP:20260423T121739
CREATED:20260203T204146Z
LAST-MODIFIED:20260203T204146Z
UID:10015609-1772130600-1772136000@www.mhainspire.org
SUMMARY:Social Clubs
DESCRIPTION:February 2026 \n\n\n\nTuesday\n2/3\n4:00 PM – 7:00 PM\nDeliza’s Pizza – Boonton\n\n\nThursday\n2/5\n6:30 PM – 8:00 PM\n“Thursday’s” Black History Trivia ~ ESSEX OFFICE  \n\n\nSaturday\n   2/7\n11:30 AM – 1:00 PM \n Rockaway Mall \n\n\nMonday\n2/9\n6:00 PM -7:30 PM\nOpen Mic – Succasunna\n\n\nTuesday \n2/10\n4:00 PM – 7:00 PM\nTJ Maxx – Rockaway \n\n\nThursday\n2/12\n6:30 PM – 8:00 PM\n“Thursday’s” Valentine’s Day Celebration ~ ESSEX OFFICE  \n\n\nTuesday\n2/17\n4:00 PM – 7:00 PM\nBurlington/ Marshalls – East Hanover \n\n\nThursday\n2/19\n6:30 PM – 8:00 PM\n “Thursday’s” Karaoke ~ ESSEX OFFICE  \n\n\nSaturday \n2/21\n11:00 AM – 12:30 PM \nHobby Lobby – East Hanover \n\n\nTuesday\n2/24\n4:00 PM – 7:00 PM\nBarnes & Noble – Morris Plains \n\n\nThursday\n2/26\n6:30 PM – 8:00 PM\n“Thursday’s” Word Search ~ ESSEX OFFICE  \n\n\n\n  \n  \nSPACE IS LIMITED!! \nTo register or for more information\, please contact:\nYecenia Revolorio – 973-334-3496 ext. 514\nWeekdays 9:00 AM to 5:00 PM \nLight refreshments will be served.\nPrizes available for winners. \nActivity is subject to change and/or cancel.
URL:https://www.mhainspire.org/event/social-clubs-30/2026-02-26/
CATEGORIES:Social Clubs
END:VEVENT
BEGIN:VEVENT
DTSTART;TZID=America/New_York:20260227T090000
DTEND;TZID=America/New_York:20260227T130000
DTSTAMP:20260423T121739
CREATED:20260203T202547Z
LAST-MODIFIED:20260203T202644Z
UID:10014377-1772182800-1772197200@www.mhainspire.org
SUMMARY:Community Rides - CAP
DESCRIPTION:Community Rides\, from 9 AM to 1 PM. \nLight refreshments will be served.\nSPACE IS LIMITED!! \nTo register for an activity or for more information\, please contact:\nYecenia Revolorio – 973-334-3496 ext. 514 \nWeekdays 9:00 AM to 5:00 PM
URL:https://www.mhainspire.org/event/community-rides-cap-8/
CATEGORIES:Social Clubs
END:VEVENT
BEGIN:VEVENT
DTSTART;TZID=America/New_York:20260302T110000
DTEND;TZID=America/New_York:20260302T120000
DTSTAMP:20260423T121739
CREATED:20250623T150120Z
LAST-MODIFIED:20250801T193437Z
UID:10015111-1772449200-1772452800@www.mhainspire.org
SUMMARY:Anytime Fitness - CAP
DESCRIPTION:Anytime Fitness Gym\, every Monday\, from 11  AM to 12  PM.\nLIMIT 5. \nLight refreshments will be served.\nSPACE IS LIMITED!! \nTo register for an activity or for more information\, please contact:\nYecenia Revolorio – 973-334- 3496 ext. 514 \nWeekdays 9:00 AM to 5:00 PM \n***ACTIVITIES SUBJECT TO CHANGE AND/OR CANCELLATION***
URL:https://www.mhainspire.org/event/anytime-fitness-cap-21/2026-03-02/
CATEGORIES:Social Clubs
END:VEVENT
BEGIN:VEVENT
DTSTART;TZID=America/New_York:20260303T090000
DTEND;TZID=America/New_York:20260303T130000
DTSTAMP:20260423T121739
CREATED:20250801T193001Z
LAST-MODIFIED:20250801T193001Z
UID:10014384-1772528400-1772542800@www.mhainspire.org
SUMMARY:Community Rides - CAP
DESCRIPTION:Community Rides\, from 9 AM to 1 PM. \nLight refreshments will be served.\nSPACE IS LIMITED!! \nTo register for an activity or for more information\, please contact:\nYecenia Revolorio – 973-334-3496 ext. 514 \nWeekdays 9:00 AM to 5:00 PM
URL:https://www.mhainspire.org/event/community-rides-cap/2026-03-03/
CATEGORIES:Social Clubs
END:VEVENT
BEGIN:VEVENT
DTSTART;TZID=America/New_York:20260303T160000
DTEND;TZID=America/New_York:20260303T183000
DTSTAMP:20260423T121739
CREATED:20260224T203607Z
LAST-MODIFIED:20260224T203607Z
UID:10015627-1772553600-1772562600@www.mhainspire.org
SUMMARY:Social Clubs
DESCRIPTION:March 2026 \n\n\n\nTuesday\n3/3\n4:00 PM – 6:30 PM\nRoss Dress for Less – Rockaway \n\n\nThursday\n3/5\n6:30 PM – 8:00 PM\n“Thursday’s” Art Museum~ ESSEX OFFICE  \n\n\nTuesday \n3/10\n4:00 PM – 6:30 PM\nWalmart Ledgewood \n\n\nThursday\n3/12\n6:30 PM – 8:00 PM\n“Thursday’s” St Patrick’s Celebration ~ ESSEX OFFICE  \n\n\nSaturday\n3/14\n12:00 PM – 2:00 PM\nSt Patrick’s Day Parade – Morristown \n\n\nTuesday\n3/17\n4:00 PM – 6:30 PM\nGod Father Pizzeria- East Hanover\n\n\nThursday\n3/19\n6:30 PM – 8:00 PM\n “Thursday’s” BINGO ~ ESSEX OFFICE  \n\n\nSunday \n3/22\n3:00 PM – 4:00 PM \nSongs of Ireland with Charlie Zahm & Friends \n\n\nTuesday\n3/24\n4:00 PM – 6:30 PM\nSalvation Army – Dover \n\n\nThursday\n3/26\n6:30 PM – 8:00 PM\n“Thursday’s” Mental Health Trivia ~ ESSEX OFFICE  \n\n\nSaturday \n3/28\n10:00AM – 12:00 PM \nShopping Extravaganza with crafts – Hopatcong \n\n\nTuesday \n3/31\n4:00 PM – 6:30 PM\nTarget – Rockaway \n\n\n\n  \n  \n  \nSPACE IS LIMITED!! \nTo register or for more information\, please contact:\nYecenia Revolorio – 973-334-3496 ext. 514\nWeekdays 9:00 AM to 5:00 PM \nLight refreshments will be served.\nPrizes available for winners. \nActivity is subject to change and/or cancel.
URL:https://www.mhainspire.org/event/social-clubs-31-2/
CATEGORIES:Social Clubs
END:VEVENT
BEGIN:VEVENT
DTSTART;TZID=America/New_York:20260304T110000
DTEND;TZID=America/New_York:20260304T120000
DTSTAMP:20260423T121739
CREATED:20260224T205802Z
LAST-MODIFIED:20260224T205802Z
UID:10015647-1772622000-1772625600@www.mhainspire.org
SUMMARY:Advocacy Group - CAP
DESCRIPTION:Advocacy Group will be held at the Parsippany Office 11:00am-12:00pm. \nSPACE IS LIMITED!! \nTo register or for more information\, please contact:\nYecenia Revolorio – 973-334-3496 ext. 514\nWeekdays 9:00 AM to 5:00 PM \nActivity is subject to change and/or cancel.
URL:https://www.mhainspire.org/event/advocacy-group-cap-19/
CATEGORIES:Social Clubs
END:VEVENT
BEGIN:VEVENT
DTSTART;TZID=America/New_York:20260305T090000
DTEND;TZID=America/New_York:20260305T130000
DTSTAMP:20260423T121739
CREATED:20260224T204852Z
LAST-MODIFIED:20260224T204852Z
UID:10014386-1772701200-1772715600@www.mhainspire.org
SUMMARY:Community Rides - CAP
DESCRIPTION:Community Rides\, from 9 AM to 1 PM. \nLight refreshments will be served.\nSPACE IS LIMITED!! \nTo register for an activity or for more information\, please contact:\nYecenia Revolorio – 973-334-3496 ext. 514 \nWeekdays 9:00 AM to 5:00 PM
URL:https://www.mhainspire.org/event/community-rides-cap-11/
CATEGORIES:Social Clubs
END:VEVENT
BEGIN:VEVENT
DTSTART;TZID=America/New_York:20260306T020000
DTEND;TZID=America/New_York:20260630T010000
DTSTAMP:20260423T121739
CREATED:20260203T204146Z
LAST-MODIFIED:20260203T204146Z
UID:10015610-1772762400-1782781200@www.mhainspire.org
SUMMARY:Social Clubs
DESCRIPTION:February 2026 \n\n\n\nTuesday\n2/3\n4:00 PM – 7:00 PM\nDeliza’s Pizza – Boonton\n\n\nThursday\n2/5\n6:30 PM – 8:00 PM\n“Thursday’s” Black History Trivia ~ ESSEX OFFICE  \n\n\nSaturday\n   2/7\n11:30 AM – 1:00 PM \n Rockaway Mall \n\n\nMonday\n2/9\n6:00 PM -7:30 PM\nOpen Mic – Succasunna\n\n\nTuesday \n2/10\n4:00 PM – 7:00 PM\nTJ Maxx – Rockaway \n\n\nThursday\n2/12\n6:30 PM – 8:00 PM\n“Thursday’s” Valentine’s Day Celebration ~ ESSEX OFFICE  \n\n\nTuesday\n2/17\n4:00 PM – 7:00 PM\nBurlington/ Marshalls – East Hanover \n\n\nThursday\n2/19\n6:30 PM – 8:00 PM\n “Thursday’s” Karaoke ~ ESSEX OFFICE  \n\n\nSaturday \n2/21\n11:00 AM – 12:30 PM \nHobby Lobby – East Hanover \n\n\nTuesday\n2/24\n4:00 PM – 7:00 PM\nBarnes & Noble – Morris Plains \n\n\nThursday\n2/26\n6:30 PM – 8:00 PM\n“Thursday’s” Word Search ~ ESSEX OFFICE  \n\n\n\n  \n  \nSPACE IS LIMITED!! \nTo register or for more information\, please contact:\nYecenia Revolorio – 973-334-3496 ext. 514\nWeekdays 9:00 AM to 5:00 PM \nLight refreshments will be served.\nPrizes available for winners. \nActivity is subject to change and/or cancel.
URL:https://www.mhainspire.org/event/social-clubs-30/2026-03-06/
CATEGORIES:Social Clubs
END:VEVENT
BEGIN:VEVENT
DTSTART;TZID=America/New_York:20260306T090000
DTEND;TZID=America/New_York:20260306T130000
DTSTAMP:20260423T121739
CREATED:20260224T204858Z
LAST-MODIFIED:20260224T204912Z
UID:10014385-1772787600-1772802000@www.mhainspire.org
SUMMARY:Community Rides - CAP
DESCRIPTION:Community Rides\, from 9 AM to 1 PM. \nLight refreshments will be served.\nSPACE IS LIMITED!! \nTo register for an activity or for more information\, please contact:\nYecenia Revolorio – 973-334-3496 ext. 514 \nWeekdays 9:00 AM to 5:00 PM
URL:https://www.mhainspire.org/event/community-rides-cap-12/
CATEGORIES:Social Clubs
END:VEVENT
BEGIN:VEVENT
DTSTART;TZID=America/New_York:20260309T110000
DTEND;TZID=America/New_York:20260309T120000
DTSTAMP:20260423T121739
CREATED:20250623T150120Z
LAST-MODIFIED:20250801T193437Z
UID:10015112-1773054000-1773057600@www.mhainspire.org
SUMMARY:Anytime Fitness - CAP
DESCRIPTION:Anytime Fitness Gym\, every Monday\, from 11  AM to 12  PM.\nLIMIT 5. \nLight refreshments will be served.\nSPACE IS LIMITED!! \nTo register for an activity or for more information\, please contact:\nYecenia Revolorio – 973-334- 3496 ext. 514 \nWeekdays 9:00 AM to 5:00 PM \n***ACTIVITIES SUBJECT TO CHANGE AND/OR CANCELLATION***
URL:https://www.mhainspire.org/event/anytime-fitness-cap-21/2026-03-09/
CATEGORIES:Social Clubs
END:VEVENT
BEGIN:VEVENT
DTSTART;TZID=America/New_York:20260310T090000
DTEND;TZID=America/New_York:20260310T130000
DTSTAMP:20260423T121739
CREATED:20250801T193001Z
LAST-MODIFIED:20250801T193001Z
UID:10014387-1773133200-1773147600@www.mhainspire.org
SUMMARY:Community Rides - CAP
DESCRIPTION:Community Rides\, from 9 AM to 1 PM. \nLight refreshments will be served.\nSPACE IS LIMITED!! \nTo register for an activity or for more information\, please contact:\nYecenia Revolorio – 973-334-3496 ext. 514 \nWeekdays 9:00 AM to 5:00 PM
URL:https://www.mhainspire.org/event/community-rides-cap/2026-03-10/
CATEGORIES:Social Clubs
END:VEVENT
BEGIN:VEVENT
DTSTART;TZID=America/New_York:20260311T113000
DTEND;TZID=America/New_York:20260312T123000
DTSTAMP:20260423T121739
CREATED:20260224T210504Z
LAST-MODIFIED:20260224T210504Z
UID:10015650-1773228600-1773318600@www.mhainspire.org
SUMMARY:Bingo - CAP
DESCRIPTION:Bingo at the Parsippany Office \nSPACE IS LIMITED!! \nTo register or for more information\, please contact:\nYecenia Revolorio – 973-334-3496 ext. 514\nWeekdays 9:00 AM to 5:00 PM \nActivity is subject to change and/or cancel.
URL:https://www.mhainspire.org/event/bingo-cap-3/
CATEGORIES:Social Clubs
END:VEVENT
BEGIN:VEVENT
DTSTART;TZID=America/New_York:20260312T100000
DTEND;TZID=America/New_York:20260313T110000
DTSTAMP:20260423T121739
CREATED:20260224T210402Z
LAST-MODIFIED:20260224T210402Z
UID:10015648-1773309600-1773399600@www.mhainspire.org
SUMMARY:Nurse Group - CAP
DESCRIPTION:Nurse Group at the Parsippany Office \nSPACE IS LIMITED!! \nTo register or for more information\, please contact:\nYecenia Revolorio – 973-334-3496 ext. 514\nWeekdays 9:00 AM to 5:00 PM \nActivity is subject to change and/or cancel.
URL:https://www.mhainspire.org/event/nurse-group-cap-2/
CATEGORIES:Social Clubs
END:VEVENT
BEGIN:VEVENT
DTSTART;TZID=America/New_York:20260312T183000
DTEND;TZID=America/New_York:20260312T200000
DTSTAMP:20260423T121739
CREATED:20260224T203142Z
LAST-MODIFIED:20260224T203537Z
UID:10015628-1773340200-1773345600@www.mhainspire.org
SUMMARY:Social Clubs
DESCRIPTION:March 2026 \n\n\n\nTuesday\n3/3\n4:00 PM – 6:30 PM\nRoss Dress for Less – Rockaway \n\n\nThursday\n3/5\n6:30 PM – 8:00 PM\n“Thursday’s” Art Museum~ ESSEX OFFICE  \n\n\nTuesday \n3/10\n4:00 PM – 6:30 PM\nWalmart Ledgewood \n\n\nThursday\n3/12\n6:30 PM – 8:00 PM\n“Thursday’s” St Patrick’s Celebration ~ ESSEX OFFICE  \n\n\nSaturday\n3/14\n12:00 PM – 2:00 PM\nSt Patrick’s Day Parade – Morristown \n\n\nTuesday\n3/17\n4:00 PM – 6:30 PM\nGod Father Pizzeria- East Hanover\n\n\nThursday\n3/19\n6:30 PM – 8:00 PM\n “Thursday’s” BINGO ~ ESSEX OFFICE  \n\n\nSunday \n3/22\n3:00 PM – 4:00 PM \nSongs of Ireland with Charlie Zahm & Friends \n\n\nTuesday\n3/24\n4:00 PM – 6:30 PM\nSalvation Army – Dover \n\n\nThursday\n3/26\n6:30 PM – 8:00 PM\n“Thursday’s” Mental Health Trivia ~ ESSEX OFFICE  \n\n\nSaturday \n3/28\n10:00AM – 12:00 PM \nShopping Extravaganza with crafts – Hopatcong \n\n\nTuesday \n3/31\n4:00 PM – 6:30 PM\nTarget – Rockaway \n\n\n\n  \n  \n  \nSPACE IS LIMITED!! \nTo register or for more information\, please contact:\nYecenia Revolorio – 973-334-3496 ext. 514\nWeekdays 9:00 AM to 5:00 PM \nLight refreshments will be served.\nPrizes available for winners. \nActivity is subject to change and/or cancel.
URL:https://www.mhainspire.org/event/social-clubs-31/2026-03-12/
CATEGORIES:Social Clubs
END:VEVENT
BEGIN:VEVENT
DTSTART;TZID=America/New_York:20260313T090000
DTEND;TZID=America/New_York:20260313T130000
DTSTAMP:20260423T121739
CREATED:20260224T205306Z
LAST-MODIFIED:20260224T205319Z
UID:10014388-1773392400-1773406800@www.mhainspire.org
SUMMARY:Community Rides - CAP
DESCRIPTION:Community Rides\, from 9 AM to 1 PM. \nLight refreshments will be served.\nSPACE IS LIMITED!! \nTo register for an activity or for more information\, please contact:\nYecenia Revolorio – 973-334-3496 ext. 514 \nWeekdays 9:00 AM to 5:00 PM
URL:https://www.mhainspire.org/event/community-rides-cap-13/
CATEGORIES:Social Clubs
END:VEVENT
BEGIN:VEVENT
DTSTART;TZID=America/New_York:20260314T120000
DTEND;TZID=America/New_York:20260314T140000
DTSTAMP:20260423T121739
CREATED:20260224T203142Z
LAST-MODIFIED:20260224T203537Z
UID:10015629-1773489600-1773496800@www.mhainspire.org
SUMMARY:Social Clubs
DESCRIPTION:March 2026 \n\n\n\nTuesday\n3/3\n4:00 PM – 6:30 PM\nRoss Dress for Less – Rockaway \n\n\nThursday\n3/5\n6:30 PM – 8:00 PM\n“Thursday’s” Art Museum~ ESSEX OFFICE  \n\n\nTuesday \n3/10\n4:00 PM – 6:30 PM\nWalmart Ledgewood \n\n\nThursday\n3/12\n6:30 PM – 8:00 PM\n“Thursday’s” St Patrick’s Celebration ~ ESSEX OFFICE  \n\n\nSaturday\n3/14\n12:00 PM – 2:00 PM\nSt Patrick’s Day Parade – Morristown \n\n\nTuesday\n3/17\n4:00 PM – 6:30 PM\nGod Father Pizzeria- East Hanover\n\n\nThursday\n3/19\n6:30 PM – 8:00 PM\n “Thursday’s” BINGO ~ ESSEX OFFICE  \n\n\nSunday \n3/22\n3:00 PM – 4:00 PM \nSongs of Ireland with Charlie Zahm & Friends \n\n\nTuesday\n3/24\n4:00 PM – 6:30 PM\nSalvation Army – Dover \n\n\nThursday\n3/26\n6:30 PM – 8:00 PM\n“Thursday’s” Mental Health Trivia ~ ESSEX OFFICE  \n\n\nSaturday \n3/28\n10:00AM – 12:00 PM \nShopping Extravaganza with crafts – Hopatcong \n\n\nTuesday \n3/31\n4:00 PM – 6:30 PM\nTarget – Rockaway \n\n\n\n  \n  \n  \nSPACE IS LIMITED!! \nTo register or for more information\, please contact:\nYecenia Revolorio – 973-334-3496 ext. 514\nWeekdays 9:00 AM to 5:00 PM \nLight refreshments will be served.\nPrizes available for winners. \nActivity is subject to change and/or cancel.
URL:https://www.mhainspire.org/event/social-clubs-31/2026-03-14/
CATEGORIES:Social Clubs
END:VEVENT
BEGIN:VEVENT
DTSTART;TZID=America/New_York:20260316T110000
DTEND;TZID=America/New_York:20260316T120000
DTSTAMP:20260423T121739
CREATED:20250623T150120Z
LAST-MODIFIED:20250801T193437Z
UID:10015113-1773658800-1773662400@www.mhainspire.org
SUMMARY:Anytime Fitness - CAP
DESCRIPTION:Anytime Fitness Gym\, every Monday\, from 11  AM to 12  PM.\nLIMIT 5. \nLight refreshments will be served.\nSPACE IS LIMITED!! \nTo register for an activity or for more information\, please contact:\nYecenia Revolorio – 973-334- 3496 ext. 514 \nWeekdays 9:00 AM to 5:00 PM \n***ACTIVITIES SUBJECT TO CHANGE AND/OR CANCELLATION***
URL:https://www.mhainspire.org/event/anytime-fitness-cap-21/2026-03-16/
CATEGORIES:Social Clubs
END:VEVENT
BEGIN:VEVENT
DTSTART;TZID=America/New_York:20260317T090000
DTEND;TZID=America/New_York:20260317T130000
DTSTAMP:20260423T121739
CREATED:20250801T193001Z
LAST-MODIFIED:20250801T193001Z
UID:10014390-1773738000-1773752400@www.mhainspire.org
SUMMARY:Community Rides - CAP
DESCRIPTION:Community Rides\, from 9 AM to 1 PM. \nLight refreshments will be served.\nSPACE IS LIMITED!! \nTo register for an activity or for more information\, please contact:\nYecenia Revolorio – 973-334-3496 ext. 514 \nWeekdays 9:00 AM to 5:00 PM
URL:https://www.mhainspire.org/event/community-rides-cap/2026-03-17/
CATEGORIES:Social Clubs
END:VEVENT
BEGIN:VEVENT
DTSTART;TZID=America/New_York:20260318T113000
DTEND;TZID=America/New_York:20260319T123000
DTSTAMP:20260423T121739
CREATED:20260224T210937Z
LAST-MODIFIED:20260224T211347Z
UID:10015651-1773833400-1773923400@www.mhainspire.org
SUMMARY:St Patrick Activities - CAP
DESCRIPTION:St Patrick Activities at the Parsippany Office \nSPACE IS LIMITED!! \nTo register or for more information\, please contact:\nYecenia Revolorio – 973-334-3496 ext. 514\nWeekdays 9:00 AM to 5:00 PM \nActivity is subject to change and/or cancel.
URL:https://www.mhainspire.org/event/st-patrick-activities-cap/
CATEGORIES:Social Clubs
END:VEVENT
BEGIN:VEVENT
DTSTART;TZID=America/New_York:20260319T110000
DTEND;TZID=America/New_York:20260319T123000
DTSTAMP:20260423T121739
CREATED:20260224T205724Z
LAST-MODIFIED:20260224T205724Z
UID:10015646-1773918000-1773923400@www.mhainspire.org
SUMMARY:Resource Day - CAP
DESCRIPTION:At the Parsippany Office from 11:00 to 12:30 PM \nLight refreshments will be served.\nSPACE IS LIMITED!! \nTo register for an activity or for more information\, please contact:\nYecenia Revolorio – 973-334- 3496 ext. 514 \nWeekdays 9:00 AM to 5:00 PM
URL:https://www.mhainspire.org/event/resource-day-cap-21/
LOCATION:1160 Parisppany Blvd\, 1160 Parsippany Blvd\, Parsippany\, NJ\, 07054\, United States
CATEGORIES:Social Clubs
END:VEVENT
BEGIN:VEVENT
DTSTART;TZID=America/New_York:20260319T183000
DTEND;TZID=America/New_York:20260319T200000
DTSTAMP:20260423T121739
CREATED:20260224T203142Z
LAST-MODIFIED:20260224T203537Z
UID:10015630-1773945000-1773950400@www.mhainspire.org
SUMMARY:Social Clubs
DESCRIPTION:March 2026 \n\n\n\nTuesday\n3/3\n4:00 PM – 6:30 PM\nRoss Dress for Less – Rockaway \n\n\nThursday\n3/5\n6:30 PM – 8:00 PM\n“Thursday’s” Art Museum~ ESSEX OFFICE  \n\n\nTuesday \n3/10\n4:00 PM – 6:30 PM\nWalmart Ledgewood \n\n\nThursday\n3/12\n6:30 PM – 8:00 PM\n“Thursday’s” St Patrick’s Celebration ~ ESSEX OFFICE  \n\n\nSaturday\n3/14\n12:00 PM – 2:00 PM\nSt Patrick’s Day Parade – Morristown \n\n\nTuesday\n3/17\n4:00 PM – 6:30 PM\nGod Father Pizzeria- East Hanover\n\n\nThursday\n3/19\n6:30 PM – 8:00 PM\n “Thursday’s” BINGO ~ ESSEX OFFICE  \n\n\nSunday \n3/22\n3:00 PM – 4:00 PM \nSongs of Ireland with Charlie Zahm & Friends \n\n\nTuesday\n3/24\n4:00 PM – 6:30 PM\nSalvation Army – Dover \n\n\nThursday\n3/26\n6:30 PM – 8:00 PM\n“Thursday’s” Mental Health Trivia ~ ESSEX OFFICE  \n\n\nSaturday \n3/28\n10:00AM – 12:00 PM \nShopping Extravaganza with crafts – Hopatcong \n\n\nTuesday \n3/31\n4:00 PM – 6:30 PM\nTarget – Rockaway \n\n\n\n  \n  \n  \nSPACE IS LIMITED!! \nTo register or for more information\, please contact:\nYecenia Revolorio – 973-334-3496 ext. 514\nWeekdays 9:00 AM to 5:00 PM \nLight refreshments will be served.\nPrizes available for winners. \nActivity is subject to change and/or cancel.
URL:https://www.mhainspire.org/event/social-clubs-31/2026-03-19/
CATEGORIES:Social Clubs
END:VEVENT
END:VCALENDAR