BEGIN:VCALENDAR
VERSION:2.0
PRODID:-//MHA - ECPv6.15.20//NONSGML v1.0//EN
CALSCALE:GREGORIAN
METHOD:PUBLISH
X-WR-CALNAME:MHA
X-ORIGINAL-URL:https://www.mhainspire.org
X-WR-CALDESC:Events for MHA
REFRESH-INTERVAL;VALUE=DURATION:PT1H
X-Robots-Tag:noindex
X-PUBLISHED-TTL:PT1H
BEGIN:VTIMEZONE
TZID:America/New_York
BEGIN:DAYLIGHT
TZOFFSETFROM:-0500
TZOFFSETTO:-0400
TZNAME:EDT
DTSTART:20230312T070000
END:DAYLIGHT
BEGIN:STANDARD
TZOFFSETFROM:-0400
TZOFFSETTO:-0500
TZNAME:EST
DTSTART:20231105T060000
END:STANDARD
BEGIN:DAYLIGHT
TZOFFSETFROM:-0500
TZOFFSETTO:-0400
TZNAME:EDT
DTSTART:20240310T070000
END:DAYLIGHT
BEGIN:STANDARD
TZOFFSETFROM:-0400
TZOFFSETTO:-0500
TZNAME:EST
DTSTART:20241103T060000
END:STANDARD
BEGIN:DAYLIGHT
TZOFFSETFROM:-0500
TZOFFSETTO:-0400
TZNAME:EDT
DTSTART:20250309T070000
END:DAYLIGHT
BEGIN:STANDARD
TZOFFSETFROM:-0400
TZOFFSETTO:-0500
TZNAME:EST
DTSTART:20251102T060000
END:STANDARD
END:VTIMEZONE
BEGIN:VEVENT
DTSTART;TZID=America/New_York:20240702T120000
DTEND;TZID=America/New_York:20240702T133000
DTSTAMP:20260425T071316
CREATED:20240701T150614Z
LAST-MODIFIED:20241231T172310Z
UID:10010285-1719921600-1719927000@www.mhainspire.org
SUMMARY:Comfort Zone
DESCRIPTION:Comfort Zone is a drop-in support group for anyone with a mood disorder. It’s a time for people to check in and share how things have been going and gain and provide supportive feedback. \n\n\n \n\n\nIt is free\, open to anyone who thinks they’d benefit\, and is facilitated by a trained staff member. \n\nThe group is from 12 PM – 1 PM in person on Tuesdays and 12 PM – 1:30 PM via ZOOM on Fridays. \n\n\n \n\n\nTo register and/or questions\, email comfortzone@mhainspire.org\n\n  \n 
URL:https://www.mhainspire.org/event/comfort-zone-2/2024-07-02/
LOCATION:Mental Health Association\, 33 South Fullerton Avenue\, Montclair\, NJ\, 07042
CATEGORIES:Support Groups
END:VEVENT
BEGIN:VEVENT
DTSTART;TZID=America/New_York:20240702T150000
DTEND;TZID=America/New_York:20240702T163000
DTSTAMP:20260425T071316
CREATED:20211101T183642Z
LAST-MODIFIED:20240328T155024Z
UID:10006184-1719932400-1719937800@www.mhainspire.org
SUMMARY:Family and Consumer Connection Group
DESCRIPTION:A professionally facilitated group where families and consumers come together to discuss and problem-solve challenges in a supportive environment. Goals of the group include providing support to families as well as improving communication within the family and strengthening socialization. \n  \nIf you wish to participate in The Family and Consumer Connection group\, please reach out to Eileen Strungis at EStrungis@mhainspire.org.
URL:https://www.mhainspire.org/event/family-and-consumer-connection-group-2/2024-07-02/
LOCATION:Virtual
CATEGORIES:Support Groups
END:VEVENT
BEGIN:VEVENT
DTSTART;TZID=America/New_York:20240705T120000
DTEND;TZID=America/New_York:20240705T133000
DTSTAMP:20260425T071316
CREATED:20240701T150614Z
LAST-MODIFIED:20241231T172310Z
UID:10010286-1720180800-1720186200@www.mhainspire.org
SUMMARY:Comfort Zone
DESCRIPTION:Comfort Zone is a drop-in support group for anyone with a mood disorder. It’s a time for people to check in and share how things have been going and gain and provide supportive feedback. \n\n\n \n\n\nIt is free\, open to anyone who thinks they’d benefit\, and is facilitated by a trained staff member. \n\nThe group is from 12 PM – 1 PM in person on Tuesdays and 12 PM – 1:30 PM via ZOOM on Fridays. \n\n\n \n\n\nTo register and/or questions\, email comfortzone@mhainspire.org\n\n  \n 
URL:https://www.mhainspire.org/event/comfort-zone-2/2024-07-05/
LOCATION:Mental Health Association\, 33 South Fullerton Avenue\, Montclair\, NJ\, 07042
CATEGORIES:Support Groups
END:VEVENT
BEGIN:VEVENT
DTSTART;TZID=America/New_York:20240709T120000
DTEND;TZID=America/New_York:20240709T133000
DTSTAMP:20260425T071316
CREATED:20240701T150614Z
LAST-MODIFIED:20241231T172310Z
UID:10010287-1720526400-1720531800@www.mhainspire.org
SUMMARY:Comfort Zone
DESCRIPTION:Comfort Zone is a drop-in support group for anyone with a mood disorder. It’s a time for people to check in and share how things have been going and gain and provide supportive feedback. \n\n\n \n\n\nIt is free\, open to anyone who thinks they’d benefit\, and is facilitated by a trained staff member. \n\nThe group is from 12 PM – 1 PM in person on Tuesdays and 12 PM – 1:30 PM via ZOOM on Fridays. \n\n\n \n\n\nTo register and/or questions\, email comfortzone@mhainspire.org\n\n  \n 
URL:https://www.mhainspire.org/event/comfort-zone-2/2024-07-09/
LOCATION:Mental Health Association\, 33 South Fullerton Avenue\, Montclair\, NJ\, 07042
CATEGORIES:Support Groups
END:VEVENT
BEGIN:VEVENT
DTSTART;TZID=America/New_York:20240712T120000
DTEND;TZID=America/New_York:20240712T133000
DTSTAMP:20260425T071316
CREATED:20240701T150614Z
LAST-MODIFIED:20241231T172310Z
UID:10010288-1720785600-1720791000@www.mhainspire.org
SUMMARY:Comfort Zone
DESCRIPTION:Comfort Zone is a drop-in support group for anyone with a mood disorder. It’s a time for people to check in and share how things have been going and gain and provide supportive feedback. \n\n\n \n\n\nIt is free\, open to anyone who thinks they’d benefit\, and is facilitated by a trained staff member. \n\nThe group is from 12 PM – 1 PM in person on Tuesdays and 12 PM – 1:30 PM via ZOOM on Fridays. \n\n\n \n\n\nTo register and/or questions\, email comfortzone@mhainspire.org\n\n  \n 
URL:https://www.mhainspire.org/event/comfort-zone-2/2024-07-12/
LOCATION:Mental Health Association\, 33 South Fullerton Avenue\, Montclair\, NJ\, 07042
CATEGORIES:Support Groups
END:VEVENT
BEGIN:VEVENT
DTSTART;TZID=America/New_York:20240716T120000
DTEND;TZID=America/New_York:20240716T133000
DTSTAMP:20260425T071316
CREATED:20240701T150614Z
LAST-MODIFIED:20241231T172310Z
UID:10010289-1721131200-1721136600@www.mhainspire.org
SUMMARY:Comfort Zone
DESCRIPTION:Comfort Zone is a drop-in support group for anyone with a mood disorder. It’s a time for people to check in and share how things have been going and gain and provide supportive feedback. \n\n\n \n\n\nIt is free\, open to anyone who thinks they’d benefit\, and is facilitated by a trained staff member. \n\nThe group is from 12 PM – 1 PM in person on Tuesdays and 12 PM – 1:30 PM via ZOOM on Fridays. \n\n\n \n\n\nTo register and/or questions\, email comfortzone@mhainspire.org\n\n  \n 
URL:https://www.mhainspire.org/event/comfort-zone-2/2024-07-16/
LOCATION:Mental Health Association\, 33 South Fullerton Avenue\, Montclair\, NJ\, 07042
CATEGORIES:Support Groups
END:VEVENT
BEGIN:VEVENT
DTSTART;TZID=America/New_York:20240716T130000
DTEND;TZID=America/New_York:20240716T140000
DTSTAMP:20260425T071316
CREATED:20240705T152433Z
LAST-MODIFIED:20240705T152433Z
UID:10010810-1721134800-1721138400@www.mhainspire.org
SUMMARY:How To Handle A Crisis: A Discussion
DESCRIPTION:How to Handle a Crisis: A Discussion\nGuest speaker Michael Dougherty of Clara Maas Psychiatric Screening Services will be at 33 South Fullerton Avenue\, Montclair in person to meet with families\, review the crisis screening process\, answer questions\, and have a discussion with our interested families. \n  \nRSVPs are encouraged: rfolzenlogen@mhainspire.org \n 
URL:https://www.mhainspire.org/event/how-to-handle-a-crisis-a-discussion/
LOCATION:Mental Health Association\, 33 South Fullerton Avenue\, Montclair\, NJ\, 07042
CATEGORIES:Support Groups
END:VEVENT
BEGIN:VEVENT
DTSTART;TZID=America/New_York:20240717T190000
DTEND;TZID=America/New_York:20240717T203000
DTSTAMP:20260425T071316
CREATED:20230805T004836Z
LAST-MODIFIED:20250311T152134Z
UID:10006578-1721242800-1721248200@www.mhainspire.org
SUMMARY:Family Support Group - Wednesday Evening
DESCRIPTION: This year-round group meets every 1st and 3rd Wednesday evening of the month and is designed for family members (parents\, spouse\, siblings\, adult offspring) of people with mental illness\, to gain support and perspective about mental illness in the family\, in a facilitated\, confidential discussion group.  \n  \nFor information\, contact Renee at  RFolzenlogen@mhainspire.org.   \n  \nhttps://us06web.zoom.us/j/82562980889?pwd=5G6cheDKDb6FkPokpmAzalJGgSTOqM.1 \nMeeting ID: 825 6298 0889 \nPasscode: 270412 
URL:https://www.mhainspire.org/event/family-support-group-wednesday-evening-3rd/2024-07-17/
LOCATION:Virtual
CATEGORIES:Support Groups
END:VEVENT
BEGIN:VEVENT
DTSTART;TZID=America/New_York:20240719T120000
DTEND;TZID=America/New_York:20240719T133000
DTSTAMP:20260425T071316
CREATED:20240701T150614Z
LAST-MODIFIED:20241231T172310Z
UID:10010290-1721390400-1721395800@www.mhainspire.org
SUMMARY:Comfort Zone
DESCRIPTION:Comfort Zone is a drop-in support group for anyone with a mood disorder. It’s a time for people to check in and share how things have been going and gain and provide supportive feedback. \n\n\n \n\n\nIt is free\, open to anyone who thinks they’d benefit\, and is facilitated by a trained staff member. \n\nThe group is from 12 PM – 1 PM in person on Tuesdays and 12 PM – 1:30 PM via ZOOM on Fridays. \n\n\n \n\n\nTo register and/or questions\, email comfortzone@mhainspire.org\n\n  \n 
URL:https://www.mhainspire.org/event/comfort-zone-2/2024-07-19/
LOCATION:Mental Health Association\, 33 South Fullerton Avenue\, Montclair\, NJ\, 07042
CATEGORIES:Support Groups
END:VEVENT
BEGIN:VEVENT
DTSTART;TZID=America/New_York:20240723T120000
DTEND;TZID=America/New_York:20240723T133000
DTSTAMP:20260425T071316
CREATED:20240701T150614Z
LAST-MODIFIED:20241231T172310Z
UID:10010291-1721736000-1721741400@www.mhainspire.org
SUMMARY:Comfort Zone
DESCRIPTION:Comfort Zone is a drop-in support group for anyone with a mood disorder. It’s a time for people to check in and share how things have been going and gain and provide supportive feedback. \n\n\n \n\n\nIt is free\, open to anyone who thinks they’d benefit\, and is facilitated by a trained staff member. \n\nThe group is from 12 PM – 1 PM in person on Tuesdays and 12 PM – 1:30 PM via ZOOM on Fridays. \n\n\n \n\n\nTo register and/or questions\, email comfortzone@mhainspire.org\n\n  \n 
URL:https://www.mhainspire.org/event/comfort-zone-2/2024-07-23/
LOCATION:Mental Health Association\, 33 South Fullerton Avenue\, Montclair\, NJ\, 07042
CATEGORIES:Support Groups
END:VEVENT
BEGIN:VEVENT
DTSTART;TZID=America/New_York:20240726T120000
DTEND;TZID=America/New_York:20240726T133000
DTSTAMP:20260425T071316
CREATED:20240701T150614Z
LAST-MODIFIED:20241231T172310Z
UID:10010292-1721995200-1722000600@www.mhainspire.org
SUMMARY:Comfort Zone
DESCRIPTION:Comfort Zone is a drop-in support group for anyone with a mood disorder. It’s a time for people to check in and share how things have been going and gain and provide supportive feedback. \n\n\n \n\n\nIt is free\, open to anyone who thinks they’d benefit\, and is facilitated by a trained staff member. \n\nThe group is from 12 PM – 1 PM in person on Tuesdays and 12 PM – 1:30 PM via ZOOM on Fridays. \n\n\n \n\n\nTo register and/or questions\, email comfortzone@mhainspire.org\n\n  \n 
URL:https://www.mhainspire.org/event/comfort-zone-2/2024-07-26/
LOCATION:Mental Health Association\, 33 South Fullerton Avenue\, Montclair\, NJ\, 07042
CATEGORIES:Support Groups
END:VEVENT
BEGIN:VEVENT
DTSTART;TZID=America/New_York:20240729T190000
DTEND;TZID=America/New_York:20240729T203000
DTSTAMP:20260425T071316
CREATED:20211101T175706Z
LAST-MODIFIED:20250307T165604Z
UID:10006475-1722279600-1722285000@www.mhainspire.org
SUMMARY:Monthly Support Group - Siblings Only
DESCRIPTION:Siblings Only Monthly Support Group meets on the last Monday of each month \nfrom 7:00 pm to 8:30 pm. The Siblings Only Group is specifically designed for\nadult siblings of individuals with mental illness\, and addresses the unique\nexperiences and challenges faced by individuals in this family role. \nTo register contact Renee Folzenlogen at rfolzenlogen@mhainspire.org \nNew families are always welcome.\nThere is no fee for any of the groups
URL:https://www.mhainspire.org/event/siblings-only-monthly-support-group/2024-07-29/
LOCATION:Virtual
CATEGORIES:Support Groups
END:VEVENT
BEGIN:VEVENT
DTSTART;TZID=America/New_York:20240730T120000
DTEND;TZID=America/New_York:20240730T133000
DTSTAMP:20260425T071316
CREATED:20240701T150614Z
LAST-MODIFIED:20241231T172310Z
UID:10010293-1722340800-1722346200@www.mhainspire.org
SUMMARY:Comfort Zone
DESCRIPTION:Comfort Zone is a drop-in support group for anyone with a mood disorder. It’s a time for people to check in and share how things have been going and gain and provide supportive feedback. \n\n\n \n\n\nIt is free\, open to anyone who thinks they’d benefit\, and is facilitated by a trained staff member. \n\nThe group is from 12 PM – 1 PM in person on Tuesdays and 12 PM – 1:30 PM via ZOOM on Fridays. \n\n\n \n\n\nTo register and/or questions\, email comfortzone@mhainspire.org\n\n  \n 
URL:https://www.mhainspire.org/event/comfort-zone-2/2024-07-30/
LOCATION:Mental Health Association\, 33 South Fullerton Avenue\, Montclair\, NJ\, 07042
CATEGORIES:Support Groups
END:VEVENT
BEGIN:VEVENT
DTSTART;TZID=America/New_York:20240802T120000
DTEND;TZID=America/New_York:20240802T133000
DTSTAMP:20260425T071316
CREATED:20240701T150614Z
LAST-MODIFIED:20241231T172310Z
UID:10010294-1722600000-1722605400@www.mhainspire.org
SUMMARY:Comfort Zone
DESCRIPTION:Comfort Zone is a drop-in support group for anyone with a mood disorder. It’s a time for people to check in and share how things have been going and gain and provide supportive feedback. \n\n\n \n\n\nIt is free\, open to anyone who thinks they’d benefit\, and is facilitated by a trained staff member. \n\nThe group is from 12 PM – 1 PM in person on Tuesdays and 12 PM – 1:30 PM via ZOOM on Fridays. \n\n\n \n\n\nTo register and/or questions\, email comfortzone@mhainspire.org\n\n  \n 
URL:https://www.mhainspire.org/event/comfort-zone-2/2024-08-02/
LOCATION:Mental Health Association\, 33 South Fullerton Avenue\, Montclair\, NJ\, 07042
CATEGORIES:Support Groups
END:VEVENT
BEGIN:VEVENT
DTSTART;TZID=America/New_York:20240806T120000
DTEND;TZID=America/New_York:20240806T133000
DTSTAMP:20260425T071316
CREATED:20240701T150614Z
LAST-MODIFIED:20241231T172310Z
UID:10010295-1722945600-1722951000@www.mhainspire.org
SUMMARY:Comfort Zone
DESCRIPTION:Comfort Zone is a drop-in support group for anyone with a mood disorder. It’s a time for people to check in and share how things have been going and gain and provide supportive feedback. \n\n\n \n\n\nIt is free\, open to anyone who thinks they’d benefit\, and is facilitated by a trained staff member. \n\nThe group is from 12 PM – 1 PM in person on Tuesdays and 12 PM – 1:30 PM via ZOOM on Fridays. \n\n\n \n\n\nTo register and/or questions\, email comfortzone@mhainspire.org\n\n  \n 
URL:https://www.mhainspire.org/event/comfort-zone-2/2024-08-06/
LOCATION:Mental Health Association\, 33 South Fullerton Avenue\, Montclair\, NJ\, 07042
CATEGORIES:Support Groups
END:VEVENT
BEGIN:VEVENT
DTSTART;TZID=America/New_York:20240806T150000
DTEND;TZID=America/New_York:20240806T163000
DTSTAMP:20260425T071316
CREATED:20211101T183642Z
LAST-MODIFIED:20240328T155024Z
UID:10006185-1722956400-1722961800@www.mhainspire.org
SUMMARY:Family and Consumer Connection Group
DESCRIPTION:A professionally facilitated group where families and consumers come together to discuss and problem-solve challenges in a supportive environment. Goals of the group include providing support to families as well as improving communication within the family and strengthening socialization. \n  \nIf you wish to participate in The Family and Consumer Connection group\, please reach out to Eileen Strungis at EStrungis@mhainspire.org.
URL:https://www.mhainspire.org/event/family-and-consumer-connection-group-2/2024-08-06/
LOCATION:Virtual
CATEGORIES:Support Groups
END:VEVENT
BEGIN:VEVENT
DTSTART;TZID=America/New_York:20240809T120000
DTEND;TZID=America/New_York:20240809T133000
DTSTAMP:20260425T071316
CREATED:20240701T150614Z
LAST-MODIFIED:20241231T172310Z
UID:10010296-1723204800-1723210200@www.mhainspire.org
SUMMARY:Comfort Zone
DESCRIPTION:Comfort Zone is a drop-in support group for anyone with a mood disorder. It’s a time for people to check in and share how things have been going and gain and provide supportive feedback. \n\n\n \n\n\nIt is free\, open to anyone who thinks they’d benefit\, and is facilitated by a trained staff member. \n\nThe group is from 12 PM – 1 PM in person on Tuesdays and 12 PM – 1:30 PM via ZOOM on Fridays. \n\n\n \n\n\nTo register and/or questions\, email comfortzone@mhainspire.org\n\n  \n 
URL:https://www.mhainspire.org/event/comfort-zone-2/2024-08-09/
LOCATION:Mental Health Association\, 33 South Fullerton Avenue\, Montclair\, NJ\, 07042
CATEGORIES:Support Groups
END:VEVENT
BEGIN:VEVENT
DTSTART;TZID=America/New_York:20240813T120000
DTEND;TZID=America/New_York:20240813T133000
DTSTAMP:20260425T071316
CREATED:20240701T150614Z
LAST-MODIFIED:20241231T172310Z
UID:10010297-1723550400-1723555800@www.mhainspire.org
SUMMARY:Comfort Zone
DESCRIPTION:Comfort Zone is a drop-in support group for anyone with a mood disorder. It’s a time for people to check in and share how things have been going and gain and provide supportive feedback. \n\n\n \n\n\nIt is free\, open to anyone who thinks they’d benefit\, and is facilitated by a trained staff member. \n\nThe group is from 12 PM – 1 PM in person on Tuesdays and 12 PM – 1:30 PM via ZOOM on Fridays. \n\n\n \n\n\nTo register and/or questions\, email comfortzone@mhainspire.org\n\n  \n 
URL:https://www.mhainspire.org/event/comfort-zone-2/2024-08-13/
LOCATION:Mental Health Association\, 33 South Fullerton Avenue\, Montclair\, NJ\, 07042
CATEGORIES:Support Groups
END:VEVENT
BEGIN:VEVENT
DTSTART;TZID=America/New_York:20240816T120000
DTEND;TZID=America/New_York:20240816T133000
DTSTAMP:20260425T071316
CREATED:20240701T150614Z
LAST-MODIFIED:20241231T172310Z
UID:10010298-1723809600-1723815000@www.mhainspire.org
SUMMARY:Comfort Zone
DESCRIPTION:Comfort Zone is a drop-in support group for anyone with a mood disorder. It’s a time for people to check in and share how things have been going and gain and provide supportive feedback. \n\n\n \n\n\nIt is free\, open to anyone who thinks they’d benefit\, and is facilitated by a trained staff member. \n\nThe group is from 12 PM – 1 PM in person on Tuesdays and 12 PM – 1:30 PM via ZOOM on Fridays. \n\n\n \n\n\nTo register and/or questions\, email comfortzone@mhainspire.org\n\n  \n 
URL:https://www.mhainspire.org/event/comfort-zone-2/2024-08-16/
LOCATION:Mental Health Association\, 33 South Fullerton Avenue\, Montclair\, NJ\, 07042
CATEGORIES:Support Groups
END:VEVENT
BEGIN:VEVENT
DTSTART;TZID=America/New_York:20240820T120000
DTEND;TZID=America/New_York:20240820T133000
DTSTAMP:20260425T071316
CREATED:20240701T150614Z
LAST-MODIFIED:20241231T172310Z
UID:10010299-1724155200-1724160600@www.mhainspire.org
SUMMARY:Comfort Zone
DESCRIPTION:Comfort Zone is a drop-in support group for anyone with a mood disorder. It’s a time for people to check in and share how things have been going and gain and provide supportive feedback. \n\n\n \n\n\nIt is free\, open to anyone who thinks they’d benefit\, and is facilitated by a trained staff member. \n\nThe group is from 12 PM – 1 PM in person on Tuesdays and 12 PM – 1:30 PM via ZOOM on Fridays. \n\n\n \n\n\nTo register and/or questions\, email comfortzone@mhainspire.org\n\n  \n 
URL:https://www.mhainspire.org/event/comfort-zone-2/2024-08-20/
LOCATION:Mental Health Association\, 33 South Fullerton Avenue\, Montclair\, NJ\, 07042
CATEGORIES:Support Groups
END:VEVENT
BEGIN:VEVENT
DTSTART;TZID=America/New_York:20240821T190000
DTEND;TZID=America/New_York:20240821T203000
DTSTAMP:20260425T071316
CREATED:20230805T004836Z
LAST-MODIFIED:20250311T152134Z
UID:10006579-1724266800-1724272200@www.mhainspire.org
SUMMARY:Family Support Group - Wednesday Evening
DESCRIPTION: This year-round group meets every 1st and 3rd Wednesday evening of the month and is designed for family members (parents\, spouse\, siblings\, adult offspring) of people with mental illness\, to gain support and perspective about mental illness in the family\, in a facilitated\, confidential discussion group.  \n  \nFor information\, contact Renee at  RFolzenlogen@mhainspire.org.   \n  \nhttps://us06web.zoom.us/j/82562980889?pwd=5G6cheDKDb6FkPokpmAzalJGgSTOqM.1 \nMeeting ID: 825 6298 0889 \nPasscode: 270412 
URL:https://www.mhainspire.org/event/family-support-group-wednesday-evening-3rd/2024-08-21/
LOCATION:Virtual
CATEGORIES:Support Groups
END:VEVENT
BEGIN:VEVENT
DTSTART;TZID=America/New_York:20240823T120000
DTEND;TZID=America/New_York:20240823T133000
DTSTAMP:20260425T071316
CREATED:20240701T150614Z
LAST-MODIFIED:20241231T172310Z
UID:10010300-1724414400-1724419800@www.mhainspire.org
SUMMARY:Comfort Zone
DESCRIPTION:Comfort Zone is a drop-in support group for anyone with a mood disorder. It’s a time for people to check in and share how things have been going and gain and provide supportive feedback. \n\n\n \n\n\nIt is free\, open to anyone who thinks they’d benefit\, and is facilitated by a trained staff member. \n\nThe group is from 12 PM – 1 PM in person on Tuesdays and 12 PM – 1:30 PM via ZOOM on Fridays. \n\n\n \n\n\nTo register and/or questions\, email comfortzone@mhainspire.org\n\n  \n 
URL:https://www.mhainspire.org/event/comfort-zone-2/2024-08-23/
LOCATION:Mental Health Association\, 33 South Fullerton Avenue\, Montclair\, NJ\, 07042
CATEGORIES:Support Groups
END:VEVENT
BEGIN:VEVENT
DTSTART;TZID=America/New_York:20240826T190000
DTEND;TZID=America/New_York:20240826T203000
DTSTAMP:20260425T071316
CREATED:20211101T175706Z
LAST-MODIFIED:20250307T165604Z
UID:10006476-1724698800-1724704200@www.mhainspire.org
SUMMARY:Monthly Support Group - Siblings Only
DESCRIPTION:Siblings Only Monthly Support Group meets on the last Monday of each month \nfrom 7:00 pm to 8:30 pm. The Siblings Only Group is specifically designed for\nadult siblings of individuals with mental illness\, and addresses the unique\nexperiences and challenges faced by individuals in this family role. \nTo register contact Renee Folzenlogen at rfolzenlogen@mhainspire.org \nNew families are always welcome.\nThere is no fee for any of the groups
URL:https://www.mhainspire.org/event/siblings-only-monthly-support-group/2024-08-26/
LOCATION:Virtual
CATEGORIES:Support Groups
END:VEVENT
BEGIN:VEVENT
DTSTART;TZID=America/New_York:20240827T120000
DTEND;TZID=America/New_York:20240827T133000
DTSTAMP:20260425T071316
CREATED:20240701T150614Z
LAST-MODIFIED:20241231T172310Z
UID:10010301-1724760000-1724765400@www.mhainspire.org
SUMMARY:Comfort Zone
DESCRIPTION:Comfort Zone is a drop-in support group for anyone with a mood disorder. It’s a time for people to check in and share how things have been going and gain and provide supportive feedback. \n\n\n \n\n\nIt is free\, open to anyone who thinks they’d benefit\, and is facilitated by a trained staff member. \n\nThe group is from 12 PM – 1 PM in person on Tuesdays and 12 PM – 1:30 PM via ZOOM on Fridays. \n\n\n \n\n\nTo register and/or questions\, email comfortzone@mhainspire.org\n\n  \n 
URL:https://www.mhainspire.org/event/comfort-zone-2/2024-08-27/
LOCATION:Mental Health Association\, 33 South Fullerton Avenue\, Montclair\, NJ\, 07042
CATEGORIES:Support Groups
END:VEVENT
BEGIN:VEVENT
DTSTART;TZID=America/New_York:20240830T120000
DTEND;TZID=America/New_York:20240830T133000
DTSTAMP:20260425T071316
CREATED:20240701T150614Z
LAST-MODIFIED:20241231T172310Z
UID:10010302-1725019200-1725024600@www.mhainspire.org
SUMMARY:Comfort Zone
DESCRIPTION:Comfort Zone is a drop-in support group for anyone with a mood disorder. It’s a time for people to check in and share how things have been going and gain and provide supportive feedback. \n\n\n \n\n\nIt is free\, open to anyone who thinks they’d benefit\, and is facilitated by a trained staff member. \n\nThe group is from 12 PM – 1 PM in person on Tuesdays and 12 PM – 1:30 PM via ZOOM on Fridays. \n\n\n \n\n\nTo register and/or questions\, email comfortzone@mhainspire.org\n\n  \n 
URL:https://www.mhainspire.org/event/comfort-zone-2/2024-08-30/
LOCATION:Mental Health Association\, 33 South Fullerton Avenue\, Montclair\, NJ\, 07042
CATEGORIES:Support Groups
END:VEVENT
BEGIN:VEVENT
DTSTART;TZID=America/New_York:20240903T120000
DTEND;TZID=America/New_York:20240903T133000
DTSTAMP:20260425T071316
CREATED:20240701T150614Z
LAST-MODIFIED:20241231T172310Z
UID:10010303-1725364800-1725370200@www.mhainspire.org
SUMMARY:Comfort Zone
DESCRIPTION:Comfort Zone is a drop-in support group for anyone with a mood disorder. It’s a time for people to check in and share how things have been going and gain and provide supportive feedback. \n\n\n \n\n\nIt is free\, open to anyone who thinks they’d benefit\, and is facilitated by a trained staff member. \n\nThe group is from 12 PM – 1 PM in person on Tuesdays and 12 PM – 1:30 PM via ZOOM on Fridays. \n\n\n \n\n\nTo register and/or questions\, email comfortzone@mhainspire.org\n\n  \n 
URL:https://www.mhainspire.org/event/comfort-zone-2/2024-09-03/
LOCATION:Mental Health Association\, 33 South Fullerton Avenue\, Montclair\, NJ\, 07042
CATEGORIES:Support Groups
END:VEVENT
BEGIN:VEVENT
DTSTART;TZID=America/New_York:20240903T150000
DTEND;TZID=America/New_York:20240903T163000
DTSTAMP:20260425T071316
CREATED:20211101T183642Z
LAST-MODIFIED:20240328T155024Z
UID:10006186-1725375600-1725381000@www.mhainspire.org
SUMMARY:Family and Consumer Connection Group
DESCRIPTION:A professionally facilitated group where families and consumers come together to discuss and problem-solve challenges in a supportive environment. Goals of the group include providing support to families as well as improving communication within the family and strengthening socialization. \n  \nIf you wish to participate in The Family and Consumer Connection group\, please reach out to Eileen Strungis at EStrungis@mhainspire.org.
URL:https://www.mhainspire.org/event/family-and-consumer-connection-group-2/2024-09-03/
LOCATION:Virtual
CATEGORIES:Support Groups
END:VEVENT
BEGIN:VEVENT
DTSTART;TZID=America/New_York:20240906T120000
DTEND;TZID=America/New_York:20240906T133000
DTSTAMP:20260425T071316
CREATED:20240701T150614Z
LAST-MODIFIED:20241231T172310Z
UID:10010304-1725624000-1725629400@www.mhainspire.org
SUMMARY:Comfort Zone
DESCRIPTION:Comfort Zone is a drop-in support group for anyone with a mood disorder. It’s a time for people to check in and share how things have been going and gain and provide supportive feedback. \n\n\n \n\n\nIt is free\, open to anyone who thinks they’d benefit\, and is facilitated by a trained staff member. \n\nThe group is from 12 PM – 1 PM in person on Tuesdays and 12 PM – 1:30 PM via ZOOM on Fridays. \n\n\n \n\n\nTo register and/or questions\, email comfortzone@mhainspire.org\n\n  \n 
URL:https://www.mhainspire.org/event/comfort-zone-2/2024-09-06/
LOCATION:Mental Health Association\, 33 South Fullerton Avenue\, Montclair\, NJ\, 07042
CATEGORIES:Support Groups
END:VEVENT
BEGIN:VEVENT
DTSTART;TZID=America/New_York:20240910T120000
DTEND;TZID=America/New_York:20240910T133000
DTSTAMP:20260425T071316
CREATED:20240701T150614Z
LAST-MODIFIED:20241231T172310Z
UID:10010305-1725969600-1725975000@www.mhainspire.org
SUMMARY:Comfort Zone
DESCRIPTION:Comfort Zone is a drop-in support group for anyone with a mood disorder. It’s a time for people to check in and share how things have been going and gain and provide supportive feedback. \n\n\n \n\n\nIt is free\, open to anyone who thinks they’d benefit\, and is facilitated by a trained staff member. \n\nThe group is from 12 PM – 1 PM in person on Tuesdays and 12 PM – 1:30 PM via ZOOM on Fridays. \n\n\n \n\n\nTo register and/or questions\, email comfortzone@mhainspire.org\n\n  \n 
URL:https://www.mhainspire.org/event/comfort-zone-2/2024-09-10/
LOCATION:Mental Health Association\, 33 South Fullerton Avenue\, Montclair\, NJ\, 07042
CATEGORIES:Support Groups
END:VEVENT
BEGIN:VEVENT
DTSTART;TZID=America/New_York:20240913T103000
DTEND;TZID=America/New_York:20240913T120000
DTSTAMP:20260425T071316
CREATED:20240916T142317Z
LAST-MODIFIED:20240916T142319Z
UID:10010821-1726223400-1726228800@www.mhainspire.org
SUMMARY:Family Chat Fridays
DESCRIPTION:At our Annual Tea Party\, we heard that families would like more opportunities for social time in a stigma free\, relaxing space. \nThis summer\, IFSS has reserved space at our Montclair offices on five Friday mornings for family caregivers to gather. \nDesigned as a social drop-in time\, we will have relaxing music\, refreshing beverages like lemonade\, sparkling water\, iced tea\, and easy conversation.\nIf you wish\, we invite participants to bring light snacks of your choice to share. \nThis social time is designed for individuals with a family member who is living with a mental health condition. \nRSVPs encouraged\, drop ins welcome! Email rfolzenlogen@mhainspire.org \n  \nWhere:\nIn person at 33 S. Fullerton Ave\, Montclair\, NJ\nConference Room First Floor
URL:https://www.mhainspire.org/event/family-chat-fridays-2/2024-09-13/
CATEGORIES:Support Groups
END:VEVENT
END:VCALENDAR