BEGIN:VCALENDAR
VERSION:2.0
PRODID:-//MHA - ECPv6.15.20//NONSGML v1.0//EN
CALSCALE:GREGORIAN
METHOD:PUBLISH
X-WR-CALNAME:MHA
X-ORIGINAL-URL:https://www.mhainspire.org
X-WR-CALDESC:Events for MHA
REFRESH-INTERVAL;VALUE=DURATION:PT1H
X-Robots-Tag:noindex
X-PUBLISHED-TTL:PT1H
BEGIN:VTIMEZONE
TZID:America/New_York
BEGIN:DAYLIGHT
TZOFFSETFROM:-0500
TZOFFSETTO:-0400
TZNAME:EDT
DTSTART:20250309T070000
END:DAYLIGHT
BEGIN:STANDARD
TZOFFSETFROM:-0400
TZOFFSETTO:-0500
TZNAME:EST
DTSTART:20251102T060000
END:STANDARD
BEGIN:DAYLIGHT
TZOFFSETFROM:-0500
TZOFFSETTO:-0400
TZNAME:EDT
DTSTART:20260308T070000
END:DAYLIGHT
BEGIN:STANDARD
TZOFFSETFROM:-0400
TZOFFSETTO:-0500
TZNAME:EST
DTSTART:20261101T060000
END:STANDARD
BEGIN:DAYLIGHT
TZOFFSETFROM:-0500
TZOFFSETTO:-0400
TZNAME:EDT
DTSTART:20270314T070000
END:DAYLIGHT
BEGIN:STANDARD
TZOFFSETFROM:-0400
TZOFFSETTO:-0500
TZNAME:EST
DTSTART:20271107T060000
END:STANDARD
BEGIN:DAYLIGHT
TZOFFSETFROM:-0500
TZOFFSETTO:-0400
TZNAME:EDT
DTSTART:20280312T070000
END:DAYLIGHT
BEGIN:STANDARD
TZOFFSETFROM:-0400
TZOFFSETTO:-0500
TZNAME:EST
DTSTART:20281105T060000
END:STANDARD
BEGIN:DAYLIGHT
TZOFFSETFROM:-0500
TZOFFSETTO:-0400
TZNAME:EDT
DTSTART:20290311T070000
END:DAYLIGHT
BEGIN:STANDARD
TZOFFSETFROM:-0400
TZOFFSETTO:-0500
TZNAME:EST
DTSTART:20291104T060000
END:STANDARD
END:VTIMEZONE
BEGIN:VEVENT
DTSTART;TZID=America/New_York:20260505T150000
DTEND;TZID=America/New_York:20260505T163000
DTSTAMP:20260419T131812
CREATED:20250307T161438Z
LAST-MODIFIED:20250307T162036Z
UID:10011923-1777993200-1777998600@www.mhainspire.org
SUMMARY:Family and Consumer Connection Group
DESCRIPTION:Family and Consumer Connection Group: A professionally facilitated group where\nfamilies and consumers come together to discuss and problem-solve challenges in a\nsupportive environment. Goals of the group include providing support\, improving\ncommunication\, and strengthening socialization. This group meets on the 1st and \n3rd Tuesday of the month from 3:00pm to 4:15pm Participation requires an\norientation process. If you wish to participate in The Family and Consumer\nConnection group\, please reach out to Eileen Strungis at (973) 509-9777\, x 123\, or\nemail her at estrungis@mhainspire.org
URL:https://www.mhainspire.org/event/family-and-consumer-connection-group-2-2/2026-05-05/
LOCATION:Virtual
CATEGORIES:Support Groups
END:VEVENT
BEGIN:VEVENT
DTSTART;TZID=America/New_York:20260525T080000
DTEND;TZID=America/New_York:20260525T170000
DTSTAMP:20260419T131812
CREATED:20251028T144153Z
LAST-MODIFIED:20251028T144153Z
UID:10015441-1779696000-1779728400@www.mhainspire.org
SUMMARY:MHA CLOSED
DESCRIPTION:MHA is closed on May 25th in observance of Memorial Day.
URL:https://www.mhainspire.org/event/mha-closed-13/
CATEGORIES:Community Events,Community Programs,Fundraising Events,MHA General Events,NJ4S,Social Clubs,Support Groups
END:VEVENT
BEGIN:VEVENT
DTSTART;TZID=America/New_York:20260602T150000
DTEND;TZID=America/New_York:20260602T163000
DTSTAMP:20260419T131812
CREATED:20250307T161438Z
LAST-MODIFIED:20250307T162036Z
UID:10011924-1780412400-1780417800@www.mhainspire.org
SUMMARY:Family and Consumer Connection Group
DESCRIPTION:Family and Consumer Connection Group: A professionally facilitated group where\nfamilies and consumers come together to discuss and problem-solve challenges in a\nsupportive environment. Goals of the group include providing support\, improving\ncommunication\, and strengthening socialization. This group meets on the 1st and \n3rd Tuesday of the month from 3:00pm to 4:15pm Participation requires an\norientation process. If you wish to participate in The Family and Consumer\nConnection group\, please reach out to Eileen Strungis at (973) 509-9777\, x 123\, or\nemail her at estrungis@mhainspire.org
URL:https://www.mhainspire.org/event/family-and-consumer-connection-group-2-2/2026-06-02/
LOCATION:Virtual
CATEGORIES:Support Groups
END:VEVENT
BEGIN:VEVENT
DTSTART;TZID=America/New_York:20260619T080000
DTEND;TZID=America/New_York:20260619T170000
DTSTAMP:20260419T131812
CREATED:20251028T144332Z
LAST-MODIFIED:20251028T144332Z
UID:10015442-1781856000-1781888400@www.mhainspire.org
SUMMARY:MHA CLOSED
DESCRIPTION:MHA is closed on June 19th in observance of Juneteenth.
URL:https://www.mhainspire.org/event/mha-closed-6-19/
CATEGORIES:Community Events,Community Programs,Fundraising Events,MHA General Events,NJ4S,Social Clubs,Support Groups
END:VEVENT
BEGIN:VEVENT
DTSTART;TZID=America/New_York:20260703T080000
DTEND;TZID=America/New_York:20260703T170000
DTSTAMP:20260419T131812
CREATED:20251028T144455Z
LAST-MODIFIED:20251028T144455Z
UID:10015443-1783065600-1783098000@www.mhainspire.org
SUMMARY:MHA CLOSED
DESCRIPTION:MHA is closed on July 3rd in observance of Independence Day.
URL:https://www.mhainspire.org/event/mha-closed-14/
CATEGORIES:Community Events,Community Programs,Fundraising Events,MHA General Events,NJ4S,Social Clubs,Support Groups
END:VEVENT
BEGIN:VEVENT
DTSTART;TZID=America/New_York:20260707T150000
DTEND;TZID=America/New_York:20260707T163000
DTSTAMP:20260419T131812
CREATED:20250307T161438Z
LAST-MODIFIED:20250307T162036Z
UID:10011925-1783436400-1783441800@www.mhainspire.org
SUMMARY:Family and Consumer Connection Group
DESCRIPTION:Family and Consumer Connection Group: A professionally facilitated group where\nfamilies and consumers come together to discuss and problem-solve challenges in a\nsupportive environment. Goals of the group include providing support\, improving\ncommunication\, and strengthening socialization. This group meets on the 1st and \n3rd Tuesday of the month from 3:00pm to 4:15pm Participation requires an\norientation process. If you wish to participate in The Family and Consumer\nConnection group\, please reach out to Eileen Strungis at (973) 509-9777\, x 123\, or\nemail her at estrungis@mhainspire.org
URL:https://www.mhainspire.org/event/family-and-consumer-connection-group-2-2/2026-07-07/
LOCATION:Virtual
CATEGORIES:Support Groups
END:VEVENT
BEGIN:VEVENT
DTSTART;TZID=America/New_York:20260804T150000
DTEND;TZID=America/New_York:20260804T163000
DTSTAMP:20260419T131812
CREATED:20250307T161438Z
LAST-MODIFIED:20250307T162036Z
UID:10011926-1785855600-1785861000@www.mhainspire.org
SUMMARY:Family and Consumer Connection Group
DESCRIPTION:Family and Consumer Connection Group: A professionally facilitated group where\nfamilies and consumers come together to discuss and problem-solve challenges in a\nsupportive environment. Goals of the group include providing support\, improving\ncommunication\, and strengthening socialization. This group meets on the 1st and \n3rd Tuesday of the month from 3:00pm to 4:15pm Participation requires an\norientation process. If you wish to participate in The Family and Consumer\nConnection group\, please reach out to Eileen Strungis at (973) 509-9777\, x 123\, or\nemail her at estrungis@mhainspire.org
URL:https://www.mhainspire.org/event/family-and-consumer-connection-group-2-2/2026-08-04/
LOCATION:Virtual
CATEGORIES:Support Groups
END:VEVENT
BEGIN:VEVENT
DTSTART;TZID=America/New_York:20260901T150000
DTEND;TZID=America/New_York:20260901T163000
DTSTAMP:20260419T131812
CREATED:20250307T161438Z
LAST-MODIFIED:20250307T162036Z
UID:10011927-1788274800-1788280200@www.mhainspire.org
SUMMARY:Family and Consumer Connection Group
DESCRIPTION:Family and Consumer Connection Group: A professionally facilitated group where\nfamilies and consumers come together to discuss and problem-solve challenges in a\nsupportive environment. Goals of the group include providing support\, improving\ncommunication\, and strengthening socialization. This group meets on the 1st and \n3rd Tuesday of the month from 3:00pm to 4:15pm Participation requires an\norientation process. If you wish to participate in The Family and Consumer\nConnection group\, please reach out to Eileen Strungis at (973) 509-9777\, x 123\, or\nemail her at estrungis@mhainspire.org
URL:https://www.mhainspire.org/event/family-and-consumer-connection-group-2-2/2026-09-01/
LOCATION:Virtual
CATEGORIES:Support Groups
END:VEVENT
BEGIN:VEVENT
DTSTART;TZID=America/New_York:20260907T080000
DTEND;TZID=America/New_York:20260907T170000
DTSTAMP:20260419T131812
CREATED:20251028T145817Z
LAST-MODIFIED:20251028T145817Z
UID:10015452-1788768000-1788800400@www.mhainspire.org
SUMMARY:MHA CLOSED
DESCRIPTION:MHA is closed on September 7th in observance of Labor Day.
URL:https://www.mhainspire.org/event/mha-closed-17/
CATEGORIES:Community Events,Community Programs,Fundraising Events,MHA General Events,NJ4S,Social Clubs,Support Groups
END:VEVENT
BEGIN:VEVENT
DTSTART;TZID=America/New_York:20261006T150000
DTEND;TZID=America/New_York:20261006T163000
DTSTAMP:20260419T131812
CREATED:20250307T161438Z
LAST-MODIFIED:20250307T162036Z
UID:10011928-1791298800-1791304200@www.mhainspire.org
SUMMARY:Family and Consumer Connection Group
DESCRIPTION:Family and Consumer Connection Group: A professionally facilitated group where\nfamilies and consumers come together to discuss and problem-solve challenges in a\nsupportive environment. Goals of the group include providing support\, improving\ncommunication\, and strengthening socialization. This group meets on the 1st and \n3rd Tuesday of the month from 3:00pm to 4:15pm Participation requires an\norientation process. If you wish to participate in The Family and Consumer\nConnection group\, please reach out to Eileen Strungis at (973) 509-9777\, x 123\, or\nemail her at estrungis@mhainspire.org
URL:https://www.mhainspire.org/event/family-and-consumer-connection-group-2-2/2026-10-06/
LOCATION:Virtual
CATEGORIES:Support Groups
END:VEVENT
BEGIN:VEVENT
DTSTART;TZID=America/New_York:20261103T150000
DTEND;TZID=America/New_York:20261103T163000
DTSTAMP:20260419T131812
CREATED:20250307T161438Z
LAST-MODIFIED:20250307T162036Z
UID:10011929-1793718000-1793723400@www.mhainspire.org
SUMMARY:Family and Consumer Connection Group
DESCRIPTION:Family and Consumer Connection Group: A professionally facilitated group where\nfamilies and consumers come together to discuss and problem-solve challenges in a\nsupportive environment. Goals of the group include providing support\, improving\ncommunication\, and strengthening socialization. This group meets on the 1st and \n3rd Tuesday of the month from 3:00pm to 4:15pm Participation requires an\norientation process. If you wish to participate in The Family and Consumer\nConnection group\, please reach out to Eileen Strungis at (973) 509-9777\, x 123\, or\nemail her at estrungis@mhainspire.org
URL:https://www.mhainspire.org/event/family-and-consumer-connection-group-2-2/2026-11-03/
LOCATION:Virtual
CATEGORIES:Support Groups
END:VEVENT
BEGIN:VEVENT
DTSTART;TZID=America/New_York:20261126T080000
DTEND;TZID=America/New_York:20261126T170000
DTSTAMP:20260419T131812
CREATED:20251028T144551Z
LAST-MODIFIED:20251028T144931Z
UID:10015445-1795680000-1795712400@www.mhainspire.org
SUMMARY:MHA CLOSED
DESCRIPTION:MHA is closed on November 26th and November 27th\, 2026\, in observance of Thanksgiving Holiday.
URL:https://www.mhainspire.org/event/mha-closed-thanksgiving-2/2026-11-26/
CATEGORIES:Community Events,Community Programs,Fundraising Events,MHA General Events,NJ4S,Social Clubs,Support Groups
END:VEVENT
BEGIN:VEVENT
DTSTART;TZID=America/New_York:20261127T080000
DTEND;TZID=America/New_York:20261127T170000
DTSTAMP:20260419T131812
CREATED:20251028T144551Z
LAST-MODIFIED:20251028T144931Z
UID:10015446-1795766400-1795798800@www.mhainspire.org
SUMMARY:MHA CLOSED
DESCRIPTION:MHA is closed on November 26th and November 27th\, 2026\, in observance of Thanksgiving Holiday.
URL:https://www.mhainspire.org/event/mha-closed-thanksgiving-2/2026-11-27/
CATEGORIES:Community Events,Community Programs,Fundraising Events,MHA General Events,NJ4S,Social Clubs,Support Groups
END:VEVENT
BEGIN:VEVENT
DTSTART;TZID=America/New_York:20261201T150000
DTEND;TZID=America/New_York:20261201T163000
DTSTAMP:20260419T131812
CREATED:20250307T161438Z
LAST-MODIFIED:20250307T162036Z
UID:10011930-1796137200-1796142600@www.mhainspire.org
SUMMARY:Family and Consumer Connection Group
DESCRIPTION:Family and Consumer Connection Group: A professionally facilitated group where\nfamilies and consumers come together to discuss and problem-solve challenges in a\nsupportive environment. Goals of the group include providing support\, improving\ncommunication\, and strengthening socialization. This group meets on the 1st and \n3rd Tuesday of the month from 3:00pm to 4:15pm Participation requires an\norientation process. If you wish to participate in The Family and Consumer\nConnection group\, please reach out to Eileen Strungis at (973) 509-9777\, x 123\, or\nemail her at estrungis@mhainspire.org
URL:https://www.mhainspire.org/event/family-and-consumer-connection-group-2-2/2026-12-01/
LOCATION:Virtual
CATEGORIES:Support Groups
END:VEVENT
BEGIN:VEVENT
DTSTART;TZID=America/New_York:20261224T080000
DTEND;TZID=America/New_York:20261224T170000
DTSTAMP:20260419T131812
CREATED:20251028T145204Z
LAST-MODIFIED:20251028T145204Z
UID:10015449-1798099200-1798131600@www.mhainspire.org
SUMMARY:MHA CLOSED
DESCRIPTION:MHA is closed on December 24th and December 25th\, 2026\, in observance of Christmas Holiday.
URL:https://www.mhainspire.org/event/mha-closed-15/2026-12-24/
CATEGORIES:Community Events,Community Programs,Fundraising Events,MHA General Events,NJ4S,Social Clubs,Support Groups
END:VEVENT
BEGIN:VEVENT
DTSTART;TZID=America/New_York:20261225T080000
DTEND;TZID=America/New_York:20261225T170000
DTSTAMP:20260419T131812
CREATED:20251028T145204Z
LAST-MODIFIED:20251028T145204Z
UID:10015450-1798185600-1798218000@www.mhainspire.org
SUMMARY:MHA CLOSED
DESCRIPTION:MHA is closed on December 24th and December 25th\, 2026\, in observance of Christmas Holiday.
URL:https://www.mhainspire.org/event/mha-closed-15/2026-12-25/
CATEGORIES:Community Events,Community Programs,Fundraising Events,MHA General Events,NJ4S,Social Clubs,Support Groups
END:VEVENT
BEGIN:VEVENT
DTSTART;TZID=America/New_York:20270101T080000
DTEND;TZID=America/New_York:20270101T170000
DTSTAMP:20260419T131812
CREATED:20251028T145405Z
LAST-MODIFIED:20251028T145405Z
UID:10015451-1798790400-1798822800@www.mhainspire.org
SUMMARY:MHA CLOSED
DESCRIPTION:MHA is closed on January 1st\, 2027 in observance of New Years Day.
URL:https://www.mhainspire.org/event/mha-closed-16/
CATEGORIES:Community Events,Community Programs,Fundraising Events,MHA General Events,NJ4S,Social Clubs,Support Groups
END:VEVENT
BEGIN:VEVENT
DTSTART;TZID=America/New_York:20270105T150000
DTEND;TZID=America/New_York:20270105T163000
DTSTAMP:20260419T131812
CREATED:20250307T161438Z
LAST-MODIFIED:20250307T162036Z
UID:10011931-1799161200-1799166600@www.mhainspire.org
SUMMARY:Family and Consumer Connection Group
DESCRIPTION:Family and Consumer Connection Group: A professionally facilitated group where\nfamilies and consumers come together to discuss and problem-solve challenges in a\nsupportive environment. Goals of the group include providing support\, improving\ncommunication\, and strengthening socialization. This group meets on the 1st and \n3rd Tuesday of the month from 3:00pm to 4:15pm Participation requires an\norientation process. If you wish to participate in The Family and Consumer\nConnection group\, please reach out to Eileen Strungis at (973) 509-9777\, x 123\, or\nemail her at estrungis@mhainspire.org
URL:https://www.mhainspire.org/event/family-and-consumer-connection-group-2-2/2027-01-05/
LOCATION:Virtual
CATEGORIES:Support Groups
END:VEVENT
BEGIN:VEVENT
DTSTART;TZID=America/New_York:20270202T150000
DTEND;TZID=America/New_York:20270202T163000
DTSTAMP:20260419T131812
CREATED:20250307T161438Z
LAST-MODIFIED:20250307T162036Z
UID:10011932-1801580400-1801585800@www.mhainspire.org
SUMMARY:Family and Consumer Connection Group
DESCRIPTION:Family and Consumer Connection Group: A professionally facilitated group where\nfamilies and consumers come together to discuss and problem-solve challenges in a\nsupportive environment. Goals of the group include providing support\, improving\ncommunication\, and strengthening socialization. This group meets on the 1st and \n3rd Tuesday of the month from 3:00pm to 4:15pm Participation requires an\norientation process. If you wish to participate in The Family and Consumer\nConnection group\, please reach out to Eileen Strungis at (973) 509-9777\, x 123\, or\nemail her at estrungis@mhainspire.org
URL:https://www.mhainspire.org/event/family-and-consumer-connection-group-2-2/2027-02-02/
LOCATION:Virtual
CATEGORIES:Support Groups
END:VEVENT
BEGIN:VEVENT
DTSTART;TZID=America/New_York:20270302T150000
DTEND;TZID=America/New_York:20270302T163000
DTSTAMP:20260419T131812
CREATED:20250307T161438Z
LAST-MODIFIED:20250307T162036Z
UID:10011933-1803999600-1804005000@www.mhainspire.org
SUMMARY:Family and Consumer Connection Group
DESCRIPTION:Family and Consumer Connection Group: A professionally facilitated group where\nfamilies and consumers come together to discuss and problem-solve challenges in a\nsupportive environment. Goals of the group include providing support\, improving\ncommunication\, and strengthening socialization. This group meets on the 1st and \n3rd Tuesday of the month from 3:00pm to 4:15pm Participation requires an\norientation process. If you wish to participate in The Family and Consumer\nConnection group\, please reach out to Eileen Strungis at (973) 509-9777\, x 123\, or\nemail her at estrungis@mhainspire.org
URL:https://www.mhainspire.org/event/family-and-consumer-connection-group-2-2/2027-03-02/
LOCATION:Virtual
CATEGORIES:Support Groups
END:VEVENT
BEGIN:VEVENT
DTSTART;TZID=America/New_York:20270406T150000
DTEND;TZID=America/New_York:20270406T163000
DTSTAMP:20260419T131812
CREATED:20250307T161438Z
LAST-MODIFIED:20250307T162036Z
UID:10011934-1807023600-1807029000@www.mhainspire.org
SUMMARY:Family and Consumer Connection Group
DESCRIPTION:Family and Consumer Connection Group: A professionally facilitated group where\nfamilies and consumers come together to discuss and problem-solve challenges in a\nsupportive environment. Goals of the group include providing support\, improving\ncommunication\, and strengthening socialization. This group meets on the 1st and \n3rd Tuesday of the month from 3:00pm to 4:15pm Participation requires an\norientation process. If you wish to participate in The Family and Consumer\nConnection group\, please reach out to Eileen Strungis at (973) 509-9777\, x 123\, or\nemail her at estrungis@mhainspire.org
URL:https://www.mhainspire.org/event/family-and-consumer-connection-group-2-2/2027-04-06/
LOCATION:Virtual
CATEGORIES:Support Groups
END:VEVENT
BEGIN:VEVENT
DTSTART;TZID=America/New_York:20270504T150000
DTEND;TZID=America/New_York:20270504T163000
DTSTAMP:20260419T131812
CREATED:20250307T161438Z
LAST-MODIFIED:20250307T162036Z
UID:10011935-1809442800-1809448200@www.mhainspire.org
SUMMARY:Family and Consumer Connection Group
DESCRIPTION:Family and Consumer Connection Group: A professionally facilitated group where\nfamilies and consumers come together to discuss and problem-solve challenges in a\nsupportive environment. Goals of the group include providing support\, improving\ncommunication\, and strengthening socialization. This group meets on the 1st and \n3rd Tuesday of the month from 3:00pm to 4:15pm Participation requires an\norientation process. If you wish to participate in The Family and Consumer\nConnection group\, please reach out to Eileen Strungis at (973) 509-9777\, x 123\, or\nemail her at estrungis@mhainspire.org
URL:https://www.mhainspire.org/event/family-and-consumer-connection-group-2-2/2027-05-04/
LOCATION:Virtual
CATEGORIES:Support Groups
END:VEVENT
BEGIN:VEVENT
DTSTART;TZID=America/New_York:20270601T150000
DTEND;TZID=America/New_York:20270601T163000
DTSTAMP:20260419T131812
CREATED:20250307T161438Z
LAST-MODIFIED:20250307T162036Z
UID:10011936-1811862000-1811867400@www.mhainspire.org
SUMMARY:Family and Consumer Connection Group
DESCRIPTION:Family and Consumer Connection Group: A professionally facilitated group where\nfamilies and consumers come together to discuss and problem-solve challenges in a\nsupportive environment. Goals of the group include providing support\, improving\ncommunication\, and strengthening socialization. This group meets on the 1st and \n3rd Tuesday of the month from 3:00pm to 4:15pm Participation requires an\norientation process. If you wish to participate in The Family and Consumer\nConnection group\, please reach out to Eileen Strungis at (973) 509-9777\, x 123\, or\nemail her at estrungis@mhainspire.org
URL:https://www.mhainspire.org/event/family-and-consumer-connection-group-2-2/2027-06-01/
LOCATION:Virtual
CATEGORIES:Support Groups
END:VEVENT
BEGIN:VEVENT
DTSTART;TZID=America/New_York:20270706T150000
DTEND;TZID=America/New_York:20270706T163000
DTSTAMP:20260419T131812
CREATED:20250307T161438Z
LAST-MODIFIED:20250307T162036Z
UID:10011937-1814886000-1814891400@www.mhainspire.org
SUMMARY:Family and Consumer Connection Group
DESCRIPTION:Family and Consumer Connection Group: A professionally facilitated group where\nfamilies and consumers come together to discuss and problem-solve challenges in a\nsupportive environment. Goals of the group include providing support\, improving\ncommunication\, and strengthening socialization. This group meets on the 1st and \n3rd Tuesday of the month from 3:00pm to 4:15pm Participation requires an\norientation process. If you wish to participate in The Family and Consumer\nConnection group\, please reach out to Eileen Strungis at (973) 509-9777\, x 123\, or\nemail her at estrungis@mhainspire.org
URL:https://www.mhainspire.org/event/family-and-consumer-connection-group-2-2/2027-07-06/
LOCATION:Virtual
CATEGORIES:Support Groups
END:VEVENT
BEGIN:VEVENT
DTSTART;TZID=America/New_York:20270803T150000
DTEND;TZID=America/New_York:20270803T163000
DTSTAMP:20260419T131812
CREATED:20250307T161438Z
LAST-MODIFIED:20250307T162036Z
UID:10011938-1817305200-1817310600@www.mhainspire.org
SUMMARY:Family and Consumer Connection Group
DESCRIPTION:Family and Consumer Connection Group: A professionally facilitated group where\nfamilies and consumers come together to discuss and problem-solve challenges in a\nsupportive environment. Goals of the group include providing support\, improving\ncommunication\, and strengthening socialization. This group meets on the 1st and \n3rd Tuesday of the month from 3:00pm to 4:15pm Participation requires an\norientation process. If you wish to participate in The Family and Consumer\nConnection group\, please reach out to Eileen Strungis at (973) 509-9777\, x 123\, or\nemail her at estrungis@mhainspire.org
URL:https://www.mhainspire.org/event/family-and-consumer-connection-group-2-2/2027-08-03/
LOCATION:Virtual
CATEGORIES:Support Groups
END:VEVENT
BEGIN:VEVENT
DTSTART;TZID=America/New_York:20270907T150000
DTEND;TZID=America/New_York:20270907T163000
DTSTAMP:20260419T131812
CREATED:20250307T161438Z
LAST-MODIFIED:20250307T162036Z
UID:10011939-1820329200-1820334600@www.mhainspire.org
SUMMARY:Family and Consumer Connection Group
DESCRIPTION:Family and Consumer Connection Group: A professionally facilitated group where\nfamilies and consumers come together to discuss and problem-solve challenges in a\nsupportive environment. Goals of the group include providing support\, improving\ncommunication\, and strengthening socialization. This group meets on the 1st and \n3rd Tuesday of the month from 3:00pm to 4:15pm Participation requires an\norientation process. If you wish to participate in The Family and Consumer\nConnection group\, please reach out to Eileen Strungis at (973) 509-9777\, x 123\, or\nemail her at estrungis@mhainspire.org
URL:https://www.mhainspire.org/event/family-and-consumer-connection-group-2-2/2027-09-07/
LOCATION:Virtual
CATEGORIES:Support Groups
END:VEVENT
BEGIN:VEVENT
DTSTART;TZID=America/New_York:20271005T150000
DTEND;TZID=America/New_York:20271005T163000
DTSTAMP:20260419T131812
CREATED:20250307T161438Z
LAST-MODIFIED:20250307T162036Z
UID:10011940-1822748400-1822753800@www.mhainspire.org
SUMMARY:Family and Consumer Connection Group
DESCRIPTION:Family and Consumer Connection Group: A professionally facilitated group where\nfamilies and consumers come together to discuss and problem-solve challenges in a\nsupportive environment. Goals of the group include providing support\, improving\ncommunication\, and strengthening socialization. This group meets on the 1st and \n3rd Tuesday of the month from 3:00pm to 4:15pm Participation requires an\norientation process. If you wish to participate in The Family and Consumer\nConnection group\, please reach out to Eileen Strungis at (973) 509-9777\, x 123\, or\nemail her at estrungis@mhainspire.org
URL:https://www.mhainspire.org/event/family-and-consumer-connection-group-2-2/2027-10-05/
LOCATION:Virtual
CATEGORIES:Support Groups
END:VEVENT
BEGIN:VEVENT
DTSTART;TZID=America/New_York:20271102T150000
DTEND;TZID=America/New_York:20271102T163000
DTSTAMP:20260419T131812
CREATED:20250307T161438Z
LAST-MODIFIED:20250307T162036Z
UID:10011941-1825167600-1825173000@www.mhainspire.org
SUMMARY:Family and Consumer Connection Group
DESCRIPTION:Family and Consumer Connection Group: A professionally facilitated group where\nfamilies and consumers come together to discuss and problem-solve challenges in a\nsupportive environment. Goals of the group include providing support\, improving\ncommunication\, and strengthening socialization. This group meets on the 1st and \n3rd Tuesday of the month from 3:00pm to 4:15pm Participation requires an\norientation process. If you wish to participate in The Family and Consumer\nConnection group\, please reach out to Eileen Strungis at (973) 509-9777\, x 123\, or\nemail her at estrungis@mhainspire.org
URL:https://www.mhainspire.org/event/family-and-consumer-connection-group-2-2/2027-11-02/
LOCATION:Virtual
CATEGORIES:Support Groups
END:VEVENT
BEGIN:VEVENT
DTSTART;TZID=America/New_York:20271207T150000
DTEND;TZID=America/New_York:20271207T163000
DTSTAMP:20260419T131812
CREATED:20250307T161438Z
LAST-MODIFIED:20250307T162036Z
UID:10011942-1828191600-1828197000@www.mhainspire.org
SUMMARY:Family and Consumer Connection Group
DESCRIPTION:Family and Consumer Connection Group: A professionally facilitated group where\nfamilies and consumers come together to discuss and problem-solve challenges in a\nsupportive environment. Goals of the group include providing support\, improving\ncommunication\, and strengthening socialization. This group meets on the 1st and \n3rd Tuesday of the month from 3:00pm to 4:15pm Participation requires an\norientation process. If you wish to participate in The Family and Consumer\nConnection group\, please reach out to Eileen Strungis at (973) 509-9777\, x 123\, or\nemail her at estrungis@mhainspire.org
URL:https://www.mhainspire.org/event/family-and-consumer-connection-group-2-2/2027-12-07/
LOCATION:Virtual
CATEGORIES:Support Groups
END:VEVENT
BEGIN:VEVENT
DTSTART;TZID=America/New_York:20280104T150000
DTEND;TZID=America/New_York:20280104T163000
DTSTAMP:20260419T131812
CREATED:20250307T161438Z
LAST-MODIFIED:20250307T162036Z
UID:10011943-1830610800-1830616200@www.mhainspire.org
SUMMARY:Family and Consumer Connection Group
DESCRIPTION:Family and Consumer Connection Group: A professionally facilitated group where\nfamilies and consumers come together to discuss and problem-solve challenges in a\nsupportive environment. Goals of the group include providing support\, improving\ncommunication\, and strengthening socialization. This group meets on the 1st and \n3rd Tuesday of the month from 3:00pm to 4:15pm Participation requires an\norientation process. If you wish to participate in The Family and Consumer\nConnection group\, please reach out to Eileen Strungis at (973) 509-9777\, x 123\, or\nemail her at estrungis@mhainspire.org
URL:https://www.mhainspire.org/event/family-and-consumer-connection-group-2-2/2028-01-04/
LOCATION:Virtual
CATEGORIES:Support Groups
END:VEVENT
END:VCALENDAR