BEGIN:VCALENDAR
VERSION:2.0
PRODID:-//MHA - ECPv6.15.20//NONSGML v1.0//EN
CALSCALE:GREGORIAN
METHOD:PUBLISH
X-ORIGINAL-URL:https://www.mhainspire.org
X-WR-CALDESC:Events for MHA
REFRESH-INTERVAL;VALUE=DURATION:PT1H
X-Robots-Tag:noindex
X-PUBLISHED-TTL:PT1H
BEGIN:VTIMEZONE
TZID:America/New_York
BEGIN:DAYLIGHT
TZOFFSETFROM:-0500
TZOFFSETTO:-0400
TZNAME:EDT
DTSTART:20230312T070000
END:DAYLIGHT
BEGIN:STANDARD
TZOFFSETFROM:-0400
TZOFFSETTO:-0500
TZNAME:EST
DTSTART:20231105T060000
END:STANDARD
BEGIN:DAYLIGHT
TZOFFSETFROM:-0500
TZOFFSETTO:-0400
TZNAME:EDT
DTSTART:20240310T070000
END:DAYLIGHT
BEGIN:STANDARD
TZOFFSETFROM:-0400
TZOFFSETTO:-0500
TZNAME:EST
DTSTART:20241103T060000
END:STANDARD
BEGIN:DAYLIGHT
TZOFFSETFROM:-0500
TZOFFSETTO:-0400
TZNAME:EDT
DTSTART:20250309T070000
END:DAYLIGHT
BEGIN:STANDARD
TZOFFSETFROM:-0400
TZOFFSETTO:-0500
TZNAME:EST
DTSTART:20251102T060000
END:STANDARD
END:VTIMEZONE
BEGIN:VEVENT
DTSTART;TZID=America/New_York:20240704T140000
DTEND;TZID=America/New_York:20240704T140000
DTSTAMP:20260421T164259
CREATED:20240628T151118Z
LAST-MODIFIED:20240628T151319Z
UID:10010218-1720101600-1720101600@www.mhainspire.org
SUMMARY:Anytime Fitness - CAP
DESCRIPTION:Anytime Fitness Gym\, every Monday\, from 11  AM to 12  PM.\nLIMIT 5. \n  \nLight refreshments will be served.\nSPACE IS LIMITED!! \nTo register for an activity or for more information\, please contact:\nYecenia Revolorio – 973-334-3496 ext. 514\nWeekdays 9:00 AM to 5:00 PM \n***ACTIVITIES SUBJECT TO CHANGE AND/OR CANCELLATION***\nVACCINATION & MASKS REQUIRED!!
URL:https://www.mhainspire.org/event/anytime-fitness-cap-12/2024-07-04/
CATEGORIES:Social Clubs
END:VEVENT
BEGIN:VEVENT
DTSTART;TZID=America/New_York:20240704T200000
DTEND;TZID=America/New_York:20240704T220000
DTSTAMP:20260421T164259
CREATED:20240628T150137Z
LAST-MODIFIED:20240628T150137Z
UID:10010204-1720123200-1720130400@www.mhainspire.org
SUMMARY:Social Clubs
DESCRIPTION:July 2024 \n\n\n\nTuesday\n7/2\n11:30 AM – 1:00 PM\nTarget Parsippany \n\n\nThursday \n7/4\n \nMHA OFFICE IS CLOSED\n\n\nTuesday\n7/9\n11:30 AM – 1:00 PM\nBee Keeper -guest speaker\, Decorate pots and planting _ Frelinghuysen Arboretum Morristown  \n\n\nThursday \n7/11\n6:30 PM – 8:00 PM\n“Thursday’s” ICE CREAM PARTY~ ESSEX OFFICE   \nDOVER GROUP\n\n\nSaturday\n7/13\n11:30 AM – 1:00 PM\nCraft market- St Peters church Morristown\n\n\nTuesday\n7/16\n11:30 AM – 1:00 PM\nRockaway mall\n\n\nSaturday\n7/20\n11:00 AM – 2:00 PM\n White meadow lake carnival – Rockaway \n\n\nTuesday\n7/23\n11:30 AM – 1:00 PM\n Nurse group – Cancer And preventative Screening \n\n\nThursday\n7/25\n6:30 PM – 8:00 PM\n“Thursday’s” Movie Night ~ ESSEX OFFICE   \nBOONTON/ LK HIAWATHA GROUP\n\n\nTuesday\n7/30\n11:30 AM – 1:00 PM\nTJ Maxx – Morristown \n\n\n\n  \nSPACE IS LIMITED!! \nTo register or for more information\, please contact:\nYecenia Revolorio –  973-334-3496 ext. 514\nWeekdays 9:00 AM to 5:00 PM \nWeekends – 201-602-6266 \nLight refreshments will be served.\nPrizes available for winners. \nActivity is subject to change and/or cancel.
URL:https://www.mhainspire.org/event/social-clubs-18/2024-07-04/
CATEGORIES:Social Clubs
END:VEVENT
BEGIN:VEVENT
DTSTART;TZID=America/New_York:20240705T110000
DTEND;TZID=America/New_York:20240705T120000
DTSTAMP:20260421T164259
CREATED:20240702T132059Z
LAST-MODIFIED:20240702T132112Z
UID:10010807-1720177200-1720180800@www.mhainspire.org
SUMMARY:Movie Day - CAP
DESCRIPTION:Movie Day\, from 11 AM to 12 PM. \n  \nLight refreshments will be served.\nSPACE IS LIMITED!! \nTo register for an activity or for more information\, please contact:\nYecenia Revolorio – 973-334-3496 ext. 514\nWeekdays 9:00 AM to 5:00 PM \n***ACTIVITIES SUBJECT TO CHANGE AND/OR CANCELLATION***\nVACCINATION & MASKS REQUIRED!!
URL:https://www.mhainspire.org/event/movie-day-cap-5/
CATEGORIES:Social Clubs
END:VEVENT
BEGIN:VEVENT
DTSTART;TZID=America/New_York:20240708T140000
DTEND;TZID=America/New_York:20240708T140000
DTSTAMP:20260421T164259
CREATED:20240628T151118Z
LAST-MODIFIED:20240628T151319Z
UID:10010219-1720447200-1720447200@www.mhainspire.org
SUMMARY:Anytime Fitness - CAP
DESCRIPTION:Anytime Fitness Gym\, every Monday\, from 11  AM to 12  PM.\nLIMIT 5. \n  \nLight refreshments will be served.\nSPACE IS LIMITED!! \nTo register for an activity or for more information\, please contact:\nYecenia Revolorio – 973-334-3496 ext. 514\nWeekdays 9:00 AM to 5:00 PM \n***ACTIVITIES SUBJECT TO CHANGE AND/OR CANCELLATION***\nVACCINATION & MASKS REQUIRED!!
URL:https://www.mhainspire.org/event/anytime-fitness-cap-12/2024-07-08/
CATEGORIES:Social Clubs
END:VEVENT
BEGIN:VEVENT
DTSTART;TZID=America/New_York:20240709T200000
DTEND;TZID=America/New_York:20240709T220000
DTSTAMP:20260421T164259
CREATED:20240628T150137Z
LAST-MODIFIED:20240628T150137Z
UID:10010205-1720555200-1720562400@www.mhainspire.org
SUMMARY:Social Clubs
DESCRIPTION:July 2024 \n\n\n\nTuesday\n7/2\n11:30 AM – 1:00 PM\nTarget Parsippany \n\n\nThursday \n7/4\n \nMHA OFFICE IS CLOSED\n\n\nTuesday\n7/9\n11:30 AM – 1:00 PM\nBee Keeper -guest speaker\, Decorate pots and planting _ Frelinghuysen Arboretum Morristown  \n\n\nThursday \n7/11\n6:30 PM – 8:00 PM\n“Thursday’s” ICE CREAM PARTY~ ESSEX OFFICE   \nDOVER GROUP\n\n\nSaturday\n7/13\n11:30 AM – 1:00 PM\nCraft market- St Peters church Morristown\n\n\nTuesday\n7/16\n11:30 AM – 1:00 PM\nRockaway mall\n\n\nSaturday\n7/20\n11:00 AM – 2:00 PM\n White meadow lake carnival – Rockaway \n\n\nTuesday\n7/23\n11:30 AM – 1:00 PM\n Nurse group – Cancer And preventative Screening \n\n\nThursday\n7/25\n6:30 PM – 8:00 PM\n“Thursday’s” Movie Night ~ ESSEX OFFICE   \nBOONTON/ LK HIAWATHA GROUP\n\n\nTuesday\n7/30\n11:30 AM – 1:00 PM\nTJ Maxx – Morristown \n\n\n\n  \nSPACE IS LIMITED!! \nTo register or for more information\, please contact:\nYecenia Revolorio –  973-334-3496 ext. 514\nWeekdays 9:00 AM to 5:00 PM \nWeekends – 201-602-6266 \nLight refreshments will be served.\nPrizes available for winners. \nActivity is subject to change and/or cancel.
URL:https://www.mhainspire.org/event/social-clubs-18/2024-07-09/
CATEGORIES:Social Clubs
END:VEVENT
BEGIN:VEVENT
DTSTART;TZID=America/New_York:20240711T183000
DTEND;TZID=America/New_York:20240711T200000
DTSTAMP:20260421T164259
CREATED:20240628T150137Z
LAST-MODIFIED:20240628T150137Z
UID:10010206-1720722600-1720728000@www.mhainspire.org
SUMMARY:Social Clubs
DESCRIPTION:July 2024 \n\n\n\nTuesday\n7/2\n11:30 AM – 1:00 PM\nTarget Parsippany \n\n\nThursday \n7/4\n \nMHA OFFICE IS CLOSED\n\n\nTuesday\n7/9\n11:30 AM – 1:00 PM\nBee Keeper -guest speaker\, Decorate pots and planting _ Frelinghuysen Arboretum Morristown  \n\n\nThursday \n7/11\n6:30 PM – 8:00 PM\n“Thursday’s” ICE CREAM PARTY~ ESSEX OFFICE   \nDOVER GROUP\n\n\nSaturday\n7/13\n11:30 AM – 1:00 PM\nCraft market- St Peters church Morristown\n\n\nTuesday\n7/16\n11:30 AM – 1:00 PM\nRockaway mall\n\n\nSaturday\n7/20\n11:00 AM – 2:00 PM\n White meadow lake carnival – Rockaway \n\n\nTuesday\n7/23\n11:30 AM – 1:00 PM\n Nurse group – Cancer And preventative Screening \n\n\nThursday\n7/25\n6:30 PM – 8:00 PM\n“Thursday’s” Movie Night ~ ESSEX OFFICE   \nBOONTON/ LK HIAWATHA GROUP\n\n\nTuesday\n7/30\n11:30 AM – 1:00 PM\nTJ Maxx – Morristown \n\n\n\n  \nSPACE IS LIMITED!! \nTo register or for more information\, please contact:\nYecenia Revolorio –  973-334-3496 ext. 514\nWeekdays 9:00 AM to 5:00 PM \nWeekends – 201-602-6266 \nLight refreshments will be served.\nPrizes available for winners. \nActivity is subject to change and/or cancel.
URL:https://www.mhainspire.org/event/social-clubs-18/2024-07-11/
CATEGORIES:Social Clubs
END:VEVENT
BEGIN:VEVENT
DTSTART;TZID=America/New_York:20240712T110000
DTEND;TZID=America/New_York:20240712T120000
DTSTAMP:20260421T164259
CREATED:20240702T132156Z
LAST-MODIFIED:20240702T132156Z
UID:10010808-1720782000-1720785600@www.mhainspire.org
SUMMARY:Advocacy Group - CAP
DESCRIPTION:Advocacy Group\, from 11 AM to 12 PM. \n  \nLight refreshments will be served.\nSPACE IS LIMITED!! \nTo register for an activity or for more information\, please contact:\nYecenia Revolorio – 973-334-3496 ext. 514\nWeekdays 9:00 AM to 5:00 PM \n***ACTIVITIES SUBJECT TO CHANGE AND/OR CANCELLATION***\nVACCINATION & MASKS REQUIRED!!
URL:https://www.mhainspire.org/event/advocacy-group-cap-4/
CATEGORIES:Social Clubs
END:VEVENT
BEGIN:VEVENT
DTSTART;TZID=America/New_York:20240713T113000
DTEND;TZID=America/New_York:20240713T130000
DTSTAMP:20260421T164259
CREATED:20240628T150137Z
LAST-MODIFIED:20240628T150137Z
UID:10010207-1720870200-1720875600@www.mhainspire.org
SUMMARY:Social Clubs
DESCRIPTION:July 2024 \n\n\n\nTuesday\n7/2\n11:30 AM – 1:00 PM\nTarget Parsippany \n\n\nThursday \n7/4\n \nMHA OFFICE IS CLOSED\n\n\nTuesday\n7/9\n11:30 AM – 1:00 PM\nBee Keeper -guest speaker\, Decorate pots and planting _ Frelinghuysen Arboretum Morristown  \n\n\nThursday \n7/11\n6:30 PM – 8:00 PM\n“Thursday’s” ICE CREAM PARTY~ ESSEX OFFICE   \nDOVER GROUP\n\n\nSaturday\n7/13\n11:30 AM – 1:00 PM\nCraft market- St Peters church Morristown\n\n\nTuesday\n7/16\n11:30 AM – 1:00 PM\nRockaway mall\n\n\nSaturday\n7/20\n11:00 AM – 2:00 PM\n White meadow lake carnival – Rockaway \n\n\nTuesday\n7/23\n11:30 AM – 1:00 PM\n Nurse group – Cancer And preventative Screening \n\n\nThursday\n7/25\n6:30 PM – 8:00 PM\n“Thursday’s” Movie Night ~ ESSEX OFFICE   \nBOONTON/ LK HIAWATHA GROUP\n\n\nTuesday\n7/30\n11:30 AM – 1:00 PM\nTJ Maxx – Morristown \n\n\n\n  \nSPACE IS LIMITED!! \nTo register or for more information\, please contact:\nYecenia Revolorio –  973-334-3496 ext. 514\nWeekdays 9:00 AM to 5:00 PM \nWeekends – 201-602-6266 \nLight refreshments will be served.\nPrizes available for winners. \nActivity is subject to change and/or cancel.
URL:https://www.mhainspire.org/event/social-clubs-18/2024-07-13/
CATEGORIES:Social Clubs
END:VEVENT
BEGIN:VEVENT
DTSTART;TZID=America/New_York:20240715T140000
DTEND;TZID=America/New_York:20240715T140000
DTSTAMP:20260421T164259
CREATED:20240628T151118Z
LAST-MODIFIED:20240628T151319Z
UID:10010220-1721052000-1721052000@www.mhainspire.org
SUMMARY:Anytime Fitness - CAP
DESCRIPTION:Anytime Fitness Gym\, every Monday\, from 11  AM to 12  PM.\nLIMIT 5. \n  \nLight refreshments will be served.\nSPACE IS LIMITED!! \nTo register for an activity or for more information\, please contact:\nYecenia Revolorio – 973-334-3496 ext. 514\nWeekdays 9:00 AM to 5:00 PM \n***ACTIVITIES SUBJECT TO CHANGE AND/OR CANCELLATION***\nVACCINATION & MASKS REQUIRED!!
URL:https://www.mhainspire.org/event/anytime-fitness-cap-12/2024-07-15/
CATEGORIES:Social Clubs
END:VEVENT
BEGIN:VEVENT
DTSTART;TZID=America/New_York:20240716T200000
DTEND;TZID=America/New_York:20240716T220000
DTSTAMP:20260421T164259
CREATED:20240628T150137Z
LAST-MODIFIED:20240628T150137Z
UID:10010208-1721160000-1721167200@www.mhainspire.org
SUMMARY:Social Clubs
DESCRIPTION:July 2024 \n\n\n\nTuesday\n7/2\n11:30 AM – 1:00 PM\nTarget Parsippany \n\n\nThursday \n7/4\n \nMHA OFFICE IS CLOSED\n\n\nTuesday\n7/9\n11:30 AM – 1:00 PM\nBee Keeper -guest speaker\, Decorate pots and planting _ Frelinghuysen Arboretum Morristown  \n\n\nThursday \n7/11\n6:30 PM – 8:00 PM\n“Thursday’s” ICE CREAM PARTY~ ESSEX OFFICE   \nDOVER GROUP\n\n\nSaturday\n7/13\n11:30 AM – 1:00 PM\nCraft market- St Peters church Morristown\n\n\nTuesday\n7/16\n11:30 AM – 1:00 PM\nRockaway mall\n\n\nSaturday\n7/20\n11:00 AM – 2:00 PM\n White meadow lake carnival – Rockaway \n\n\nTuesday\n7/23\n11:30 AM – 1:00 PM\n Nurse group – Cancer And preventative Screening \n\n\nThursday\n7/25\n6:30 PM – 8:00 PM\n“Thursday’s” Movie Night ~ ESSEX OFFICE   \nBOONTON/ LK HIAWATHA GROUP\n\n\nTuesday\n7/30\n11:30 AM – 1:00 PM\nTJ Maxx – Morristown \n\n\n\n  \nSPACE IS LIMITED!! \nTo register or for more information\, please contact:\nYecenia Revolorio –  973-334-3496 ext. 514\nWeekdays 9:00 AM to 5:00 PM \nWeekends – 201-602-6266 \nLight refreshments will be served.\nPrizes available for winners. \nActivity is subject to change and/or cancel.
URL:https://www.mhainspire.org/event/social-clubs-18/2024-07-16/
CATEGORIES:Social Clubs
END:VEVENT
BEGIN:VEVENT
DTSTART;TZID=America/New_York:20240718T110000
DTEND;TZID=America/New_York:20240718T120000
DTSTAMP:20260421T164259
CREATED:20240702T131723Z
LAST-MODIFIED:20240702T131723Z
UID:10010242-1721300400-1721304000@www.mhainspire.org
SUMMARY:Resource Day - CAP
DESCRIPTION:Light refreshments will be served.\nSPACE IS LIMITED!! \nTo register for an activity or for more information\, please contact:\nYecenia Revolorio – 973-334-3496 ext. 514\nWeekdays 9:00 AM to 5:00 PM \n***ACTIVITIES SUBJECT TO CHANGE AND/OR CANCELLATION***\nVACCINATION & MASKS REQUIRED!!
URL:https://www.mhainspire.org/event/resource-day-cap-5/
LOCATION:1160 Parisppany Blvd\, 1160 Parsippany Blvd\, Parsippany\, NJ\, 07054\, United States
CATEGORIES:Social Clubs
END:VEVENT
BEGIN:VEVENT
DTSTART;TZID=America/New_York:20240720T110000
DTEND;TZID=America/New_York:20240720T140000
DTSTAMP:20260421T164259
CREATED:20240628T150137Z
LAST-MODIFIED:20240628T150137Z
UID:10010209-1721473200-1721484000@www.mhainspire.org
SUMMARY:Social Clubs
DESCRIPTION:July 2024 \n\n\n\nTuesday\n7/2\n11:30 AM – 1:00 PM\nTarget Parsippany \n\n\nThursday \n7/4\n \nMHA OFFICE IS CLOSED\n\n\nTuesday\n7/9\n11:30 AM – 1:00 PM\nBee Keeper -guest speaker\, Decorate pots and planting _ Frelinghuysen Arboretum Morristown  \n\n\nThursday \n7/11\n6:30 PM – 8:00 PM\n“Thursday’s” ICE CREAM PARTY~ ESSEX OFFICE   \nDOVER GROUP\n\n\nSaturday\n7/13\n11:30 AM – 1:00 PM\nCraft market- St Peters church Morristown\n\n\nTuesday\n7/16\n11:30 AM – 1:00 PM\nRockaway mall\n\n\nSaturday\n7/20\n11:00 AM – 2:00 PM\n White meadow lake carnival – Rockaway \n\n\nTuesday\n7/23\n11:30 AM – 1:00 PM\n Nurse group – Cancer And preventative Screening \n\n\nThursday\n7/25\n6:30 PM – 8:00 PM\n“Thursday’s” Movie Night ~ ESSEX OFFICE   \nBOONTON/ LK HIAWATHA GROUP\n\n\nTuesday\n7/30\n11:30 AM – 1:00 PM\nTJ Maxx – Morristown \n\n\n\n  \nSPACE IS LIMITED!! \nTo register or for more information\, please contact:\nYecenia Revolorio –  973-334-3496 ext. 514\nWeekdays 9:00 AM to 5:00 PM \nWeekends – 201-602-6266 \nLight refreshments will be served.\nPrizes available for winners. \nActivity is subject to change and/or cancel.
URL:https://www.mhainspire.org/event/social-clubs-18/2024-07-20/
CATEGORIES:Social Clubs
END:VEVENT
BEGIN:VEVENT
DTSTART;TZID=America/New_York:20240722T140000
DTEND;TZID=America/New_York:20240722T140000
DTSTAMP:20260421T164259
CREATED:20240628T151118Z
LAST-MODIFIED:20240628T151319Z
UID:10010221-1721656800-1721656800@www.mhainspire.org
SUMMARY:Anytime Fitness - CAP
DESCRIPTION:Anytime Fitness Gym\, every Monday\, from 11  AM to 12  PM.\nLIMIT 5. \n  \nLight refreshments will be served.\nSPACE IS LIMITED!! \nTo register for an activity or for more information\, please contact:\nYecenia Revolorio – 973-334-3496 ext. 514\nWeekdays 9:00 AM to 5:00 PM \n***ACTIVITIES SUBJECT TO CHANGE AND/OR CANCELLATION***\nVACCINATION & MASKS REQUIRED!!
URL:https://www.mhainspire.org/event/anytime-fitness-cap-12/2024-07-22/
CATEGORIES:Social Clubs
END:VEVENT
BEGIN:VEVENT
DTSTART;TZID=America/New_York:20240723T200000
DTEND;TZID=America/New_York:20240723T220000
DTSTAMP:20260421T164259
CREATED:20240628T150137Z
LAST-MODIFIED:20240628T150137Z
UID:10010210-1721764800-1721772000@www.mhainspire.org
SUMMARY:Social Clubs
DESCRIPTION:July 2024 \n\n\n\nTuesday\n7/2\n11:30 AM – 1:00 PM\nTarget Parsippany \n\n\nThursday \n7/4\n \nMHA OFFICE IS CLOSED\n\n\nTuesday\n7/9\n11:30 AM – 1:00 PM\nBee Keeper -guest speaker\, Decorate pots and planting _ Frelinghuysen Arboretum Morristown  \n\n\nThursday \n7/11\n6:30 PM – 8:00 PM\n“Thursday’s” ICE CREAM PARTY~ ESSEX OFFICE   \nDOVER GROUP\n\n\nSaturday\n7/13\n11:30 AM – 1:00 PM\nCraft market- St Peters church Morristown\n\n\nTuesday\n7/16\n11:30 AM – 1:00 PM\nRockaway mall\n\n\nSaturday\n7/20\n11:00 AM – 2:00 PM\n White meadow lake carnival – Rockaway \n\n\nTuesday\n7/23\n11:30 AM – 1:00 PM\n Nurse group – Cancer And preventative Screening \n\n\nThursday\n7/25\n6:30 PM – 8:00 PM\n“Thursday’s” Movie Night ~ ESSEX OFFICE   \nBOONTON/ LK HIAWATHA GROUP\n\n\nTuesday\n7/30\n11:30 AM – 1:00 PM\nTJ Maxx – Morristown \n\n\n\n  \nSPACE IS LIMITED!! \nTo register or for more information\, please contact:\nYecenia Revolorio –  973-334-3496 ext. 514\nWeekdays 9:00 AM to 5:00 PM \nWeekends – 201-602-6266 \nLight refreshments will be served.\nPrizes available for winners. \nActivity is subject to change and/or cancel.
URL:https://www.mhainspire.org/event/social-clubs-18/2024-07-23/
CATEGORIES:Social Clubs
END:VEVENT
BEGIN:VEVENT
DTSTART;TZID=America/New_York:20240725T183000
DTEND;TZID=America/New_York:20240725T200000
DTSTAMP:20260421T164259
CREATED:20240628T150137Z
LAST-MODIFIED:20240628T150137Z
UID:10010211-1721932200-1721937600@www.mhainspire.org
SUMMARY:Social Clubs
DESCRIPTION:July 2024 \n\n\n\nTuesday\n7/2\n11:30 AM – 1:00 PM\nTarget Parsippany \n\n\nThursday \n7/4\n \nMHA OFFICE IS CLOSED\n\n\nTuesday\n7/9\n11:30 AM – 1:00 PM\nBee Keeper -guest speaker\, Decorate pots and planting _ Frelinghuysen Arboretum Morristown  \n\n\nThursday \n7/11\n6:30 PM – 8:00 PM\n“Thursday’s” ICE CREAM PARTY~ ESSEX OFFICE   \nDOVER GROUP\n\n\nSaturday\n7/13\n11:30 AM – 1:00 PM\nCraft market- St Peters church Morristown\n\n\nTuesday\n7/16\n11:30 AM – 1:00 PM\nRockaway mall\n\n\nSaturday\n7/20\n11:00 AM – 2:00 PM\n White meadow lake carnival – Rockaway \n\n\nTuesday\n7/23\n11:30 AM – 1:00 PM\n Nurse group – Cancer And preventative Screening \n\n\nThursday\n7/25\n6:30 PM – 8:00 PM\n“Thursday’s” Movie Night ~ ESSEX OFFICE   \nBOONTON/ LK HIAWATHA GROUP\n\n\nTuesday\n7/30\n11:30 AM – 1:00 PM\nTJ Maxx – Morristown \n\n\n\n  \nSPACE IS LIMITED!! \nTo register or for more information\, please contact:\nYecenia Revolorio –  973-334-3496 ext. 514\nWeekdays 9:00 AM to 5:00 PM \nWeekends – 201-602-6266 \nLight refreshments will be served.\nPrizes available for winners. \nActivity is subject to change and/or cancel.
URL:https://www.mhainspire.org/event/social-clubs-18/2024-07-25/
CATEGORIES:Social Clubs
END:VEVENT
BEGIN:VEVENT
DTSTART;TZID=America/New_York:20240729T140000
DTEND;TZID=America/New_York:20240729T140000
DTSTAMP:20260421T164259
CREATED:20240628T151118Z
LAST-MODIFIED:20240628T151319Z
UID:10010222-1722261600-1722261600@www.mhainspire.org
SUMMARY:Anytime Fitness - CAP
DESCRIPTION:Anytime Fitness Gym\, every Monday\, from 11  AM to 12  PM.\nLIMIT 5. \n  \nLight refreshments will be served.\nSPACE IS LIMITED!! \nTo register for an activity or for more information\, please contact:\nYecenia Revolorio – 973-334-3496 ext. 514\nWeekdays 9:00 AM to 5:00 PM \n***ACTIVITIES SUBJECT TO CHANGE AND/OR CANCELLATION***\nVACCINATION & MASKS REQUIRED!!
URL:https://www.mhainspire.org/event/anytime-fitness-cap-12/2024-07-29/
CATEGORIES:Social Clubs
END:VEVENT
BEGIN:VEVENT
DTSTART;TZID=America/New_York:20240730T113000
DTEND;TZID=America/New_York:20240730T130000
DTSTAMP:20260421T164259
CREATED:20240628T150137Z
LAST-MODIFIED:20240628T150137Z
UID:10010212-1722339000-1722344400@www.mhainspire.org
SUMMARY:Social Clubs
DESCRIPTION:July 2024 \n\n\n\nTuesday\n7/2\n11:30 AM – 1:00 PM\nTarget Parsippany \n\n\nThursday \n7/4\n \nMHA OFFICE IS CLOSED\n\n\nTuesday\n7/9\n11:30 AM – 1:00 PM\nBee Keeper -guest speaker\, Decorate pots and planting _ Frelinghuysen Arboretum Morristown  \n\n\nThursday \n7/11\n6:30 PM – 8:00 PM\n“Thursday’s” ICE CREAM PARTY~ ESSEX OFFICE   \nDOVER GROUP\n\n\nSaturday\n7/13\n11:30 AM – 1:00 PM\nCraft market- St Peters church Morristown\n\n\nTuesday\n7/16\n11:30 AM – 1:00 PM\nRockaway mall\n\n\nSaturday\n7/20\n11:00 AM – 2:00 PM\n White meadow lake carnival – Rockaway \n\n\nTuesday\n7/23\n11:30 AM – 1:00 PM\n Nurse group – Cancer And preventative Screening \n\n\nThursday\n7/25\n6:30 PM – 8:00 PM\n“Thursday’s” Movie Night ~ ESSEX OFFICE   \nBOONTON/ LK HIAWATHA GROUP\n\n\nTuesday\n7/30\n11:30 AM – 1:00 PM\nTJ Maxx – Morristown \n\n\n\n  \nSPACE IS LIMITED!! \nTo register or for more information\, please contact:\nYecenia Revolorio –  973-334-3496 ext. 514\nWeekdays 9:00 AM to 5:00 PM \nWeekends – 201-602-6266 \nLight refreshments will be served.\nPrizes available for winners. \nActivity is subject to change and/or cancel.
URL:https://www.mhainspire.org/event/social-clubs-18/2024-07-30/
CATEGORIES:Social Clubs
END:VEVENT
END:VCALENDAR