BEGIN:VCALENDAR
VERSION:2.0
PRODID:-//MHA - ECPv6.15.20//NONSGML v1.0//EN
CALSCALE:GREGORIAN
METHOD:PUBLISH
X-WR-CALNAME:MHA
X-ORIGINAL-URL:https://www.mhainspire.org
X-WR-CALDESC:Events for MHA
REFRESH-INTERVAL;VALUE=DURATION:PT1H
X-Robots-Tag:noindex
X-PUBLISHED-TTL:PT1H
BEGIN:VTIMEZONE
TZID:America/New_York
BEGIN:DAYLIGHT
TZOFFSETFROM:-0500
TZOFFSETTO:-0400
TZNAME:EDT
DTSTART:20240310T070000
END:DAYLIGHT
BEGIN:STANDARD
TZOFFSETFROM:-0400
TZOFFSETTO:-0500
TZNAME:EST
DTSTART:20241103T060000
END:STANDARD
BEGIN:DAYLIGHT
TZOFFSETFROM:-0500
TZOFFSETTO:-0400
TZNAME:EDT
DTSTART:20250309T070000
END:DAYLIGHT
BEGIN:STANDARD
TZOFFSETFROM:-0400
TZOFFSETTO:-0500
TZNAME:EST
DTSTART:20251102T060000
END:STANDARD
BEGIN:DAYLIGHT
TZOFFSETFROM:-0500
TZOFFSETTO:-0400
TZNAME:EDT
DTSTART:20260308T070000
END:DAYLIGHT
BEGIN:STANDARD
TZOFFSETFROM:-0400
TZOFFSETTO:-0500
TZNAME:EST
DTSTART:20261101T060000
END:STANDARD
END:VTIMEZONE
BEGIN:VEVENT
DTSTART;TZID=America/New_York:20250529T180000
DTEND;TZID=America/New_York:20250529T220000
DTSTAMP:20260420T131328
CREATED:20240731T143056Z
LAST-MODIFIED:20250409T195928Z
UID:10010931-1748541600-1748556000@www.mhainspire.org
SUMMARY:75th Anniversary Celebration
DESCRIPTION:Mark your calendars for an unforgettable evening of reflection\, recognition\, and inspiration where we’ll honor our agency’s journey and look forward to the future. We can’t wait to celebrate with you! \nHonoring The Health Care Foundation of the Oranges and Senator M. Teresa Ruiz.\nTo purchase tickets or sponsorships\, please click here.\n  \n 
URL:https://www.mhainspire.org/event/75th-anniversary-celebration/
LOCATION:Montclair Art Museum\, 3 South Mountain Avenue\, Montclair\, NJ\, 07042\, United States
CATEGORIES:Fundraising Events,MHA General Events
END:VEVENT
END:VCALENDAR