BEGIN:VCALENDAR
VERSION:2.0
PRODID:-//MHA - ECPv6.15.20//NONSGML v1.0//EN
CALSCALE:GREGORIAN
METHOD:PUBLISH
X-ORIGINAL-URL:https://www.mhainspire.org
X-WR-CALDESC:Events for MHA
REFRESH-INTERVAL;VALUE=DURATION:PT1H
X-Robots-Tag:noindex
X-PUBLISHED-TTL:PT1H
BEGIN:VTIMEZONE
TZID:America/New_York
BEGIN:DAYLIGHT
TZOFFSETFROM:-0500
TZOFFSETTO:-0400
TZNAME:EDT
DTSTART:20240310T070000
END:DAYLIGHT
BEGIN:STANDARD
TZOFFSETFROM:-0400
TZOFFSETTO:-0500
TZNAME:EST
DTSTART:20241103T060000
END:STANDARD
BEGIN:DAYLIGHT
TZOFFSETFROM:-0500
TZOFFSETTO:-0400
TZNAME:EDT
DTSTART:20250309T070000
END:DAYLIGHT
BEGIN:STANDARD
TZOFFSETFROM:-0400
TZOFFSETTO:-0500
TZNAME:EST
DTSTART:20251102T060000
END:STANDARD
BEGIN:DAYLIGHT
TZOFFSETFROM:-0500
TZOFFSETTO:-0400
TZNAME:EDT
DTSTART:20260308T070000
END:DAYLIGHT
BEGIN:STANDARD
TZOFFSETFROM:-0400
TZOFFSETTO:-0500
TZNAME:EST
DTSTART:20261101T060000
END:STANDARD
END:VTIMEZONE
BEGIN:VEVENT
DTSTART;TZID=America/New_York:20250408T160000
DTEND;TZID=America/New_York:20250506T190000
DTSTAMP:20260422T063133
CREATED:20250402T193650Z
LAST-MODIFIED:20250402T193650Z
UID:10012378-1744128000-1746558000@www.mhainspire.org
SUMMARY:Social Clubs
DESCRIPTION:April 2025 \n\n\n\n\n\n\n\nTuesday\n4/1\n4:00 PM – 7:00 PM\nSuper Walmart – Ledgewood\n\n\nThursday\n4/3\n6:30 PM – 8:00 PM\n“Thursday’s Movie Night” ~ ESSEX OFFICE GROUP\n\n\nSunday\n4/6\n3:00 PM – 5:00 PM \nPine Brook Jewish Center Carnival Lunch – Montville\n\n\nTuesday\n   4/8\n4:00 PM – 7:00 PM\nBarnes and Noble – Morris Plains\n\n\nThursday\n4/10\n5:00 PM – 7:00 PM\nSt. Peter’s Episcopal Church Dinner – Mountain Lakes\n\n\nSaturday\n4/12\n10:00AM – 2:00PM\nWillowbrook Mall\n\n\nTuesday\n4/15\n4:00 PM – 7:00 PM\nTarget/Michael’s – Parsippany\n\n\nThursday\n4/17\n6:30 PM – 8:00 PM\n“Thursday’s Creative Expression/Spring Craft”~ ESSEX OFFICE GROUP\n\n\nSaturday\n4/19\n11:00AM – 4:00PM\n Spring into Downtown Denville – Egg Hunt\, Local Shopping\n\n\nTuesday\n4/22\n4:00 PM – 7:00 PM\nHanover Commons – East Hanover\n\n\nThursday\n4/24\n6:30 PM – 8:00 PM\n “Thursday’s Karaoke/Spoken Word” ~ ESSEX OFFICE \nGROUP\n\n\nSaturday\n4/26\n11:00 AM – 4:00 PM\nSpring Arts + Craft Fair – Central Park of Morris County\n\n\nTuesday\n4/29\n4:00PM-7:00PM\nHanover Crossroads – TJ Max/Homegoods\, Five Below\n\n\n\n\n\n\n\n\n\n\n\n\n\n\n\n\n  \n  \n  \n  \nSPACE IS LIMITED!! \nTo register or for more information\, please contact:\nChristina Binetti – 973-344-3496 ext. 509\nWeekdays 9:00 AM to 5:00 PM \nWeekends – 201-602-6266 \nLight refreshments will be served.\nPrizes available for winners. \nActivity is subject to change and/or cancel.
URL:https://www.mhainspire.org/event/social-clubs-24/2025-04-08/
CATEGORIES:Social Clubs
END:VEVENT
BEGIN:VEVENT
DTSTART;TZID=America/New_York:20250415T160000
DTEND;TZID=America/New_York:20250513T190000
DTSTAMP:20260422T063133
CREATED:20250402T193650Z
LAST-MODIFIED:20250402T193650Z
UID:10012381-1744732800-1747162800@www.mhainspire.org
SUMMARY:Social Clubs
DESCRIPTION:April 2025 \n\n\n\n\n\n\n\nTuesday\n4/1\n4:00 PM – 7:00 PM\nSuper Walmart – Ledgewood\n\n\nThursday\n4/3\n6:30 PM – 8:00 PM\n“Thursday’s Movie Night” ~ ESSEX OFFICE GROUP\n\n\nSunday\n4/6\n3:00 PM – 5:00 PM \nPine Brook Jewish Center Carnival Lunch – Montville\n\n\nTuesday\n   4/8\n4:00 PM – 7:00 PM\nBarnes and Noble – Morris Plains\n\n\nThursday\n4/10\n5:00 PM – 7:00 PM\nSt. Peter’s Episcopal Church Dinner – Mountain Lakes\n\n\nSaturday\n4/12\n10:00AM – 2:00PM\nWillowbrook Mall\n\n\nTuesday\n4/15\n4:00 PM – 7:00 PM\nTarget/Michael’s – Parsippany\n\n\nThursday\n4/17\n6:30 PM – 8:00 PM\n“Thursday’s Creative Expression/Spring Craft”~ ESSEX OFFICE GROUP\n\n\nSaturday\n4/19\n11:00AM – 4:00PM\n Spring into Downtown Denville – Egg Hunt\, Local Shopping\n\n\nTuesday\n4/22\n4:00 PM – 7:00 PM\nHanover Commons – East Hanover\n\n\nThursday\n4/24\n6:30 PM – 8:00 PM\n “Thursday’s Karaoke/Spoken Word” ~ ESSEX OFFICE \nGROUP\n\n\nSaturday\n4/26\n11:00 AM – 4:00 PM\nSpring Arts + Craft Fair – Central Park of Morris County\n\n\nTuesday\n4/29\n4:00PM-7:00PM\nHanover Crossroads – TJ Max/Homegoods\, Five Below\n\n\n\n\n\n\n\n\n\n\n\n\n\n\n\n\n  \n  \n  \n  \nSPACE IS LIMITED!! \nTo register or for more information\, please contact:\nChristina Binetti – 973-344-3496 ext. 509\nWeekdays 9:00 AM to 5:00 PM \nWeekends – 201-602-6266 \nLight refreshments will be served.\nPrizes available for winners. \nActivity is subject to change and/or cancel.
URL:https://www.mhainspire.org/event/social-clubs-24/2025-04-15/
CATEGORIES:Social Clubs
END:VEVENT
BEGIN:VEVENT
DTSTART;TZID=America/New_York:20250422T160000
DTEND;TZID=America/New_York:20250520T190000
DTSTAMP:20260422T063133
CREATED:20250402T193650Z
LAST-MODIFIED:20250402T193650Z
UID:10012384-1745337600-1747767600@www.mhainspire.org
SUMMARY:Social Clubs
DESCRIPTION:April 2025 \n\n\n\n\n\n\n\nTuesday\n4/1\n4:00 PM – 7:00 PM\nSuper Walmart – Ledgewood\n\n\nThursday\n4/3\n6:30 PM – 8:00 PM\n“Thursday’s Movie Night” ~ ESSEX OFFICE GROUP\n\n\nSunday\n4/6\n3:00 PM – 5:00 PM \nPine Brook Jewish Center Carnival Lunch – Montville\n\n\nTuesday\n   4/8\n4:00 PM – 7:00 PM\nBarnes and Noble – Morris Plains\n\n\nThursday\n4/10\n5:00 PM – 7:00 PM\nSt. Peter’s Episcopal Church Dinner – Mountain Lakes\n\n\nSaturday\n4/12\n10:00AM – 2:00PM\nWillowbrook Mall\n\n\nTuesday\n4/15\n4:00 PM – 7:00 PM\nTarget/Michael’s – Parsippany\n\n\nThursday\n4/17\n6:30 PM – 8:00 PM\n“Thursday’s Creative Expression/Spring Craft”~ ESSEX OFFICE GROUP\n\n\nSaturday\n4/19\n11:00AM – 4:00PM\n Spring into Downtown Denville – Egg Hunt\, Local Shopping\n\n\nTuesday\n4/22\n4:00 PM – 7:00 PM\nHanover Commons – East Hanover\n\n\nThursday\n4/24\n6:30 PM – 8:00 PM\n “Thursday’s Karaoke/Spoken Word” ~ ESSEX OFFICE \nGROUP\n\n\nSaturday\n4/26\n11:00 AM – 4:00 PM\nSpring Arts + Craft Fair – Central Park of Morris County\n\n\nTuesday\n4/29\n4:00PM-7:00PM\nHanover Crossroads – TJ Max/Homegoods\, Five Below\n\n\n\n\n\n\n\n\n\n\n\n\n\n\n\n\n  \n  \n  \n  \nSPACE IS LIMITED!! \nTo register or for more information\, please contact:\nChristina Binetti – 973-344-3496 ext. 509\nWeekdays 9:00 AM to 5:00 PM \nWeekends – 201-602-6266 \nLight refreshments will be served.\nPrizes available for winners. \nActivity is subject to change and/or cancel.
URL:https://www.mhainspire.org/event/social-clubs-24/2025-04-22/
CATEGORIES:Social Clubs
END:VEVENT
BEGIN:VEVENT
DTSTART;TZID=America/New_York:20250429T160000
DTEND;TZID=America/New_York:20250527T190000
DTSTAMP:20260422T063133
CREATED:20250402T193650Z
LAST-MODIFIED:20250402T193650Z
UID:10012387-1745942400-1748372400@www.mhainspire.org
SUMMARY:Social Clubs
DESCRIPTION:April 2025 \n\n\n\n\n\n\n\nTuesday\n4/1\n4:00 PM – 7:00 PM\nSuper Walmart – Ledgewood\n\n\nThursday\n4/3\n6:30 PM – 8:00 PM\n“Thursday’s Movie Night” ~ ESSEX OFFICE GROUP\n\n\nSunday\n4/6\n3:00 PM – 5:00 PM \nPine Brook Jewish Center Carnival Lunch – Montville\n\n\nTuesday\n   4/8\n4:00 PM – 7:00 PM\nBarnes and Noble – Morris Plains\n\n\nThursday\n4/10\n5:00 PM – 7:00 PM\nSt. Peter’s Episcopal Church Dinner – Mountain Lakes\n\n\nSaturday\n4/12\n10:00AM – 2:00PM\nWillowbrook Mall\n\n\nTuesday\n4/15\n4:00 PM – 7:00 PM\nTarget/Michael’s – Parsippany\n\n\nThursday\n4/17\n6:30 PM – 8:00 PM\n“Thursday’s Creative Expression/Spring Craft”~ ESSEX OFFICE GROUP\n\n\nSaturday\n4/19\n11:00AM – 4:00PM\n Spring into Downtown Denville – Egg Hunt\, Local Shopping\n\n\nTuesday\n4/22\n4:00 PM – 7:00 PM\nHanover Commons – East Hanover\n\n\nThursday\n4/24\n6:30 PM – 8:00 PM\n “Thursday’s Karaoke/Spoken Word” ~ ESSEX OFFICE \nGROUP\n\n\nSaturday\n4/26\n11:00 AM – 4:00 PM\nSpring Arts + Craft Fair – Central Park of Morris County\n\n\nTuesday\n4/29\n4:00PM-7:00PM\nHanover Crossroads – TJ Max/Homegoods\, Five Below\n\n\n\n\n\n\n\n\n\n\n\n\n\n\n\n\n  \n  \n  \n  \nSPACE IS LIMITED!! \nTo register or for more information\, please contact:\nChristina Binetti – 973-344-3496 ext. 509\nWeekdays 9:00 AM to 5:00 PM \nWeekends – 201-602-6266 \nLight refreshments will be served.\nPrizes available for winners. \nActivity is subject to change and/or cancel.
URL:https://www.mhainspire.org/event/social-clubs-24/2025-04-29/
CATEGORIES:Social Clubs
END:VEVENT
BEGIN:VEVENT
DTSTART;TZID=America/New_York:20250501T183000
DTEND;TZID=America/New_York:20250522T200000
DTSTAMP:20260422T063133
CREATED:20250423T173251Z
LAST-MODIFIED:20250423T173251Z
UID:10012405-1746124200-1747944000@www.mhainspire.org
SUMMARY:Social Clubs
DESCRIPTION:May 2025 \n\n\n\n\n\n\n\nThursday\n5/1\n6:30 PM – 8:00 PM\nMontclair Art Museum ~ ESSEX OFFICE   \nGROUP\n\n\nFriday\n5/2\n4:00 – 7:00PM\nMHA Community Resource and Family Fun Day  \nRockaway Mall \n\n\nTuesday\n5/6\n4:00 PM – 7:00 PM\nSalvation Army Thrift Store – Dover \n\n\nThursday\n   5/8\n6:30 PM – 8:00 PM\n“Thursday’s Game Night” ~ ESSEX OFFICE   \nGROUP\n\n\nSaturday \n5/10\n10:00AM – 4:00PM\nMeadowlands Flea Market – East Rutherford\n\n\nTuesday\n5/13\n11:30 PM – 1:00 PM\nFrelinghuysen Arboretum Morristown\n\n\nThursday\n5/15\n6:30 PM – 8:00 PM\n“Thursday’s Bingo” ~ ESSEX OFFICE   \nGROUP\n\n\nSaturday\n5/17\n10:00AM – 1PM\nLake Hopatcong Block Party – Hopatcong State Park\n\n\nTuesday\n5/20\n4:00 PM – 7:00 PM\n Super Walmart – Ledgewood \n\n\nThursday \n5/22\n6:30 PM – 8:00 PM\n“Thursday’s Karaoke” ~ ESSEX OFFICE   \nGROUP\n\n\nTuesday\n5/27\n6:30 PM – 8:00 PM\nVan Vleck Garden ~ ESSEX OFFICE \nGROUP\n\n\nThursday\n5/29\n4:00 PM – 7:00 PM\nHanover Crossroads – TJ Max/Homegoods\, Five Below\n\n\n\n\n\n\n\n\n\n\n\n\n\n\n\n\nSPACE IS LIMITED!! \nTo register or for more information\, please contact:\nChristina Binetti – 973-344-3496 ext. 509\nWeekdays 9:00 AM to 5:00 PM \nLight refreshments will be served.\nPrizes available for winners. \nActivity is subject to change and/or cancel.
URL:https://www.mhainspire.org/event/social-clubs-25/2025-05-01/
CATEGORIES:Social Clubs
END:VEVENT
BEGIN:VEVENT
DTSTART;TZID=America/New_York:20250502T160000
DTEND;TZID=America/New_York:20250502T190000
DTSTAMP:20260422T063133
CREATED:20250122T144220Z
LAST-MODIFIED:20250423T185211Z
UID:10011581-1746201600-1746212400@www.mhainspire.org
SUMMARY:Community Resource and Family Fun Day
DESCRIPTION:Mental Health Community Resource and Family Fun Day\n \nCome learn more about MHA and the important work we do within your community! \nThis event is focused on raising community awareness of MHA and the resources available to provide mental health support. \nSmall snacks will be provided\, and there will be several food trucks available. \n  \nWhen: Friday\, May 2\, 2025 \nTime: 4 PM – 7 PM \nWhere: Raymour and Flanigan \nRockaway Townsquare Mall \n301 Mt Hope Avenue\, Suite 002 \nRockaway\, NJ 07866 \n  \nFor more information\, call 973-323-2723 or email Development@mhainspire.org. \n  \nSponsored by: \n \n  \n  \n  \n \n 
URL:https://www.mhainspire.org/event/community-resource-and-family-fun-day-2025/
LOCATION:Raymour and Flanigan\, 301 Mt Hope Avenue\, Suite 002\, Rockaway\, NJ\, 07866\, United States
CATEGORIES:Community Events,Community Programs,MHA General Events,NJ4S,Social Clubs
END:VEVENT
BEGIN:VEVENT
DTSTART;TZID=America/New_York:20250502T160000
DTEND;TZID=America/New_York:20250502T190000
DTSTAMP:20260422T063133
CREATED:20250423T173251Z
LAST-MODIFIED:20250423T173251Z
UID:10012406-1746201600-1746212400@www.mhainspire.org
SUMMARY:Social Clubs
DESCRIPTION:May 2025 \n\n\n\n\n\n\n\nThursday\n5/1\n6:30 PM – 8:00 PM\nMontclair Art Museum ~ ESSEX OFFICE   \nGROUP\n\n\nFriday\n5/2\n4:00 – 7:00PM\nMHA Community Resource and Family Fun Day  \nRockaway Mall \n\n\nTuesday\n5/6\n4:00 PM – 7:00 PM\nSalvation Army Thrift Store – Dover \n\n\nThursday\n   5/8\n6:30 PM – 8:00 PM\n“Thursday’s Game Night” ~ ESSEX OFFICE   \nGROUP\n\n\nSaturday \n5/10\n10:00AM – 4:00PM\nMeadowlands Flea Market – East Rutherford\n\n\nTuesday\n5/13\n11:30 PM – 1:00 PM\nFrelinghuysen Arboretum Morristown\n\n\nThursday\n5/15\n6:30 PM – 8:00 PM\n“Thursday’s Bingo” ~ ESSEX OFFICE   \nGROUP\n\n\nSaturday\n5/17\n10:00AM – 1PM\nLake Hopatcong Block Party – Hopatcong State Park\n\n\nTuesday\n5/20\n4:00 PM – 7:00 PM\n Super Walmart – Ledgewood \n\n\nThursday \n5/22\n6:30 PM – 8:00 PM\n“Thursday’s Karaoke” ~ ESSEX OFFICE   \nGROUP\n\n\nTuesday\n5/27\n6:30 PM – 8:00 PM\nVan Vleck Garden ~ ESSEX OFFICE \nGROUP\n\n\nThursday\n5/29\n4:00 PM – 7:00 PM\nHanover Crossroads – TJ Max/Homegoods\, Five Below\n\n\n\n\n\n\n\n\n\n\n\n\n\n\n\n\nSPACE IS LIMITED!! \nTo register or for more information\, please contact:\nChristina Binetti – 973-344-3496 ext. 509\nWeekdays 9:00 AM to 5:00 PM \nLight refreshments will be served.\nPrizes available for winners. \nActivity is subject to change and/or cancel.
URL:https://www.mhainspire.org/event/social-clubs-25/2025-05-02/
CATEGORIES:Social Clubs
END:VEVENT
BEGIN:VEVENT
DTSTART;TZID=America/New_York:20250505T110000
DTEND;TZID=America/New_York:20250519T120000
DTSTAMP:20260422T063133
CREATED:20250423T173532Z
LAST-MODIFIED:20250423T173532Z
UID:10012415-1746442800-1747656000@www.mhainspire.org
SUMMARY:Anytime Fitness - CAP
DESCRIPTION:Anytime Fitness Gym\, every Monday\, from 11  AM to 12  PM.\nLIMIT 5. \nLight refreshments will be served.\nSPACE IS LIMITED!! \nTo register for an activity or for more information\, please contact:\nChristina Binetti – 973-334- 3496 ext. 509 \nWeekdays 9:00 AM to 5:00 PM \n***ACTIVITIES SUBJECT TO CHANGE AND/OR CANCELLATION***
URL:https://www.mhainspire.org/event/anytime-fitness-cap-19/2025-05-05/
CATEGORIES:Social Clubs
END:VEVENT
BEGIN:VEVENT
DTSTART;TZID=America/New_York:20250506T160000
DTEND;TZID=America/New_York:20250506T190000
DTSTAMP:20260422T063133
CREATED:20250423T173251Z
LAST-MODIFIED:20250423T173251Z
UID:10012407-1746547200-1746558000@www.mhainspire.org
SUMMARY:Social Clubs
DESCRIPTION:May 2025 \n\n\n\n\n\n\n\nThursday\n5/1\n6:30 PM – 8:00 PM\nMontclair Art Museum ~ ESSEX OFFICE   \nGROUP\n\n\nFriday\n5/2\n4:00 – 7:00PM\nMHA Community Resource and Family Fun Day  \nRockaway Mall \n\n\nTuesday\n5/6\n4:00 PM – 7:00 PM\nSalvation Army Thrift Store – Dover \n\n\nThursday\n   5/8\n6:30 PM – 8:00 PM\n“Thursday’s Game Night” ~ ESSEX OFFICE   \nGROUP\n\n\nSaturday \n5/10\n10:00AM – 4:00PM\nMeadowlands Flea Market – East Rutherford\n\n\nTuesday\n5/13\n11:30 PM – 1:00 PM\nFrelinghuysen Arboretum Morristown\n\n\nThursday\n5/15\n6:30 PM – 8:00 PM\n“Thursday’s Bingo” ~ ESSEX OFFICE   \nGROUP\n\n\nSaturday\n5/17\n10:00AM – 1PM\nLake Hopatcong Block Party – Hopatcong State Park\n\n\nTuesday\n5/20\n4:00 PM – 7:00 PM\n Super Walmart – Ledgewood \n\n\nThursday \n5/22\n6:30 PM – 8:00 PM\n“Thursday’s Karaoke” ~ ESSEX OFFICE   \nGROUP\n\n\nTuesday\n5/27\n6:30 PM – 8:00 PM\nVan Vleck Garden ~ ESSEX OFFICE \nGROUP\n\n\nThursday\n5/29\n4:00 PM – 7:00 PM\nHanover Crossroads – TJ Max/Homegoods\, Five Below\n\n\n\n\n\n\n\n\n\n\n\n\n\n\n\n\nSPACE IS LIMITED!! \nTo register or for more information\, please contact:\nChristina Binetti – 973-344-3496 ext. 509\nWeekdays 9:00 AM to 5:00 PM \nLight refreshments will be served.\nPrizes available for winners. \nActivity is subject to change and/or cancel.
URL:https://www.mhainspire.org/event/social-clubs-25/2025-05-06/
CATEGORIES:Social Clubs
END:VEVENT
BEGIN:VEVENT
DTSTART;TZID=America/New_York:20250509T110000
DTEND;TZID=America/New_York:20250509T120000
DTSTAMP:20260422T063133
CREATED:20250423T174258Z
LAST-MODIFIED:20250423T174836Z
UID:10012430-1746788400-1746792000@www.mhainspire.org
SUMMARY:Advocacy Group - CAP
DESCRIPTION:Advocacy Group at the Parsippany Office\, from 11AM to 12PM. \n  \nLight refreshments will be served.\nSPACE IS LIMITED!! \nTo register for an activity or for more information\, please contact:\nChristina Binetti – 973-334- 3496 ext. 509 \nWeekdays 9:00 AM to 5:00 PM
URL:https://www.mhainspire.org/event/advocacy-group-cap-11/
LOCATION:1160 Parisppany Blvd\, 1160 Parsippany Blvd\, Parsippany\, NJ\, 07054\, United States
CATEGORIES:Social Clubs
END:VEVENT
BEGIN:VEVENT
DTSTART;TZID=America/New_York:20250510T100000
DTEND;TZID=America/New_York:20250510T160000
DTSTAMP:20260422T063133
CREATED:20250423T173251Z
LAST-MODIFIED:20250423T173251Z
UID:10012408-1746871200-1746892800@www.mhainspire.org
SUMMARY:Social Clubs
DESCRIPTION:May 2025 \n\n\n\n\n\n\n\nThursday\n5/1\n6:30 PM – 8:00 PM\nMontclair Art Museum ~ ESSEX OFFICE   \nGROUP\n\n\nFriday\n5/2\n4:00 – 7:00PM\nMHA Community Resource and Family Fun Day  \nRockaway Mall \n\n\nTuesday\n5/6\n4:00 PM – 7:00 PM\nSalvation Army Thrift Store – Dover \n\n\nThursday\n   5/8\n6:30 PM – 8:00 PM\n“Thursday’s Game Night” ~ ESSEX OFFICE   \nGROUP\n\n\nSaturday \n5/10\n10:00AM – 4:00PM\nMeadowlands Flea Market – East Rutherford\n\n\nTuesday\n5/13\n11:30 PM – 1:00 PM\nFrelinghuysen Arboretum Morristown\n\n\nThursday\n5/15\n6:30 PM – 8:00 PM\n“Thursday’s Bingo” ~ ESSEX OFFICE   \nGROUP\n\n\nSaturday\n5/17\n10:00AM – 1PM\nLake Hopatcong Block Party – Hopatcong State Park\n\n\nTuesday\n5/20\n4:00 PM – 7:00 PM\n Super Walmart – Ledgewood \n\n\nThursday \n5/22\n6:30 PM – 8:00 PM\n“Thursday’s Karaoke” ~ ESSEX OFFICE   \nGROUP\n\n\nTuesday\n5/27\n6:30 PM – 8:00 PM\nVan Vleck Garden ~ ESSEX OFFICE \nGROUP\n\n\nThursday\n5/29\n4:00 PM – 7:00 PM\nHanover Crossroads – TJ Max/Homegoods\, Five Below\n\n\n\n\n\n\n\n\n\n\n\n\n\n\n\n\nSPACE IS LIMITED!! \nTo register or for more information\, please contact:\nChristina Binetti – 973-344-3496 ext. 509\nWeekdays 9:00 AM to 5:00 PM \nLight refreshments will be served.\nPrizes available for winners. \nActivity is subject to change and/or cancel.
URL:https://www.mhainspire.org/event/social-clubs-25/2025-05-10/
CATEGORIES:Social Clubs
END:VEVENT
BEGIN:VEVENT
DTSTART;TZID=America/New_York:20250513T113000
DTEND;TZID=America/New_York:20250513T130000
DTSTAMP:20260422T063133
CREATED:20250423T173251Z
LAST-MODIFIED:20250423T173251Z
UID:10012409-1747135800-1747141200@www.mhainspire.org
SUMMARY:Social Clubs
DESCRIPTION:May 2025 \n\n\n\n\n\n\n\nThursday\n5/1\n6:30 PM – 8:00 PM\nMontclair Art Museum ~ ESSEX OFFICE   \nGROUP\n\n\nFriday\n5/2\n4:00 – 7:00PM\nMHA Community Resource and Family Fun Day  \nRockaway Mall \n\n\nTuesday\n5/6\n4:00 PM – 7:00 PM\nSalvation Army Thrift Store – Dover \n\n\nThursday\n   5/8\n6:30 PM – 8:00 PM\n“Thursday’s Game Night” ~ ESSEX OFFICE   \nGROUP\n\n\nSaturday \n5/10\n10:00AM – 4:00PM\nMeadowlands Flea Market – East Rutherford\n\n\nTuesday\n5/13\n11:30 PM – 1:00 PM\nFrelinghuysen Arboretum Morristown\n\n\nThursday\n5/15\n6:30 PM – 8:00 PM\n“Thursday’s Bingo” ~ ESSEX OFFICE   \nGROUP\n\n\nSaturday\n5/17\n10:00AM – 1PM\nLake Hopatcong Block Party – Hopatcong State Park\n\n\nTuesday\n5/20\n4:00 PM – 7:00 PM\n Super Walmart – Ledgewood \n\n\nThursday \n5/22\n6:30 PM – 8:00 PM\n“Thursday’s Karaoke” ~ ESSEX OFFICE   \nGROUP\n\n\nTuesday\n5/27\n6:30 PM – 8:00 PM\nVan Vleck Garden ~ ESSEX OFFICE \nGROUP\n\n\nThursday\n5/29\n4:00 PM – 7:00 PM\nHanover Crossroads – TJ Max/Homegoods\, Five Below\n\n\n\n\n\n\n\n\n\n\n\n\n\n\n\n\nSPACE IS LIMITED!! \nTo register or for more information\, please contact:\nChristina Binetti – 973-344-3496 ext. 509\nWeekdays 9:00 AM to 5:00 PM \nLight refreshments will be served.\nPrizes available for winners. \nActivity is subject to change and/or cancel.
URL:https://www.mhainspire.org/event/social-clubs-25/2025-05-13/
CATEGORIES:Social Clubs
END:VEVENT
BEGIN:VEVENT
DTSTART;TZID=America/New_York:20250516T113000
DTEND;TZID=America/New_York:20250516T130000
DTSTAMP:20260422T063133
CREATED:20250423T174438Z
LAST-MODIFIED:20250423T174438Z
UID:10012431-1747395000-1747400400@www.mhainspire.org
SUMMARY:Ice Cream Sundaes - CAP
DESCRIPTION:Ice Cream Sundaes\, from 11:30AM to 1PM. \n  \nLight refreshments will be served.\nSPACE IS LIMITED!! \nTo register for an activity or for more information\, please contact:\nChristina Binetti- 973-334-3496 ext. 509\nWeekdays 9:00 AM to 5:00 PM
URL:https://www.mhainspire.org/event/ice-cream-sundaes-cap-3/
LOCATION:1160 Parisppany Blvd\, 1160 Parsippany Blvd\, Parsippany\, NJ\, 07054\, United States
CATEGORIES:Social Clubs
END:VEVENT
BEGIN:VEVENT
DTSTART;TZID=America/New_York:20250517T100000
DTEND;TZID=America/New_York:20250517T130000
DTSTAMP:20260422T063133
CREATED:20250423T173251Z
LAST-MODIFIED:20250423T173251Z
UID:10012410-1747476000-1747486800@www.mhainspire.org
SUMMARY:Social Clubs
DESCRIPTION:May 2025 \n\n\n\n\n\n\n\nThursday\n5/1\n6:30 PM – 8:00 PM\nMontclair Art Museum ~ ESSEX OFFICE   \nGROUP\n\n\nFriday\n5/2\n4:00 – 7:00PM\nMHA Community Resource and Family Fun Day  \nRockaway Mall \n\n\nTuesday\n5/6\n4:00 PM – 7:00 PM\nSalvation Army Thrift Store – Dover \n\n\nThursday\n   5/8\n6:30 PM – 8:00 PM\n“Thursday’s Game Night” ~ ESSEX OFFICE   \nGROUP\n\n\nSaturday \n5/10\n10:00AM – 4:00PM\nMeadowlands Flea Market – East Rutherford\n\n\nTuesday\n5/13\n11:30 PM – 1:00 PM\nFrelinghuysen Arboretum Morristown\n\n\nThursday\n5/15\n6:30 PM – 8:00 PM\n“Thursday’s Bingo” ~ ESSEX OFFICE   \nGROUP\n\n\nSaturday\n5/17\n10:00AM – 1PM\nLake Hopatcong Block Party – Hopatcong State Park\n\n\nTuesday\n5/20\n4:00 PM – 7:00 PM\n Super Walmart – Ledgewood \n\n\nThursday \n5/22\n6:30 PM – 8:00 PM\n“Thursday’s Karaoke” ~ ESSEX OFFICE   \nGROUP\n\n\nTuesday\n5/27\n6:30 PM – 8:00 PM\nVan Vleck Garden ~ ESSEX OFFICE \nGROUP\n\n\nThursday\n5/29\n4:00 PM – 7:00 PM\nHanover Crossroads – TJ Max/Homegoods\, Five Below\n\n\n\n\n\n\n\n\n\n\n\n\n\n\n\n\nSPACE IS LIMITED!! \nTo register or for more information\, please contact:\nChristina Binetti – 973-344-3496 ext. 509\nWeekdays 9:00 AM to 5:00 PM \nLight refreshments will be served.\nPrizes available for winners. \nActivity is subject to change and/or cancel.
URL:https://www.mhainspire.org/event/social-clubs-25/2025-05-17/
CATEGORIES:Social Clubs
END:VEVENT
BEGIN:VEVENT
DTSTART;TZID=America/New_York:20250520T160000
DTEND;TZID=America/New_York:20250520T190000
DTSTAMP:20260422T063133
CREATED:20250423T173251Z
LAST-MODIFIED:20250423T173251Z
UID:10012411-1747756800-1747767600@www.mhainspire.org
SUMMARY:Social Clubs
DESCRIPTION:May 2025 \n\n\n\n\n\n\n\nThursday\n5/1\n6:30 PM – 8:00 PM\nMontclair Art Museum ~ ESSEX OFFICE   \nGROUP\n\n\nFriday\n5/2\n4:00 – 7:00PM\nMHA Community Resource and Family Fun Day  \nRockaway Mall \n\n\nTuesday\n5/6\n4:00 PM – 7:00 PM\nSalvation Army Thrift Store – Dover \n\n\nThursday\n   5/8\n6:30 PM – 8:00 PM\n“Thursday’s Game Night” ~ ESSEX OFFICE   \nGROUP\n\n\nSaturday \n5/10\n10:00AM – 4:00PM\nMeadowlands Flea Market – East Rutherford\n\n\nTuesday\n5/13\n11:30 PM – 1:00 PM\nFrelinghuysen Arboretum Morristown\n\n\nThursday\n5/15\n6:30 PM – 8:00 PM\n“Thursday’s Bingo” ~ ESSEX OFFICE   \nGROUP\n\n\nSaturday\n5/17\n10:00AM – 1PM\nLake Hopatcong Block Party – Hopatcong State Park\n\n\nTuesday\n5/20\n4:00 PM – 7:00 PM\n Super Walmart – Ledgewood \n\n\nThursday \n5/22\n6:30 PM – 8:00 PM\n“Thursday’s Karaoke” ~ ESSEX OFFICE   \nGROUP\n\n\nTuesday\n5/27\n6:30 PM – 8:00 PM\nVan Vleck Garden ~ ESSEX OFFICE \nGROUP\n\n\nThursday\n5/29\n4:00 PM – 7:00 PM\nHanover Crossroads – TJ Max/Homegoods\, Five Below\n\n\n\n\n\n\n\n\n\n\n\n\n\n\n\n\nSPACE IS LIMITED!! \nTo register or for more information\, please contact:\nChristina Binetti – 973-344-3496 ext. 509\nWeekdays 9:00 AM to 5:00 PM \nLight refreshments will be served.\nPrizes available for winners. \nActivity is subject to change and/or cancel.
URL:https://www.mhainspire.org/event/social-clubs-25/2025-05-20/
CATEGORIES:Social Clubs
END:VEVENT
BEGIN:VEVENT
DTSTART;TZID=America/New_York:20250522T120000
DTEND;TZID=America/New_York:20250522T130000
DTSTAMP:20260422T063133
CREATED:20250423T173941Z
LAST-MODIFIED:20250423T173941Z
UID:10012429-1747915200-1747918800@www.mhainspire.org
SUMMARY:Resource Day - CAP
DESCRIPTION:At the Parsippany Office from 12-1 \nLight refreshments will be served.\nSPACE IS LIMITED!! \nTo register for an activity or for more information\, please contact:\nChristina Binetti – 973-334- 3496 ext. 509 \nWeekdays 9:00 AM to 5:00 PM
URL:https://www.mhainspire.org/event/resource-day-cap-13/
LOCATION:1160 Parisppany Blvd\, 1160 Parsippany Blvd\, Parsippany\, NJ\, 07054\, United States
CATEGORIES:Social Clubs
END:VEVENT
BEGIN:VEVENT
DTSTART;TZID=America/New_York:20250523T110000
DTEND;TZID=America/New_York:20250523T123000
DTSTAMP:20260422T063133
CREATED:20250423T174633Z
LAST-MODIFIED:20250423T174633Z
UID:10012432-1747998000-1748003400@www.mhainspire.org
SUMMARY:Movie Day - CAP
DESCRIPTION:Movie Day at the Parsippany Office\, from 11 PM to 12:30 PM. \n  \nLight refreshments will be served.\nSPACE IS LIMITED!! \nTo register for an activity or for more information\, please contact:\nChristina Binetti – 973-334- 3496 ext. 509 \nWeekdays 9:00 AM to 5:00 PM \n 
URL:https://www.mhainspire.org/event/movie-day-cap-10/
CATEGORIES:Social Clubs
END:VEVENT
BEGIN:VEVENT
DTSTART;TZID=America/New_York:20250527T183000
DTEND;TZID=America/New_York:20250527T200000
DTSTAMP:20260422T063133
CREATED:20250423T173251Z
LAST-MODIFIED:20250423T173251Z
UID:10012412-1748370600-1748376000@www.mhainspire.org
SUMMARY:Social Clubs
DESCRIPTION:May 2025 \n\n\n\n\n\n\n\nThursday\n5/1\n6:30 PM – 8:00 PM\nMontclair Art Museum ~ ESSEX OFFICE   \nGROUP\n\n\nFriday\n5/2\n4:00 – 7:00PM\nMHA Community Resource and Family Fun Day  \nRockaway Mall \n\n\nTuesday\n5/6\n4:00 PM – 7:00 PM\nSalvation Army Thrift Store – Dover \n\n\nThursday\n   5/8\n6:30 PM – 8:00 PM\n“Thursday’s Game Night” ~ ESSEX OFFICE   \nGROUP\n\n\nSaturday \n5/10\n10:00AM – 4:00PM\nMeadowlands Flea Market – East Rutherford\n\n\nTuesday\n5/13\n11:30 PM – 1:00 PM\nFrelinghuysen Arboretum Morristown\n\n\nThursday\n5/15\n6:30 PM – 8:00 PM\n“Thursday’s Bingo” ~ ESSEX OFFICE   \nGROUP\n\n\nSaturday\n5/17\n10:00AM – 1PM\nLake Hopatcong Block Party – Hopatcong State Park\n\n\nTuesday\n5/20\n4:00 PM – 7:00 PM\n Super Walmart – Ledgewood \n\n\nThursday \n5/22\n6:30 PM – 8:00 PM\n“Thursday’s Karaoke” ~ ESSEX OFFICE   \nGROUP\n\n\nTuesday\n5/27\n6:30 PM – 8:00 PM\nVan Vleck Garden ~ ESSEX OFFICE \nGROUP\n\n\nThursday\n5/29\n4:00 PM – 7:00 PM\nHanover Crossroads – TJ Max/Homegoods\, Five Below\n\n\n\n\n\n\n\n\n\n\n\n\n\n\n\n\nSPACE IS LIMITED!! \nTo register or for more information\, please contact:\nChristina Binetti – 973-344-3496 ext. 509\nWeekdays 9:00 AM to 5:00 PM \nLight refreshments will be served.\nPrizes available for winners. \nActivity is subject to change and/or cancel.
URL:https://www.mhainspire.org/event/social-clubs-25/2025-05-27/
CATEGORIES:Social Clubs
END:VEVENT
BEGIN:VEVENT
DTSTART;TZID=America/New_York:20250529T160000
DTEND;TZID=America/New_York:20250529T190000
DTSTAMP:20260422T063133
CREATED:20250423T173251Z
LAST-MODIFIED:20250423T173251Z
UID:10012413-1748534400-1748545200@www.mhainspire.org
SUMMARY:Social Clubs
DESCRIPTION:May 2025 \n\n\n\n\n\n\n\nThursday\n5/1\n6:30 PM – 8:00 PM\nMontclair Art Museum ~ ESSEX OFFICE   \nGROUP\n\n\nFriday\n5/2\n4:00 – 7:00PM\nMHA Community Resource and Family Fun Day  \nRockaway Mall \n\n\nTuesday\n5/6\n4:00 PM – 7:00 PM\nSalvation Army Thrift Store – Dover \n\n\nThursday\n   5/8\n6:30 PM – 8:00 PM\n“Thursday’s Game Night” ~ ESSEX OFFICE   \nGROUP\n\n\nSaturday \n5/10\n10:00AM – 4:00PM\nMeadowlands Flea Market – East Rutherford\n\n\nTuesday\n5/13\n11:30 PM – 1:00 PM\nFrelinghuysen Arboretum Morristown\n\n\nThursday\n5/15\n6:30 PM – 8:00 PM\n“Thursday’s Bingo” ~ ESSEX OFFICE   \nGROUP\n\n\nSaturday\n5/17\n10:00AM – 1PM\nLake Hopatcong Block Party – Hopatcong State Park\n\n\nTuesday\n5/20\n4:00 PM – 7:00 PM\n Super Walmart – Ledgewood \n\n\nThursday \n5/22\n6:30 PM – 8:00 PM\n“Thursday’s Karaoke” ~ ESSEX OFFICE   \nGROUP\n\n\nTuesday\n5/27\n6:30 PM – 8:00 PM\nVan Vleck Garden ~ ESSEX OFFICE \nGROUP\n\n\nThursday\n5/29\n4:00 PM – 7:00 PM\nHanover Crossroads – TJ Max/Homegoods\, Five Below\n\n\n\n\n\n\n\n\n\n\n\n\n\n\n\n\nSPACE IS LIMITED!! \nTo register or for more information\, please contact:\nChristina Binetti – 973-344-3496 ext. 509\nWeekdays 9:00 AM to 5:00 PM \nLight refreshments will be served.\nPrizes available for winners. \nActivity is subject to change and/or cancel.
URL:https://www.mhainspire.org/event/social-clubs-25/2025-05-29/
CATEGORIES:Social Clubs
END:VEVENT
BEGIN:VEVENT
DTSTART;TZID=America/New_York:20250530T110000
DTEND;TZID=America/New_York:20250530T120000
DTSTAMP:20260422T063133
CREATED:20250423T174755Z
LAST-MODIFIED:20250423T174755Z
UID:10012433-1748602800-1748606400@www.mhainspire.org
SUMMARY:Arts and Crafts - CAP
DESCRIPTION:Arts and Crafts\, from 11 AM to 12 PM. \n  \nLight refreshments will be served.\nSPACE IS LIMITED!! \nTo register for an activity or for more information\, please contact:\nYecenia Revolorio – 973-334-3496 ext. 514\nWeekdays 9:00 AM to 5:00 PM
URL:https://www.mhainspire.org/event/arts-and-crafts-cap-8/
CATEGORIES:Social Clubs
END:VEVENT
END:VCALENDAR