BEGIN:VCALENDAR
VERSION:2.0
PRODID:-//MHA - ECPv6.15.20//NONSGML v1.0//EN
CALSCALE:GREGORIAN
METHOD:PUBLISH
X-WR-CALNAME:MHA
X-ORIGINAL-URL:https://www.mhainspire.org
X-WR-CALDESC:Events for MHA
REFRESH-INTERVAL;VALUE=DURATION:PT1H
X-Robots-Tag:noindex
X-PUBLISHED-TTL:PT1H
BEGIN:VTIMEZONE
TZID:America/New_York
BEGIN:DAYLIGHT
TZOFFSETFROM:-0500
TZOFFSETTO:-0400
TZNAME:EDT
DTSTART:20240310T070000
END:DAYLIGHT
BEGIN:STANDARD
TZOFFSETFROM:-0400
TZOFFSETTO:-0500
TZNAME:EST
DTSTART:20241103T060000
END:STANDARD
BEGIN:DAYLIGHT
TZOFFSETFROM:-0500
TZOFFSETTO:-0400
TZNAME:EDT
DTSTART:20250309T070000
END:DAYLIGHT
BEGIN:STANDARD
TZOFFSETFROM:-0400
TZOFFSETTO:-0500
TZNAME:EST
DTSTART:20251102T060000
END:STANDARD
BEGIN:DAYLIGHT
TZOFFSETFROM:-0500
TZOFFSETTO:-0400
TZNAME:EDT
DTSTART:20260308T070000
END:DAYLIGHT
BEGIN:STANDARD
TZOFFSETFROM:-0400
TZOFFSETTO:-0500
TZNAME:EST
DTSTART:20261101T060000
END:STANDARD
END:VTIMEZONE
BEGIN:VEVENT
DTSTART;TZID=America/New_York:20250701T150000
DTEND;TZID=America/New_York:20250701T163000
DTSTAMP:20260424T072957
CREATED:20250307T161438Z
LAST-MODIFIED:20250307T162036Z
UID:10011913-1751382000-1751387400@www.mhainspire.org
SUMMARY:Family and Consumer Connection Group
DESCRIPTION:Family and Consumer Connection Group: A professionally facilitated group where\nfamilies and consumers come together to discuss and problem-solve challenges in a\nsupportive environment. Goals of the group include providing support\, improving\ncommunication\, and strengthening socialization. This group meets on the 1st and \n3rd Tuesday of the month from 3:00pm to 4:15pm Participation requires an\norientation process. If you wish to participate in The Family and Consumer\nConnection group\, please reach out to Eileen Strungis at (973) 509-9777\, x 123\, or\nemail her at estrungis@mhainspire.org
URL:https://www.mhainspire.org/event/family-and-consumer-connection-group-2-2/2025-07-01/
LOCATION:Virtual
CATEGORIES:Support Groups
END:VEVENT
BEGIN:VEVENT
DTSTART;VALUE=DATE:20250704
DTEND;VALUE=DATE:20250705
DTSTAMP:20260424T072957
CREATED:20250623T150503Z
LAST-MODIFIED:20250623T150503Z
UID:10012567-1751587200-1751673599@www.mhainspire.org
SUMMARY:MHA Closed
DESCRIPTION:MHA will be closed today\, 7/4\, in observance of Fourth of July.
URL:https://www.mhainspire.org/event/mha-closed-9/
CATEGORIES:Community Events,Community Programs,Fundraising Events,MHA General Events,NJ4S,Social Clubs,Support Groups
END:VEVENT
BEGIN:VEVENT
DTSTART;TZID=America/New_York:20250731T183000
DTEND;TZID=America/New_York:20250731T200000
DTSTAMP:20260424T072957
CREATED:20250731T204941Z
LAST-MODIFIED:20250731T210042Z
UID:10006813-1753986600-1753992000@www.mhainspire.org
SUMMARY:CANCELED: Thursdays
DESCRIPTION:Thursdays is canceled tonight\, July 31\, due to inclement weather. \n  \nTHURSDAYS is an in person\, drop-in\, social group for people ages 18 and up\, as a way for adults living with mental illness to socialize and form meaningful relationships. \nAttendees meet in person at 33 South Fullerton Avenue\, Montclair\, NJ 07042. \nFacilitated by licensed professionals. Masks are required for indoor programming\, regardless of vaccination status. \n  \n 
URL:https://www.mhainspire.org/event/canceled-consumer-thursdays/
LOCATION:MHA\, 33 S Fullerton Ave\, Montclair\, NJ\, 07042\, United States
CATEGORIES:Support Groups
END:VEVENT
END:VCALENDAR