BEGIN:VCALENDAR
VERSION:2.0
PRODID:-//MHA - ECPv6.15.20//NONSGML v1.0//EN
CALSCALE:GREGORIAN
METHOD:PUBLISH
X-ORIGINAL-URL:https://www.mhainspire.org
X-WR-CALDESC:Events for MHA
REFRESH-INTERVAL;VALUE=DURATION:PT1H
X-Robots-Tag:noindex
X-PUBLISHED-TTL:PT1H
BEGIN:VTIMEZONE
TZID:America/New_York
BEGIN:DAYLIGHT
TZOFFSETFROM:-0500
TZOFFSETTO:-0400
TZNAME:EDT
DTSTART:20250309T070000
END:DAYLIGHT
BEGIN:STANDARD
TZOFFSETFROM:-0400
TZOFFSETTO:-0500
TZNAME:EST
DTSTART:20251102T060000
END:STANDARD
BEGIN:DAYLIGHT
TZOFFSETFROM:-0500
TZOFFSETTO:-0400
TZNAME:EDT
DTSTART:20260308T070000
END:DAYLIGHT
BEGIN:STANDARD
TZOFFSETFROM:-0400
TZOFFSETTO:-0500
TZNAME:EST
DTSTART:20261101T060000
END:STANDARD
BEGIN:DAYLIGHT
TZOFFSETFROM:-0500
TZOFFSETTO:-0400
TZNAME:EDT
DTSTART:20270314T070000
END:DAYLIGHT
BEGIN:STANDARD
TZOFFSETFROM:-0400
TZOFFSETTO:-0500
TZNAME:EST
DTSTART:20271107T060000
END:STANDARD
END:VTIMEZONE
BEGIN:VEVENT
DTSTART;TZID=America/New_York:20260306T020000
DTEND;TZID=America/New_York:20260630T010000
DTSTAMP:20260421T080041
CREATED:20260203T204146Z
LAST-MODIFIED:20260203T204146Z
UID:10015610-1772762400-1782781200@www.mhainspire.org
SUMMARY:Social Clubs
DESCRIPTION:February 2026 \n\n\n\nTuesday\n2/3\n4:00 PM – 7:00 PM\nDeliza’s Pizza – Boonton\n\n\nThursday\n2/5\n6:30 PM – 8:00 PM\n“Thursday’s” Black History Trivia ~ ESSEX OFFICE  \n\n\nSaturday\n   2/7\n11:30 AM – 1:00 PM \n Rockaway Mall \n\n\nMonday\n2/9\n6:00 PM -7:30 PM\nOpen Mic – Succasunna\n\n\nTuesday \n2/10\n4:00 PM – 7:00 PM\nTJ Maxx – Rockaway \n\n\nThursday\n2/12\n6:30 PM – 8:00 PM\n“Thursday’s” Valentine’s Day Celebration ~ ESSEX OFFICE  \n\n\nTuesday\n2/17\n4:00 PM – 7:00 PM\nBurlington/ Marshalls – East Hanover \n\n\nThursday\n2/19\n6:30 PM – 8:00 PM\n “Thursday’s” Karaoke ~ ESSEX OFFICE  \n\n\nSaturday \n2/21\n11:00 AM – 12:30 PM \nHobby Lobby – East Hanover \n\n\nTuesday\n2/24\n4:00 PM – 7:00 PM\nBarnes & Noble – Morris Plains \n\n\nThursday\n2/26\n6:30 PM – 8:00 PM\n“Thursday’s” Word Search ~ ESSEX OFFICE  \n\n\n\n  \n  \nSPACE IS LIMITED!! \nTo register or for more information\, please contact:\nYecenia Revolorio – 973-334-3496 ext. 514\nWeekdays 9:00 AM to 5:00 PM \nLight refreshments will be served.\nPrizes available for winners. \nActivity is subject to change and/or cancel.
URL:https://www.mhainspire.org/event/social-clubs-30/2026-03-06/
CATEGORIES:Social Clubs
END:VEVENT
BEGIN:VEVENT
DTSTART;TZID=America/New_York:20260329T210000
DTEND;TZID=America/New_York:20261118T220000
DTSTAMP:20260421T080041
CREATED:20260224T203142Z
LAST-MODIFIED:20260224T203537Z
UID:10015635-1774818000-1795039200@www.mhainspire.org
SUMMARY:Social Clubs
DESCRIPTION:March 2026 \n\n\n\nTuesday\n3/3\n4:00 PM – 6:30 PM\nRoss Dress for Less – Rockaway \n\n\nThursday\n3/5\n6:30 PM – 8:00 PM\n“Thursday’s” Art Museum~ ESSEX OFFICE  \n\n\nTuesday \n3/10\n4:00 PM – 6:30 PM\nWalmart Ledgewood \n\n\nThursday\n3/12\n6:30 PM – 8:00 PM\n“Thursday’s” St Patrick’s Celebration ~ ESSEX OFFICE  \n\n\nSaturday\n3/14\n12:00 PM – 2:00 PM\nSt Patrick’s Day Parade – Morristown \n\n\nTuesday\n3/17\n4:00 PM – 6:30 PM\nGod Father Pizzeria- East Hanover\n\n\nThursday\n3/19\n6:30 PM – 8:00 PM\n “Thursday’s” BINGO ~ ESSEX OFFICE  \n\n\nSunday \n3/22\n3:00 PM – 4:00 PM \nSongs of Ireland with Charlie Zahm & Friends \n\n\nTuesday\n3/24\n4:00 PM – 6:30 PM\nSalvation Army – Dover \n\n\nThursday\n3/26\n6:30 PM – 8:00 PM\n“Thursday’s” Mental Health Trivia ~ ESSEX OFFICE  \n\n\nSaturday \n3/28\n10:00AM – 12:00 PM \nShopping Extravaganza with crafts – Hopatcong \n\n\nTuesday \n3/31\n4:00 PM – 6:30 PM\nTarget – Rockaway \n\n\n\n  \n  \n  \nSPACE IS LIMITED!! \nTo register or for more information\, please contact:\nYecenia Revolorio – 973-334-3496 ext. 514\nWeekdays 9:00 AM to 5:00 PM \nLight refreshments will be served.\nPrizes available for winners. \nActivity is subject to change and/or cancel.
URL:https://www.mhainspire.org/event/social-clubs-31/2026-03-29/
CATEGORIES:Social Clubs
END:VEVENT
BEGIN:VEVENT
DTSTART;TZID=America/New_York:20260331T210000
DTEND;TZID=America/New_York:20261120T220000
DTSTAMP:20260421T080041
CREATED:20260224T203142Z
LAST-MODIFIED:20260224T203537Z
UID:10015636-1774990800-1795212000@www.mhainspire.org
SUMMARY:Social Clubs
DESCRIPTION:March 2026 \n\n\n\nTuesday\n3/3\n4:00 PM – 6:30 PM\nRoss Dress for Less – Rockaway \n\n\nThursday\n3/5\n6:30 PM – 8:00 PM\n“Thursday’s” Art Museum~ ESSEX OFFICE  \n\n\nTuesday \n3/10\n4:00 PM – 6:30 PM\nWalmart Ledgewood \n\n\nThursday\n3/12\n6:30 PM – 8:00 PM\n“Thursday’s” St Patrick’s Celebration ~ ESSEX OFFICE  \n\n\nSaturday\n3/14\n12:00 PM – 2:00 PM\nSt Patrick’s Day Parade – Morristown \n\n\nTuesday\n3/17\n4:00 PM – 6:30 PM\nGod Father Pizzeria- East Hanover\n\n\nThursday\n3/19\n6:30 PM – 8:00 PM\n “Thursday’s” BINGO ~ ESSEX OFFICE  \n\n\nSunday \n3/22\n3:00 PM – 4:00 PM \nSongs of Ireland with Charlie Zahm & Friends \n\n\nTuesday\n3/24\n4:00 PM – 6:30 PM\nSalvation Army – Dover \n\n\nThursday\n3/26\n6:30 PM – 8:00 PM\n“Thursday’s” Mental Health Trivia ~ ESSEX OFFICE  \n\n\nSaturday \n3/28\n10:00AM – 12:00 PM \nShopping Extravaganza with crafts – Hopatcong \n\n\nTuesday \n3/31\n4:00 PM – 6:30 PM\nTarget – Rockaway \n\n\n\n  \n  \n  \nSPACE IS LIMITED!! \nTo register or for more information\, please contact:\nYecenia Revolorio – 973-334-3496 ext. 514\nWeekdays 9:00 AM to 5:00 PM \nLight refreshments will be served.\nPrizes available for winners. \nActivity is subject to change and/or cancel.
URL:https://www.mhainspire.org/event/social-clubs-31/2026-03-31/
CATEGORIES:Social Clubs
END:VEVENT
BEGIN:VEVENT
DTSTART;TZID=America/New_York:20260504T110000
DTEND;TZID=America/New_York:20260504T120000
DTSTAMP:20260421T080041
CREATED:20250623T150120Z
LAST-MODIFIED:20250801T193437Z
UID:10015120-1777892400-1777896000@www.mhainspire.org
SUMMARY:Anytime Fitness - CAP
DESCRIPTION:Anytime Fitness Gym\, every Monday\, from 11  AM to 12  PM.\nLIMIT 5. \nLight refreshments will be served.\nSPACE IS LIMITED!! \nTo register for an activity or for more information\, please contact:\nYecenia Revolorio – 973-334- 3496 ext. 514 \nWeekdays 9:00 AM to 5:00 PM \n***ACTIVITIES SUBJECT TO CHANGE AND/OR CANCELLATION***
URL:https://www.mhainspire.org/event/anytime-fitness-cap-21/2026-05-04/
CATEGORIES:Social Clubs
END:VEVENT
BEGIN:VEVENT
DTSTART;TZID=America/New_York:20260505T090000
DTEND;TZID=America/New_York:20260505T130000
DTSTAMP:20260421T080041
CREATED:20250801T193001Z
LAST-MODIFIED:20250801T193001Z
UID:10014411-1777971600-1777986000@www.mhainspire.org
SUMMARY:Community Rides - CAP
DESCRIPTION:Community Rides\, from 9 AM to 1 PM. \nLight refreshments will be served.\nSPACE IS LIMITED!! \nTo register for an activity or for more information\, please contact:\nYecenia Revolorio – 973-334-3496 ext. 514 \nWeekdays 9:00 AM to 5:00 PM
URL:https://www.mhainspire.org/event/community-rides-cap/2026-05-05/
CATEGORIES:Social Clubs
END:VEVENT
BEGIN:VEVENT
DTSTART;TZID=America/New_York:20260506T090000
DTEND;TZID=America/New_York:20260506T130000
DTSTAMP:20260421T080041
CREATED:20250801T193001Z
LAST-MODIFIED:20250801T193001Z
UID:10014412-1778058000-1778072400@www.mhainspire.org
SUMMARY:Community Rides - CAP
DESCRIPTION:Community Rides\, from 9 AM to 1 PM. \nLight refreshments will be served.\nSPACE IS LIMITED!! \nTo register for an activity or for more information\, please contact:\nYecenia Revolorio – 973-334-3496 ext. 514 \nWeekdays 9:00 AM to 5:00 PM
URL:https://www.mhainspire.org/event/community-rides-cap/2026-05-06/
CATEGORIES:Social Clubs
END:VEVENT
BEGIN:VEVENT
DTSTART;TZID=America/New_York:20260507T090000
DTEND;TZID=America/New_York:20260507T130000
DTSTAMP:20260421T080041
CREATED:20250801T193001Z
LAST-MODIFIED:20250801T193001Z
UID:10014413-1778144400-1778158800@www.mhainspire.org
SUMMARY:Community Rides - CAP
DESCRIPTION:Community Rides\, from 9 AM to 1 PM. \nLight refreshments will be served.\nSPACE IS LIMITED!! \nTo register for an activity or for more information\, please contact:\nYecenia Revolorio – 973-334-3496 ext. 514 \nWeekdays 9:00 AM to 5:00 PM
URL:https://www.mhainspire.org/event/community-rides-cap/2026-05-07/
CATEGORIES:Social Clubs
END:VEVENT
BEGIN:VEVENT
DTSTART;TZID=America/New_York:20260511T110000
DTEND;TZID=America/New_York:20260511T120000
DTSTAMP:20260421T080041
CREATED:20250623T150120Z
LAST-MODIFIED:20250801T193437Z
UID:10015121-1778497200-1778500800@www.mhainspire.org
SUMMARY:Anytime Fitness - CAP
DESCRIPTION:Anytime Fitness Gym\, every Monday\, from 11  AM to 12  PM.\nLIMIT 5. \nLight refreshments will be served.\nSPACE IS LIMITED!! \nTo register for an activity or for more information\, please contact:\nYecenia Revolorio – 973-334- 3496 ext. 514 \nWeekdays 9:00 AM to 5:00 PM \n***ACTIVITIES SUBJECT TO CHANGE AND/OR CANCELLATION***
URL:https://www.mhainspire.org/event/anytime-fitness-cap-21/2026-05-11/
CATEGORIES:Social Clubs
END:VEVENT
BEGIN:VEVENT
DTSTART;TZID=America/New_York:20260512T090000
DTEND;TZID=America/New_York:20260512T130000
DTSTAMP:20260421T080041
CREATED:20250801T193001Z
LAST-MODIFIED:20250801T193001Z
UID:10014414-1778576400-1778590800@www.mhainspire.org
SUMMARY:Community Rides - CAP
DESCRIPTION:Community Rides\, from 9 AM to 1 PM. \nLight refreshments will be served.\nSPACE IS LIMITED!! \nTo register for an activity or for more information\, please contact:\nYecenia Revolorio – 973-334-3496 ext. 514 \nWeekdays 9:00 AM to 5:00 PM
URL:https://www.mhainspire.org/event/community-rides-cap/2026-05-12/
CATEGORIES:Social Clubs
END:VEVENT
BEGIN:VEVENT
DTSTART;TZID=America/New_York:20260513T090000
DTEND;TZID=America/New_York:20260513T130000
DTSTAMP:20260421T080041
CREATED:20250801T193001Z
LAST-MODIFIED:20250801T193001Z
UID:10014415-1778662800-1778677200@www.mhainspire.org
SUMMARY:Community Rides - CAP
DESCRIPTION:Community Rides\, from 9 AM to 1 PM. \nLight refreshments will be served.\nSPACE IS LIMITED!! \nTo register for an activity or for more information\, please contact:\nYecenia Revolorio – 973-334-3496 ext. 514 \nWeekdays 9:00 AM to 5:00 PM
URL:https://www.mhainspire.org/event/community-rides-cap/2026-05-13/
CATEGORIES:Social Clubs
END:VEVENT
BEGIN:VEVENT
DTSTART;TZID=America/New_York:20260514T090000
DTEND;TZID=America/New_York:20260514T130000
DTSTAMP:20260421T080041
CREATED:20250801T193001Z
LAST-MODIFIED:20250801T193001Z
UID:10014416-1778749200-1778763600@www.mhainspire.org
SUMMARY:Community Rides - CAP
DESCRIPTION:Community Rides\, from 9 AM to 1 PM. \nLight refreshments will be served.\nSPACE IS LIMITED!! \nTo register for an activity or for more information\, please contact:\nYecenia Revolorio – 973-334-3496 ext. 514 \nWeekdays 9:00 AM to 5:00 PM
URL:https://www.mhainspire.org/event/community-rides-cap/2026-05-14/
CATEGORIES:Social Clubs
END:VEVENT
BEGIN:VEVENT
DTSTART;TZID=America/New_York:20260518T110000
DTEND;TZID=America/New_York:20260518T120000
DTSTAMP:20260421T080041
CREATED:20250623T150120Z
LAST-MODIFIED:20250801T193437Z
UID:10015122-1779102000-1779105600@www.mhainspire.org
SUMMARY:Anytime Fitness - CAP
DESCRIPTION:Anytime Fitness Gym\, every Monday\, from 11  AM to 12  PM.\nLIMIT 5. \nLight refreshments will be served.\nSPACE IS LIMITED!! \nTo register for an activity or for more information\, please contact:\nYecenia Revolorio – 973-334- 3496 ext. 514 \nWeekdays 9:00 AM to 5:00 PM \n***ACTIVITIES SUBJECT TO CHANGE AND/OR CANCELLATION***
URL:https://www.mhainspire.org/event/anytime-fitness-cap-21/2026-05-18/
CATEGORIES:Social Clubs
END:VEVENT
BEGIN:VEVENT
DTSTART;TZID=America/New_York:20260519T090000
DTEND;TZID=America/New_York:20260519T130000
DTSTAMP:20260421T080041
CREATED:20250801T193001Z
LAST-MODIFIED:20250801T193001Z
UID:10014417-1779181200-1779195600@www.mhainspire.org
SUMMARY:Community Rides - CAP
DESCRIPTION:Community Rides\, from 9 AM to 1 PM. \nLight refreshments will be served.\nSPACE IS LIMITED!! \nTo register for an activity or for more information\, please contact:\nYecenia Revolorio – 973-334-3496 ext. 514 \nWeekdays 9:00 AM to 5:00 PM
URL:https://www.mhainspire.org/event/community-rides-cap/2026-05-19/
CATEGORIES:Social Clubs
END:VEVENT
BEGIN:VEVENT
DTSTART;TZID=America/New_York:20260520T090000
DTEND;TZID=America/New_York:20260520T130000
DTSTAMP:20260421T080041
CREATED:20250801T193001Z
LAST-MODIFIED:20250801T193001Z
UID:10014418-1779267600-1779282000@www.mhainspire.org
SUMMARY:Community Rides - CAP
DESCRIPTION:Community Rides\, from 9 AM to 1 PM. \nLight refreshments will be served.\nSPACE IS LIMITED!! \nTo register for an activity or for more information\, please contact:\nYecenia Revolorio – 973-334-3496 ext. 514 \nWeekdays 9:00 AM to 5:00 PM
URL:https://www.mhainspire.org/event/community-rides-cap/2026-05-20/
CATEGORIES:Social Clubs
END:VEVENT
BEGIN:VEVENT
DTSTART;TZID=America/New_York:20260521T090000
DTEND;TZID=America/New_York:20260521T130000
DTSTAMP:20260421T080041
CREATED:20250801T193001Z
LAST-MODIFIED:20250801T193001Z
UID:10014419-1779354000-1779368400@www.mhainspire.org
SUMMARY:Community Rides - CAP
DESCRIPTION:Community Rides\, from 9 AM to 1 PM. \nLight refreshments will be served.\nSPACE IS LIMITED!! \nTo register for an activity or for more information\, please contact:\nYecenia Revolorio – 973-334-3496 ext. 514 \nWeekdays 9:00 AM to 5:00 PM
URL:https://www.mhainspire.org/event/community-rides-cap/2026-05-21/
CATEGORIES:Social Clubs
END:VEVENT
BEGIN:VEVENT
DTSTART;TZID=America/New_York:20260525T080000
DTEND;TZID=America/New_York:20260525T170000
DTSTAMP:20260421T080041
CREATED:20251028T144153Z
LAST-MODIFIED:20251028T144153Z
UID:10015441-1779696000-1779728400@www.mhainspire.org
SUMMARY:MHA CLOSED
DESCRIPTION:MHA is closed on May 25th in observance of Memorial Day.
URL:https://www.mhainspire.org/event/mha-closed-13/
CATEGORIES:Community Events,Community Programs,Fundraising Events,MHA General Events,NJ4S,Social Clubs,Support Groups
END:VEVENT
BEGIN:VEVENT
DTSTART;TZID=America/New_York:20260525T110000
DTEND;TZID=America/New_York:20260525T120000
DTSTAMP:20260421T080041
CREATED:20250623T150120Z
LAST-MODIFIED:20250801T193437Z
UID:10015123-1779706800-1779710400@www.mhainspire.org
SUMMARY:Anytime Fitness - CAP
DESCRIPTION:Anytime Fitness Gym\, every Monday\, from 11  AM to 12  PM.\nLIMIT 5. \nLight refreshments will be served.\nSPACE IS LIMITED!! \nTo register for an activity or for more information\, please contact:\nYecenia Revolorio – 973-334- 3496 ext. 514 \nWeekdays 9:00 AM to 5:00 PM \n***ACTIVITIES SUBJECT TO CHANGE AND/OR CANCELLATION***
URL:https://www.mhainspire.org/event/anytime-fitness-cap-21/2026-05-25/
CATEGORIES:Social Clubs
END:VEVENT
BEGIN:VEVENT
DTSTART;TZID=America/New_York:20260526T090000
DTEND;TZID=America/New_York:20260526T130000
DTSTAMP:20260421T080041
CREATED:20250801T193001Z
LAST-MODIFIED:20250801T193001Z
UID:10014420-1779786000-1779800400@www.mhainspire.org
SUMMARY:Community Rides - CAP
DESCRIPTION:Community Rides\, from 9 AM to 1 PM. \nLight refreshments will be served.\nSPACE IS LIMITED!! \nTo register for an activity or for more information\, please contact:\nYecenia Revolorio – 973-334-3496 ext. 514 \nWeekdays 9:00 AM to 5:00 PM
URL:https://www.mhainspire.org/event/community-rides-cap/2026-05-26/
CATEGORIES:Social Clubs
END:VEVENT
BEGIN:VEVENT
DTSTART;TZID=America/New_York:20260527T090000
DTEND;TZID=America/New_York:20260527T130000
DTSTAMP:20260421T080041
CREATED:20250801T193001Z
LAST-MODIFIED:20250801T193001Z
UID:10014421-1779872400-1779886800@www.mhainspire.org
SUMMARY:Community Rides - CAP
DESCRIPTION:Community Rides\, from 9 AM to 1 PM. \nLight refreshments will be served.\nSPACE IS LIMITED!! \nTo register for an activity or for more information\, please contact:\nYecenia Revolorio – 973-334-3496 ext. 514 \nWeekdays 9:00 AM to 5:00 PM
URL:https://www.mhainspire.org/event/community-rides-cap/2026-05-27/
CATEGORIES:Social Clubs
END:VEVENT
BEGIN:VEVENT
DTSTART;TZID=America/New_York:20260528T090000
DTEND;TZID=America/New_York:20260528T130000
DTSTAMP:20260421T080041
CREATED:20250801T193001Z
LAST-MODIFIED:20250801T193001Z
UID:10014422-1779958800-1779973200@www.mhainspire.org
SUMMARY:Community Rides - CAP
DESCRIPTION:Community Rides\, from 9 AM to 1 PM. \nLight refreshments will be served.\nSPACE IS LIMITED!! \nTo register for an activity or for more information\, please contact:\nYecenia Revolorio – 973-334-3496 ext. 514 \nWeekdays 9:00 AM to 5:00 PM
URL:https://www.mhainspire.org/event/community-rides-cap/2026-05-28/
CATEGORIES:Social Clubs
END:VEVENT
END:VCALENDAR